BEGIN:VCALENDAR
VERSION:2.0
PRODID:-//Turner Public Schools - ECPv6.15.20//NONSGML v1.0//EN
CALSCALE:GREGORIAN
METHOD:PUBLISH
X-WR-CALNAME:Turner Public Schools
X-ORIGINAL-URL:https://turner.k12.mt.us
X-WR-CALDESC:Events for Turner Public Schools
REFRESH-INTERVAL;VALUE=DURATION:PT1H
X-Robots-Tag:noindex
X-PUBLISHED-TTL:PT1H
BEGIN:VTIMEZONE
TZID:America/Denver
BEGIN:DAYLIGHT
TZOFFSETFROM:-0700
TZOFFSETTO:-0600
TZNAME:MDT
DTSTART:20250309T090000
END:DAYLIGHT
BEGIN:STANDARD
TZOFFSETFROM:-0600
TZOFFSETTO:-0700
TZNAME:MST
DTSTART:20251102T080000
END:STANDARD
BEGIN:DAYLIGHT
TZOFFSETFROM:-0700
TZOFFSETTO:-0600
TZNAME:MDT
DTSTART:20260308T090000
END:DAYLIGHT
BEGIN:STANDARD
TZOFFSETFROM:-0600
TZOFFSETTO:-0700
TZNAME:MST
DTSTART:20261101T080000
END:STANDARD
BEGIN:DAYLIGHT
TZOFFSETFROM:-0700
TZOFFSETTO:-0600
TZNAME:MDT
DTSTART:20270314T090000
END:DAYLIGHT
BEGIN:STANDARD
TZOFFSETFROM:-0600
TZOFFSETTO:-0700
TZNAME:MST
DTSTART:20271107T080000
END:STANDARD
END:VTIMEZONE
BEGIN:VEVENT
DTSTART;TZID=America/Denver:20260308T160000
DTEND;TZID=America/Denver:20260308T200000
DTSTAMP:20260421T045010
CREATED:20260129T193212Z
LAST-MODIFIED:20260129T193212Z
UID:6031-1772985600-1773000000@turner.k12.mt.us
SUMMARY:Bon Voyage Prime Rib Dinner
DESCRIPTION:
URL:https://turner.k12.mt.us/event/bon-voyage-prime-rib-dinner/
END:VEVENT
BEGIN:VEVENT
DTSTART;VALUE=DATE:20260309
DTEND;VALUE=DATE:20260310
DTSTAMP:20260421T045010
CREATED:20260129T193325Z
LAST-MODIFIED:20260129T193325Z
UID:6033-1773014400-1773100799@turner.k12.mt.us
SUMMARY:Cyber Security in Rudyard
DESCRIPTION:6th-12th graders will attend
URL:https://turner.k12.mt.us/event/cyber-security-in-rudyard/
END:VEVENT
BEGIN:VEVENT
DTSTART;VALUE=DATE:20260311
DTEND;VALUE=DATE:20260315
DTSTAMP:20260421T045010
CREATED:20250910T213650Z
LAST-MODIFIED:20250910T213650Z
UID:5775-1773187200-1773532799@turner.k12.mt.us
SUMMARY:State C Basketball Tournament @ Missoula
DESCRIPTION:Brackets TBA
URL:https://turner.k12.mt.us/event/state-c-basketball-tournament-missoula/
END:VEVENT
BEGIN:VEVENT
DTSTART;VALUE=DATE:20260312
DTEND;VALUE=DATE:20260313
DTSTAMP:20260421T045010
CREATED:20250826T185911Z
LAST-MODIFIED:20250826T185911Z
UID:5719-1773273600-1773359999@turner.k12.mt.us
SUMMARY:End of Q3
DESCRIPTION:
URL:https://turner.k12.mt.us/event/end-of-q3/
END:VEVENT
BEGIN:VEVENT
DTSTART;TZID=America/Denver:20260316T080000
DTEND;TZID=America/Denver:20260316T170000
DTSTAMP:20260421T045010
CREATED:20250826T185934Z
LAST-MODIFIED:20250826T185934Z
UID:5721-1773648000-1773680400@turner.k12.mt.us
SUMMARY:Start of Q4
DESCRIPTION:
URL:https://turner.k12.mt.us/event/start-of-q4/
END:VEVENT
BEGIN:VEVENT
DTSTART;VALUE=DATE:20260317
DTEND;VALUE=DATE:20260324
DTSTAMP:20260421T045010
CREATED:20251124T213255Z
LAST-MODIFIED:20251124T213255Z
UID:5951-1773705600-1774310399@turner.k12.mt.us
SUMMARY:Senior Trip to NYC
DESCRIPTION:
URL:https://turner.k12.mt.us/event/senior-trip-to-nyc/
END:VEVENT
BEGIN:VEVENT
DTSTART;VALUE=DATE:20260318
DTEND;VALUE=DATE:20260319
DTSTAMP:20260421T045010
CREATED:20260129T193355Z
LAST-MODIFIED:20260129T193355Z
UID:6035-1773792000-1773878399@turner.k12.mt.us
SUMMARY:Ski Trip!
DESCRIPTION:
URL:https://turner.k12.mt.us/event/ski-trip/
END:VEVENT
BEGIN:VEVENT
DTSTART;VALUE=DATE:20260323
DTEND;VALUE=DATE:20260324
DTSTAMP:20260421T045010
CREATED:20250826T190008Z
LAST-MODIFIED:20251124T213452Z
UID:5723-1774224000-1774310399@turner.k12.mt.us
SUMMARY:NEAN @ Dodson - The MecDades
DESCRIPTION:
URL:https://turner.k12.mt.us/event/nean-dodson-the-mecdades/
END:VEVENT
BEGIN:VEVENT
DTSTART;TZID=America/Denver:20260325T080000
DTEND;TZID=America/Denver:20260325T120000
DTSTAMP:20260421T045010
CREATED:20251124T213341Z
LAST-MODIFIED:20251124T213341Z
UID:5953-1774425600-1774440000@turner.k12.mt.us
SUMMARY:ACTs - Juniors
DESCRIPTION:
URL:https://turner.k12.mt.us/event/acts-juniors-2/
END:VEVENT
BEGIN:VEVENT
DTSTART;VALUE=DATE:20260331
DTEND;VALUE=DATE:20260405
DTSTAMP:20260421T045010
CREATED:20251124T213538Z
LAST-MODIFIED:20251124T213538Z
UID:5955-1774915200-1775347199@turner.k12.mt.us
SUMMARY:State FFA
DESCRIPTION:
URL:https://turner.k12.mt.us/event/state-ffa/
END:VEVENT
END:VCALENDAR