BEGIN:VCALENDAR
VERSION:2.0
PRODID:-//Turner Public Schools - ECPv6.15.20//NONSGML v1.0//EN
CALSCALE:GREGORIAN
METHOD:PUBLISH
X-WR-CALNAME:Turner Public Schools
X-ORIGINAL-URL:https://turner.k12.mt.us
X-WR-CALDESC:Events for Turner Public Schools
REFRESH-INTERVAL;VALUE=DURATION:PT1H
X-Robots-Tag:noindex
X-PUBLISHED-TTL:PT1H
BEGIN:VTIMEZONE
TZID:America/Denver
BEGIN:DAYLIGHT
TZOFFSETFROM:-0700
TZOFFSETTO:-0600
TZNAME:MDT
DTSTART:20250309T090000
END:DAYLIGHT
BEGIN:STANDARD
TZOFFSETFROM:-0600
TZOFFSETTO:-0700
TZNAME:MST
DTSTART:20251102T080000
END:STANDARD
BEGIN:DAYLIGHT
TZOFFSETFROM:-0700
TZOFFSETTO:-0600
TZNAME:MDT
DTSTART:20260308T090000
END:DAYLIGHT
BEGIN:STANDARD
TZOFFSETFROM:-0600
TZOFFSETTO:-0700
TZNAME:MST
DTSTART:20261101T080000
END:STANDARD
BEGIN:DAYLIGHT
TZOFFSETFROM:-0700
TZOFFSETTO:-0600
TZNAME:MDT
DTSTART:20270314T090000
END:DAYLIGHT
BEGIN:STANDARD
TZOFFSETFROM:-0600
TZOFFSETTO:-0700
TZNAME:MST
DTSTART:20271107T080000
END:STANDARD
END:VTIMEZONE
BEGIN:VEVENT
DTSTART;TZID=America/Denver:20260325T080000
DTEND;TZID=America/Denver:20260325T120000
DTSTAMP:20260420T012724
CREATED:20251124T213341Z
LAST-MODIFIED:20251124T213341Z
UID:5953-1774425600-1774440000@turner.k12.mt.us
SUMMARY:ACTs - Juniors
DESCRIPTION:
URL:https://turner.k12.mt.us/event/acts-juniors-2/
END:VEVENT
BEGIN:VEVENT
DTSTART;VALUE=DATE:20260331
DTEND;VALUE=DATE:20260405
DTSTAMP:20260420T012724
CREATED:20251124T213538Z
LAST-MODIFIED:20251124T213538Z
UID:5955-1774915200-1775347199@turner.k12.mt.us
SUMMARY:State FFA
DESCRIPTION:
URL:https://turner.k12.mt.us/event/state-ffa/
END:VEVENT
BEGIN:VEVENT
DTSTART;VALUE=DATE:20260406
DTEND;VALUE=DATE:20260407
DTSTAMP:20260420T012724
CREATED:20250826T190033Z
LAST-MODIFIED:20250826T190033Z
UID:5725-1775433600-1775519999@turner.k12.mt.us
SUMMARY:Happy Easter - No School
DESCRIPTION:
URL:https://turner.k12.mt.us/event/happy-easter-no-school-3/
END:VEVENT
BEGIN:VEVENT
DTSTART;VALUE=DATE:20260408
DTEND;VALUE=DATE:20260415
DTSTAMP:20260420T012724
CREATED:20251124T213645Z
LAST-MODIFIED:20251124T213645Z
UID:5957-1775606400-1776211199@turner.k12.mt.us
SUMMARY:DC Club Trip
DESCRIPTION:
URL:https://turner.k12.mt.us/event/dc-club-trip-2/
END:VEVENT
BEGIN:VEVENT
DTSTART;VALUE=DATE:20260416
DTEND;VALUE=DATE:20260417
DTSTAMP:20260420T012724
CREATED:20250826T190059Z
LAST-MODIFIED:20250826T190059Z
UID:5727-1776297600-1776383999@turner.k12.mt.us
SUMMARY:mid-term Q4
DESCRIPTION:
URL:https://turner.k12.mt.us/event/mid-term-q4-2/
END:VEVENT
BEGIN:VEVENT
DTSTART;VALUE=DATE:20260425
DTEND;VALUE=DATE:20260426
DTSTAMP:20260420T012724
CREATED:20251124T213725Z
LAST-MODIFIED:20251124T213725Z
UID:5959-1777075200-1777161599@turner.k12.mt.us
SUMMARY:PROM
DESCRIPTION:
URL:https://turner.k12.mt.us/event/prom-2/
END:VEVENT
BEGIN:VEVENT
DTSTART;TZID=America/Denver:20260428T090000
DTEND;TZID=America/Denver:20260428T120000
DTSTAMP:20260420T012724
CREATED:20251124T213810Z
LAST-MODIFIED:20251124T213810Z
UID:5961-1777366800-1777377600@turner.k12.mt.us
SUMMARY:Preschool Screening
DESCRIPTION:
URL:https://turner.k12.mt.us/event/preschool-screening-2/
END:VEVENT
BEGIN:VEVENT
DTSTART;VALUE=DATE:20260514
DTEND;VALUE=DATE:20260515
DTSTAMP:20260420T012724
CREATED:20250826T190142Z
LAST-MODIFIED:20250826T190142Z
UID:5729-1778716800-1778803199@turner.k12.mt.us
SUMMARY:Seniors' last day
DESCRIPTION:
URL:https://turner.k12.mt.us/event/seniors-last-day/
END:VEVENT
BEGIN:VEVENT
DTSTART;TZID=America/Denver:20260516T140000
DTEND;TZID=America/Denver:20260516T150000
DTSTAMP:20260420T012724
CREATED:20250826T190220Z
LAST-MODIFIED:20250826T190220Z
UID:5731-1778940000-1778943600@turner.k12.mt.us
SUMMARY:Graduation!  Seniors and 8th
DESCRIPTION:
URL:https://turner.k12.mt.us/event/graduation-seniors-and-8th/
END:VEVENT
BEGIN:VEVENT
DTSTART;TZID=America/Denver:20260521T080000
DTEND;TZID=America/Denver:20260521T123000
DTSTAMP:20260420T012724
CREATED:20250826T190306Z
LAST-MODIFIED:20250826T190306Z
UID:5733-1779350400-1779366600@turner.k12.mt.us
SUMMARY:Last day of School!
DESCRIPTION:End Q3/S2 – out at 12:30pm
URL:https://turner.k12.mt.us/event/last-day-of-school-4/
END:VEVENT
END:VCALENDAR