BEGIN:VCALENDAR
VERSION:2.0
PRODID:-//Turner Public Schools - ECPv6.15.20//NONSGML v1.0//EN
CALSCALE:GREGORIAN
METHOD:PUBLISH
X-WR-CALNAME:Turner Public Schools
X-ORIGINAL-URL:https://turner.k12.mt.us
X-WR-CALDESC:Events for Turner Public Schools
REFRESH-INTERVAL;VALUE=DURATION:PT1H
X-Robots-Tag:noindex
X-PUBLISHED-TTL:PT1H
BEGIN:VTIMEZONE
TZID:America/Denver
BEGIN:DAYLIGHT
TZOFFSETFROM:-0700
TZOFFSETTO:-0600
TZNAME:MDT
DTSTART:20240310T090000
END:DAYLIGHT
BEGIN:STANDARD
TZOFFSETFROM:-0600
TZOFFSETTO:-0700
TZNAME:MST
DTSTART:20241103T080000
END:STANDARD
BEGIN:DAYLIGHT
TZOFFSETFROM:-0700
TZOFFSETTO:-0600
TZNAME:MDT
DTSTART:20250309T090000
END:DAYLIGHT
BEGIN:STANDARD
TZOFFSETFROM:-0600
TZOFFSETTO:-0700
TZNAME:MST
DTSTART:20251102T080000
END:STANDARD
BEGIN:DAYLIGHT
TZOFFSETFROM:-0700
TZOFFSETTO:-0600
TZNAME:MDT
DTSTART:20260308T090000
END:DAYLIGHT
BEGIN:STANDARD
TZOFFSETFROM:-0600
TZOFFSETTO:-0700
TZNAME:MST
DTSTART:20261101T080000
END:STANDARD
END:VTIMEZONE
BEGIN:VEVENT
DTSTART;TZID=America/Denver:20250917T070000
DTEND;TZID=America/Denver:20250917T083000
DTSTAMP:20260421T203656
CREATED:20250910T213859Z
LAST-MODIFIED:20250910T213859Z
UID:5777-1758092400-1758097800@turner.k12.mt.us
SUMMARY:School Board Meeting
DESCRIPTION:
URL:https://turner.k12.mt.us/event/school-board-meeting-4/
END:VEVENT
BEGIN:VEVENT
DTSTART;VALUE=DATE:20250917
DTEND;VALUE=DATE:20250918
DTSTAMP:20260421T203656
CREATED:20250910T213920Z
LAST-MODIFIED:20250910T213920Z
UID:5779-1758067200-1758153599@turner.k12.mt.us
SUMMARY:FFA @ Geraldine
DESCRIPTION:
URL:https://turner.k12.mt.us/event/ffa-geraldine/
END:VEVENT
BEGIN:VEVENT
DTSTART;TZID=America/Denver:20250912T150000
DTEND;TZID=America/Denver:20250912T180000
DTSTAMP:20260421T203656
CREATED:20250826T182911Z
LAST-MODIFIED:20250826T182911Z
UID:5638-1757689200-1757700000@turner.k12.mt.us
SUMMARY:HS BVall @Poplar
DESCRIPTION:
URL:https://turner.k12.mt.us/event/hs-bvall-poplar/
END:VEVENT
BEGIN:VEVENT
DTSTART;TZID=America/Denver:20250911T160000
DTEND;TZID=America/Denver:20250911T190000
DTSTAMP:20260421T203656
CREATED:20250826T182838Z
LAST-MODIFIED:20250826T182838Z
UID:5636-1757606400-1757617200@turner.k12.mt.us
SUMMARY:HS VBall @ Glasgow
DESCRIPTION:
URL:https://turner.k12.mt.us/event/hs-vball-glasgow/
END:VEVENT
BEGIN:VEVENT
DTSTART;TZID=America/Denver:20250909T163000
DTEND;TZID=America/Denver:20250909T190000
DTSTAMP:20260421T203656
CREATED:20250826T182408Z
LAST-MODIFIED:20250826T182408Z
UID:5634-1757435400-1757444400@turner.k12.mt.us
SUMMARY:HS VBall vs. Rocky Boy
DESCRIPTION:
URL:https://turner.k12.mt.us/event/hs-vball-vs-rocky-boy/
END:VEVENT
BEGIN:VEVENT
DTSTART;VALUE=DATE:20250909
DTEND;VALUE=DATE:20250910
DTSTAMP:20260421T203656
CREATED:20250826T184514Z
LAST-MODIFIED:20250826T184514Z
UID:5677-1757376000-1757462399@turner.k12.mt.us
SUMMARY:School Pictures!
DESCRIPTION:
URL:https://turner.k12.mt.us/event/school-pictures-4/
END:VEVENT
BEGIN:VEVENT
DTSTART;TZID=America/Denver:20250908T130000
DTEND;TZID=America/Denver:20250908T160000
DTSTAMP:20260421T203656
CREATED:20250826T184438Z
LAST-MODIFIED:20250826T184438Z
UID:5675-1757336400-1757347200@turner.k12.mt.us
SUMMARY:MSU-N College/Career Fair
DESCRIPTION:
URL:https://turner.k12.mt.us/event/msu-n-college-career-fair/
END:VEVENT
BEGIN:VEVENT
DTSTART;VALUE=DATE:20250908
DTEND;VALUE=DATE:20250909
DTSTAMP:20260421T203656
CREATED:20250910T174027Z
LAST-MODIFIED:20250910T174038Z
UID:5736-1757289600-1757375999@turner.k12.mt.us
SUMMARY:MSUN College/Career Fair
DESCRIPTION:11th-12th graders
URL:https://turner.k12.mt.us/event/msun-college-career-fair/
END:VEVENT
BEGIN:VEVENT
DTSTART;TZID=America/Denver:20250906T130000
DTEND;TZID=America/Denver:20250906T170000
DTSTAMP:20260421T203656
CREATED:20250826T182236Z
LAST-MODIFIED:20250826T182236Z
UID:5632-1757163600-1757178000@turner.k12.mt.us
SUMMARY:HS VBall vs. Wolf Point
DESCRIPTION:
URL:https://turner.k12.mt.us/event/hs-vball-vs-wolf-point/
END:VEVENT
BEGIN:VEVENT
DTSTART;VALUE=DATE:20250905
DTEND;VALUE=DATE:20250906
DTSTAMP:20260421T203656
CREATED:20250826T182051Z
LAST-MODIFIED:20250826T182051Z
UID:5628-1757030400-1757116799@turner.k12.mt.us
SUMMARY:School Today!
DESCRIPTION:
URL:https://turner.k12.mt.us/event/school-today/
END:VEVENT
BEGIN:VEVENT
DTSTART;VALUE=DATE:20250901
DTEND;VALUE=DATE:20250902
DTSTAMP:20260421T203656
CREATED:20250826T181758Z
LAST-MODIFIED:20250826T181758Z
UID:5626-1756684800-1756771199@turner.k12.mt.us
SUMMARY:No School - Happy Labor Day
DESCRIPTION:
URL:https://turner.k12.mt.us/event/no-school-happy-labor-day/
END:VEVENT
BEGIN:VEVENT
DTSTART;VALUE=DATE:20250830
DTEND;VALUE=DATE:20250831
DTSTAMP:20260421T203656
CREATED:20250826T182156Z
LAST-MODIFIED:20250826T182156Z
UID:5630-1756512000-1756598399@turner.k12.mt.us
SUMMARY:HS Vball @ Malta Tournament
DESCRIPTION:Harlem’s first game is at 9am\, please see the schedule posted on Harlem School’s facebook page.
URL:https://turner.k12.mt.us/event/hs-vball-malta-tournament/
END:VEVENT
BEGIN:VEVENT
DTSTART;VALUE=DATE:20250526
DTEND;VALUE=DATE:20250527
DTSTAMP:20260421T203656
CREATED:20250428T221713Z
LAST-MODIFIED:20250428T221713Z
UID:5332-1748217600-1748303999@turner.k12.mt.us
SUMMARY:Office Closed - Memorial Day
DESCRIPTION:
URL:https://turner.k12.mt.us/event/office-closed-memorial-day/
END:VEVENT
BEGIN:VEVENT
DTSTART;VALUE=DATE:20250523
DTEND;VALUE=DATE:20250525
DTSTAMP:20260421T203656
CREATED:20241113T183452Z
LAST-MODIFIED:20241113T183452Z
UID:4750-1747958400-1748131199@turner.k12.mt.us
SUMMARY:State C Track in Missoula
DESCRIPTION:
URL:https://turner.k12.mt.us/event/state-c-track-in-missoula/
END:VEVENT
BEGIN:VEVENT
DTSTART;VALUE=DATE:20250522
DTEND;VALUE=DATE:20250523
DTSTAMP:20260421T203656
CREATED:20240821T162639Z
LAST-MODIFIED:20240821T162639Z
UID:4609-1747872000-1747958399@turner.k12.mt.us
SUMMARY:Last Day of School!
DESCRIPTION:
URL:https://turner.k12.mt.us/event/last-day-of-school-3/
END:VEVENT
BEGIN:VEVENT
DTSTART;TZID=America/Denver:20250521T190000
DTEND;TZID=America/Denver:20250521T203000
DTSTAMP:20260421T203656
CREATED:20250428T221245Z
LAST-MODIFIED:20250428T221245Z
UID:5330-1747854000-1747859400@turner.k12.mt.us
SUMMARY:Regular Board Meeting
DESCRIPTION:
URL:https://turner.k12.mt.us/event/regular-board-meeting/
END:VEVENT
BEGIN:VEVENT
DTSTART;TZID=America/Denver:20250517T140000
DTEND;TZID=America/Denver:20250517T140000
DTSTAMP:20260421T203656
CREATED:20240821T162618Z
LAST-MODIFIED:20240821T162618Z
UID:4607-1747490400-1747490400@turner.k12.mt.us
SUMMARY:Graduation
DESCRIPTION:in the gym @ 2pm
URL:https://turner.k12.mt.us/event/graduation-3/
END:VEVENT
BEGIN:VEVENT
DTSTART;VALUE=DATE:20250515
DTEND;VALUE=DATE:20250517
DTSTAMP:20260421T203656
CREATED:20241113T183521Z
LAST-MODIFIED:20241113T183521Z
UID:4752-1747267200-1747439999@turner.k12.mt.us
SUMMARY:Northern Divisional Track
DESCRIPTION:
URL:https://turner.k12.mt.us/event/northern-divisional-track/
END:VEVENT
BEGIN:VEVENT
DTSTART;VALUE=DATE:20250510
DTEND;VALUE=DATE:20250511
DTSTAMP:20260421T203656
CREATED:20250428T200151Z
LAST-MODIFIED:20250428T200151Z
UID:5314-1746835200-1746921599@turner.k12.mt.us
SUMMARY:JH Track - Havre- District 9C Meet
DESCRIPTION:
URL:https://turner.k12.mt.us/event/jh-track-havre-district-9c-meet/
END:VEVENT
BEGIN:VEVENT
DTSTART;VALUE=DATE:20250507
DTEND;VALUE=DATE:20250508
DTSTAMP:20260421T203656
CREATED:20250428T195711Z
LAST-MODIFIED:20250428T195711Z
UID:5312-1746576000-1746662399@turner.k12.mt.us
SUMMARY:HS Track - Havre District 9C Meet
DESCRIPTION:
URL:https://turner.k12.mt.us/event/hs-track-havre-district-9c-meet/
END:VEVENT
BEGIN:VEVENT
DTSTART;VALUE=DATE:20250503
DTEND;VALUE=DATE:20250504
DTSTAMP:20260421T203656
CREATED:20250428T195620Z
LAST-MODIFIED:20250428T195620Z
UID:5310-1746230400-1746316799@turner.k12.mt.us
SUMMARY:HS Track - Havre Lions Invitational
DESCRIPTION:
URL:https://turner.k12.mt.us/event/hs-track-havre-lions-invitational/
END:VEVENT
BEGIN:VEVENT
DTSTART;VALUE=DATE:20250502
DTEND;VALUE=DATE:20250503
DTSTAMP:20260421T203656
CREATED:20250428T195522Z
LAST-MODIFIED:20250428T195522Z
UID:5307-1746144000-1746230399@turner.k12.mt.us
SUMMARY:JH Track - Havre-North Star Meet
DESCRIPTION:
URL:https://turner.k12.mt.us/event/jh-track-havre-north-star-meet/
LOCATION:Havre Middle School\, Havre\, MT\, United States
END:VEVENT
BEGIN:VEVENT
DTSTART;TZID=America/Denver:20250501T190000
DTEND;TZID=America/Denver:20250501T200000
DTSTAMP:20260421T203656
CREATED:20250428T194225Z
LAST-MODIFIED:20250428T194225Z
UID:5297-1746126000-1746129600@turner.k12.mt.us
SUMMARY:Junior High Murder Mystery Play
DESCRIPTION:
URL:https://turner.k12.mt.us/event/junior-high-murder-mystery-play/
LOCATION:Turner Tornado Gym
END:VEVENT
BEGIN:VEVENT
DTSTART;TZID=America/Denver:20250501T173000
DTEND;TZID=America/Denver:20250501T183000
DTSTAMP:20260421T203656
CREATED:20250428T194650Z
LAST-MODIFIED:20250428T194650Z
UID:5299-1746120600-1746124200@turner.k12.mt.us
SUMMARY:Turner's Night of the Arts
DESCRIPTION:Experience a night of the arts featuring creations by our Turner Students. \nHors d’oeuvres and refreshments will be served by the Bon Voyage Club. \nSemi-formal attire is encouraged. \nAdmission: \nSchool Age – Adult – $5 \nPreschool and under – Free \nProceeds go towards the French Trip 2026
URL:https://turner.k12.mt.us/event/turners-night-of-the-arts/
END:VEVENT
BEGIN:VEVENT
DTSTART;VALUE=DATE:20250429
DTEND;VALUE=DATE:20250430
DTSTAMP:20260421T203656
CREATED:20250428T195404Z
LAST-MODIFIED:20250428T195748Z
UID:5304-1745884800-1745971199@turner.k12.mt.us
SUMMARY:HS Track - Glasgow Top 10
DESCRIPTION:
URL:https://turner.k12.mt.us/event/hs-track-glasgow-top-10-2/
END:VEVENT
BEGIN:VEVENT
DTSTART;VALUE=DATE:20250421
DTEND;VALUE=DATE:20250422
DTSTAMP:20260421T203656
CREATED:20240821T162543Z
LAST-MODIFIED:20240821T162543Z
UID:4605-1745193600-1745279999@turner.k12.mt.us
SUMMARY:Happy Easter - No School
DESCRIPTION:
URL:https://turner.k12.mt.us/event/happy-easter-no-school-2/
END:VEVENT
BEGIN:VEVENT
DTSTART;TZID=America/Denver:20250408T080000
DTEND;TZID=America/Denver:20250408T120000
DTSTAMP:20260421T203656
CREATED:20241113T183655Z
LAST-MODIFIED:20241113T183655Z
UID:4756-1744099200-1744113600@turner.k12.mt.us
SUMMARY:ACT
DESCRIPTION:Juniors will take the ACT today
URL:https://turner.k12.mt.us/event/act-2/
END:VEVENT
BEGIN:VEVENT
DTSTART;TZID=America/Denver:20250401T080000
DTEND;TZID=America/Denver:20250401T120000
DTSTAMP:20260421T203656
CREATED:20241113T183625Z
LAST-MODIFIED:20241113T183625Z
UID:4754-1743494400-1743508800@turner.k12.mt.us
SUMMARY:Pre-ACT
DESCRIPTION:Sophomores will take the Pre-ACT today
URL:https://turner.k12.mt.us/event/pre-act-2/
END:VEVENT
BEGIN:VEVENT
DTSTART;TZID=America/Denver:20250317T093000
DTEND;TZID=America/Denver:20250317T093000
DTSTAMP:20260421T203656
CREATED:20240821T162511Z
LAST-MODIFIED:20240821T162511Z
UID:4603-1742203800-1742203800@turner.k12.mt.us
SUMMARY:Northeastern Arts Network Performance
DESCRIPTION:@ Dodson 9:30 Backtrack Vocals
URL:https://turner.k12.mt.us/event/northeastern-arts-network-performance-3/
END:VEVENT
BEGIN:VEVENT
DTSTART;VALUE=DATE:20250317
DTEND;VALUE=DATE:20250318
DTSTAMP:20260421T203656
CREATED:20240821T162401Z
LAST-MODIFIED:20240821T162401Z
UID:4601-1742169600-1742255999@turner.k12.mt.us
SUMMARY:Quarter 4 Starts
DESCRIPTION:
URL:https://turner.k12.mt.us/event/quarter-4-starts/
END:VEVENT
END:VCALENDAR