BEGIN:VCALENDAR
VERSION:2.0
PRODID:-//Turner Public Schools - ECPv6.15.20//NONSGML v1.0//EN
CALSCALE:GREGORIAN
METHOD:PUBLISH
X-ORIGINAL-URL:https://turner.k12.mt.us
X-WR-CALDESC:Events for Turner Public Schools
REFRESH-INTERVAL;VALUE=DURATION:PT1H
X-Robots-Tag:noindex
X-PUBLISHED-TTL:PT1H
BEGIN:VTIMEZONE
TZID:America/Denver
BEGIN:DAYLIGHT
TZOFFSETFROM:-0700
TZOFFSETTO:-0600
TZNAME:MDT
DTSTART:20240310T090000
END:DAYLIGHT
BEGIN:STANDARD
TZOFFSETFROM:-0600
TZOFFSETTO:-0700
TZNAME:MST
DTSTART:20241103T080000
END:STANDARD
BEGIN:DAYLIGHT
TZOFFSETFROM:-0700
TZOFFSETTO:-0600
TZNAME:MDT
DTSTART:20250309T090000
END:DAYLIGHT
BEGIN:STANDARD
TZOFFSETFROM:-0600
TZOFFSETTO:-0700
TZNAME:MST
DTSTART:20251102T080000
END:STANDARD
BEGIN:DAYLIGHT
TZOFFSETFROM:-0700
TZOFFSETTO:-0600
TZNAME:MDT
DTSTART:20260308T090000
END:DAYLIGHT
BEGIN:STANDARD
TZOFFSETFROM:-0600
TZOFFSETTO:-0700
TZNAME:MST
DTSTART:20261101T080000
END:STANDARD
BEGIN:DAYLIGHT
TZOFFSETFROM:-0700
TZOFFSETTO:-0600
TZNAME:MDT
DTSTART:20270314T090000
END:DAYLIGHT
BEGIN:STANDARD
TZOFFSETFROM:-0600
TZOFFSETTO:-0700
TZNAME:MST
DTSTART:20271107T080000
END:STANDARD
END:VTIMEZONE
BEGIN:VEVENT
DTSTART;VALUE=DATE:20251113
DTEND;VALUE=DATE:20251116
DTSTAMP:20260419T174207
CREATED:20250826T183810Z
LAST-MODIFIED:20250826T183810Z
UID:5669-1762992000-1763251199@turner.k12.mt.us
SUMMARY:HS VBall State Tourney @ Bozeman
DESCRIPTION:
URL:https://turner.k12.mt.us/event/hs-vball-state-tourney-bozeman/
END:VEVENT
BEGIN:VEVENT
DTSTART;VALUE=DATE:20251113
DTEND;VALUE=DATE:20251114
DTSTAMP:20260419T174207
CREATED:20250826T185303Z
LAST-MODIFIED:20250826T185303Z
UID:5695-1762992000-1763078399@turner.k12.mt.us
SUMMARY:mid-term Q2
DESCRIPTION:
URL:https://turner.k12.mt.us/event/mid-term-q2-2/
END:VEVENT
BEGIN:VEVENT
DTSTART;VALUE=DATE:20251113
DTEND;VALUE=DATE:20251116
DTSTAMP:20260419T174207
CREATED:20251009T174131Z
LAST-MODIFIED:20251009T174131Z
UID:5924-1762992000-1763251199@turner.k12.mt.us
SUMMARY:FFA @ Ag-Expo in Bozeman
DESCRIPTION:
URL:https://turner.k12.mt.us/event/ffa-ag-expo-in-bozeman/
END:VEVENT
BEGIN:VEVENT
DTSTART;TZID=America/Denver:20251114T160000
DTEND;TZID=America/Denver:20251114T190000
DTSTAMP:20260419T174207
CREATED:20251009T173757Z
LAST-MODIFIED:20251009T173757Z
UID:5918-1763136000-1763146800@turner.k12.mt.us
SUMMARY:JHBB vs. Box Elder
DESCRIPTION:
URL:https://turner.k12.mt.us/event/jhbb-vs-box-elder-2/
END:VEVENT
BEGIN:VEVENT
DTSTART;TZID=America/Denver:20251115T090000
DTEND;TZID=America/Denver:20251115T180000
DTSTAMP:20260419T174207
CREATED:20251009T173903Z
LAST-MODIFIED:20251009T173903Z
UID:5920-1763197200-1763229600@turner.k12.mt.us
SUMMARY:JHBB Turner Jamboree
DESCRIPTION:Girls vs. North Star 9am; Boys vs. North Star 10:30am \nGirls vs. Big Sandy 3pm\, Boys vs. Big Sandy 4:30pm
URL:https://turner.k12.mt.us/event/jhbb-turner-jamboree-2/
END:VEVENT
BEGIN:VEVENT
DTSTART;VALUE=DATE:20251117
DTEND;VALUE=DATE:20251118
DTSTAMP:20260419T174207
CREATED:20250826T185332Z
LAST-MODIFIED:20251009T173012Z
UID:5697-1763337600-1763423999@turner.k12.mt.us
SUMMARY:NEAN @ Dodson - Rod Verdi Saxsational
DESCRIPTION:
URL:https://turner.k12.mt.us/event/nean-dodson-rod-verdi-saxsational/
END:VEVENT
BEGIN:VEVENT
DTSTART;VALUE=DATE:20251120
DTEND;VALUE=DATE:20251121
DTSTAMP:20260419T174207
CREATED:20250826T185357Z
LAST-MODIFIED:20250826T185357Z
UID:5699-1763596800-1763683199@turner.k12.mt.us
SUMMARY:Varsity Bball practice Starts
DESCRIPTION:
URL:https://turner.k12.mt.us/event/varsity-bball-practice-starts/
END:VEVENT
BEGIN:VEVENT
DTSTART;VALUE=DATE:20251120
DTEND;VALUE=DATE:20251121
DTSTAMP:20260419T174207
CREATED:20250910T174151Z
LAST-MODIFIED:20250910T174151Z
UID:5741-1763596800-1763683199@turner.k12.mt.us
SUMMARY:1st Varsity BBall Practice
DESCRIPTION:
URL:https://turner.k12.mt.us/event/1st-varsity-bball-practice/
END:VEVENT
BEGIN:VEVENT
DTSTART;VALUE=DATE:20251120
DTEND;VALUE=DATE:20251123
DTSTAMP:20260419T174207
CREATED:20251009T173945Z
LAST-MODIFIED:20251009T173945Z
UID:5922-1763596800-1763855999@turner.k12.mt.us
SUMMARY:JH BBall 9C Tournament @ Gildford
DESCRIPTION:@ Gildford
URL:https://turner.k12.mt.us/event/jh-bball-9c-tournament-gildford/
END:VEVENT
BEGIN:VEVENT
DTSTART;TZID=America/Denver:20251125T153000
DTEND;TZID=America/Denver:20251125T163000
DTSTAMP:20260419T174207
CREATED:20250826T185424Z
LAST-MODIFIED:20251124T212752Z
UID:5701-1764084600-1764088200@turner.k12.mt.us
SUMMARY:Varsity BBall Pictures
DESCRIPTION:
URL:https://turner.k12.mt.us/event/varsity-bball-pictures/
END:VEVENT
BEGIN:VEVENT
DTSTART;TZID=America/Denver:20251126T123000
DTEND;TZID=America/Denver:20251126T123000
DTSTAMP:20260419T174207
CREATED:20250826T185526Z
LAST-MODIFIED:20250826T185526Z
UID:5703-1764160200-1764160200@turner.k12.mt.us
SUMMARY:School out at 12:30pm
DESCRIPTION:Happy Thanksgiving
URL:https://turner.k12.mt.us/event/school-out-at-1230pm-2/
END:VEVENT
BEGIN:VEVENT
DTSTART;VALUE=DATE:20251127
DTEND;VALUE=DATE:20251128
DTSTAMP:20260419T174207
CREATED:20250826T185554Z
LAST-MODIFIED:20250826T185554Z
UID:5705-1764201600-1764287999@turner.k12.mt.us
SUMMARY:Happy Thanksgiving - No School
DESCRIPTION:
URL:https://turner.k12.mt.us/event/happy-thanksgiving-no-school-2/
END:VEVENT
BEGIN:VEVENT
DTSTART;VALUE=DATE:20251205
DTEND;VALUE=DATE:20251207
DTSTAMP:20260419T174207
CREATED:20250910T174226Z
LAST-MODIFIED:20250910T174226Z
UID:5743-1764892800-1765065599@turner.k12.mt.us
SUMMARY:Class C Showcase @ Glasgow
DESCRIPTION:
URL:https://turner.k12.mt.us/event/class-c-showcase-glasgow-3/
END:VEVENT
BEGIN:VEVENT
DTSTART;VALUE=DATE:20251212
DTEND;VALUE=DATE:20251214
DTSTAMP:20260419T174207
CREATED:20250826T185700Z
LAST-MODIFIED:20250826T185700Z
UID:5709-1765497600-1765670399@turner.k12.mt.us
SUMMARY:Harlowton Tournament
DESCRIPTION:
URL:https://turner.k12.mt.us/event/harlowton-tournament/
END:VEVENT
BEGIN:VEVENT
DTSTART;TZID=America/Denver:20251218T144500
DTEND;TZID=America/Denver:20251218T170000
DTSTAMP:20260419T174207
CREATED:20251124T212315Z
LAST-MODIFIED:20251124T212315Z
UID:5945-1766069100-1766077200@turner.k12.mt.us
SUMMARY:Elem Christmas Program
DESCRIPTION:
URL:https://turner.k12.mt.us/event/elem-christmas-program/
END:VEVENT
BEGIN:VEVENT
DTSTART;VALUE=DATE:20251219
DTEND;VALUE=DATE:20251220
DTSTAMP:20260419T174207
CREATED:20250826T185725Z
LAST-MODIFIED:20250826T185725Z
UID:5711-1766102400-1766188799@turner.k12.mt.us
SUMMARY:End of Q1/S1
DESCRIPTION:
URL:https://turner.k12.mt.us/event/end-of-q1-s1/
END:VEVENT
BEGIN:VEVENT
DTSTART;VALUE=DATE:20251219
DTEND;VALUE=DATE:20251220
DTSTAMP:20260419T174207
CREATED:20250826T185745Z
LAST-MODIFIED:20250826T185745Z
UID:5713-1766102400-1766188799@turner.k12.mt.us
SUMMARY:SCHOOL TODAY
DESCRIPTION:
URL:https://turner.k12.mt.us/event/school-today-2/
END:VEVENT
BEGIN:VEVENT
DTSTART;TZID=America/Denver:20251219T170000
DTEND;TZID=America/Denver:20251219T200000
DTSTAMP:20260419T174207
CREATED:20250910T174346Z
LAST-MODIFIED:20250910T174346Z
UID:5747-1766163600-1766174400@turner.k12.mt.us
SUMMARY:Varsity BBall v. Dodson
DESCRIPTION:Girls @ 5pm/Boys @ 6:30pm
URL:https://turner.k12.mt.us/event/varsity-bball-v-dodson/
END:VEVENT
BEGIN:VEVENT
DTSTART;VALUE=DATE:20251225
DTEND;VALUE=DATE:20251226
DTSTAMP:20260419T174207
CREATED:20251124T212952Z
LAST-MODIFIED:20251124T212952Z
UID:5947-1766620800-1766707199@turner.k12.mt.us
SUMMARY:Merry Christmas!
DESCRIPTION:
URL:https://turner.k12.mt.us/event/merry-christmas/
END:VEVENT
BEGIN:VEVENT
DTSTART;VALUE=DATE:20260102
DTEND;VALUE=DATE:20260103
DTSTAMP:20260419T174207
CREATED:20250910T181456Z
LAST-MODIFIED:20250910T181456Z
UID:5749-1767312000-1767398399@turner.k12.mt.us
SUMMARY:HS BBall @ Hays
DESCRIPTION:times TBA
URL:https://turner.k12.mt.us/event/hs-bball-hays/
END:VEVENT
BEGIN:VEVENT
DTSTART;TZID=America/Denver:20260103T150000
DTEND;TZID=America/Denver:20260103T180000
DTSTAMP:20260419T174207
CREATED:20250910T212002Z
LAST-MODIFIED:20250910T212002Z
UID:5751-1767452400-1767463200@turner.k12.mt.us
SUMMARY:HS BBall v. North Country
DESCRIPTION:
URL:https://turner.k12.mt.us/event/hs-bball-v-north-country/
END:VEVENT
BEGIN:VEVENT
DTSTART;VALUE=DATE:20260105
DTEND;VALUE=DATE:20260106
DTSTAMP:20260419T174207
CREATED:20250826T185811Z
LAST-MODIFIED:20250826T185811Z
UID:5715-1767571200-1767657599@turner.k12.mt.us
SUMMARY:Start of Q3/S2
DESCRIPTION:
URL:https://turner.k12.mt.us/event/start-of-q3-s2/
END:VEVENT
BEGIN:VEVENT
DTSTART;TZID=America/Denver:20260110T170000
DTEND;TZID=America/Denver:20260110T200000
DTSTAMP:20260419T174207
CREATED:20250910T212107Z
LAST-MODIFIED:20250910T212107Z
UID:5753-1768064400-1768075200@turner.k12.mt.us
SUMMARY:HS BBall @ Box Elder
DESCRIPTION:Gilrs @ 5pm\, Boys at 6:30pm
URL:https://turner.k12.mt.us/event/hs-bball-box-elder/
END:VEVENT
BEGIN:VEVENT
DTSTART;TZID=America/Denver:20260116T150000
DTEND;TZID=America/Denver:20260116T180000
DTSTAMP:20260419T174207
CREATED:20250910T212200Z
LAST-MODIFIED:20250910T212200Z
UID:5755-1768575600-1768586400@turner.k12.mt.us
SUMMARY:HS BBall v. North Star
DESCRIPTION:Girls @ 3pm; Boys at 4:30pm
URL:https://turner.k12.mt.us/event/hs-bball-v-north-star/
END:VEVENT
BEGIN:VEVENT
DTSTART;TZID=America/Denver:20260117T170000
DTEND;TZID=America/Denver:20260117T200000
DTSTAMP:20260419T174207
CREATED:20250910T212246Z
LAST-MODIFIED:20250910T212246Z
UID:5757-1768669200-1768680000@turner.k12.mt.us
SUMMARY:HS Bball @ Big Sandy
DESCRIPTION:Girls @ 5pm; Boys @ 6:30pm
URL:https://turner.k12.mt.us/event/hs-bball-big-sandy/
END:VEVENT
BEGIN:VEVENT
DTSTART;TZID=America/Denver:20260122T173000
DTEND;TZID=America/Denver:20260122T203000
DTSTAMP:20260419T174207
CREATED:20260129T192629Z
LAST-MODIFIED:20260129T192629Z
UID:6023-1769103000-1769113800@turner.k12.mt.us
SUMMARY:HSBB vs. Malta JV
DESCRIPTION:
URL:https://turner.k12.mt.us/event/hsbb-vs-malta-jv/
END:VEVENT
BEGIN:VEVENT
DTSTART;TZID=America/Denver:20260123T170000
DTEND;TZID=America/Denver:20260123T200000
DTSTAMP:20260419T174207
CREATED:20250910T212607Z
LAST-MODIFIED:20250910T212607Z
UID:5759-1769187600-1769198400@turner.k12.mt.us
SUMMARY:HS BBall @ Dodson
DESCRIPTION:Girls @ 5pm; Boys @ 6:30pm
URL:https://turner.k12.mt.us/event/hs-bball-dodson/
END:VEVENT
BEGIN:VEVENT
DTSTART;VALUE=DATE:20260130
DTEND;VALUE=DATE:20260131
DTSTAMP:20260419T174207
CREATED:20250910T212709Z
LAST-MODIFIED:20250910T212709Z
UID:5761-1769731200-1769817599@turner.k12.mt.us
SUMMARY:HS BBall v. Hays
DESCRIPTION:Time TBA
URL:https://turner.k12.mt.us/event/hs-bball-v-hays/
END:VEVENT
BEGIN:VEVENT
DTSTART;TZID=America/Denver:20260131T150000
DTEND;TZID=America/Denver:20260131T180000
DTSTAMP:20260419T174207
CREATED:20250910T212836Z
LAST-MODIFIED:20250910T212836Z
UID:5763-1769871600-1769882400@turner.k12.mt.us
SUMMARY:HS Bball @ Whitewater
DESCRIPTION:Girls @ 3pm; Boys @ 4:30pm
URL:https://turner.k12.mt.us/event/hs-bball-whitewater/
END:VEVENT
BEGIN:VEVENT
DTSTART;VALUE=DATE:20260205
DTEND;VALUE=DATE:20260206
DTSTAMP:20260419T174207
CREATED:20250826T185839Z
LAST-MODIFIED:20250826T185839Z
UID:5717-1770249600-1770335999@turner.k12.mt.us
SUMMARY:mid-term Q3
DESCRIPTION:
URL:https://turner.k12.mt.us/event/mid-term-q3-2/
END:VEVENT
END:VCALENDAR