BEGIN:VCALENDAR
VERSION:2.0
PRODID:-//Turner Public Schools - ECPv6.15.20//NONSGML v1.0//EN
CALSCALE:GREGORIAN
METHOD:PUBLISH
X-WR-CALNAME:Turner Public Schools
X-ORIGINAL-URL:https://turner.k12.mt.us
X-WR-CALDESC:Events for Turner Public Schools
REFRESH-INTERVAL;VALUE=DURATION:PT1H
X-Robots-Tag:noindex
X-PUBLISHED-TTL:PT1H
BEGIN:VTIMEZONE
TZID:UTC
BEGIN:STANDARD
TZOFFSETFROM:+0000
TZOFFSETTO:+0000
TZNAME:UTC
DTSTART:20200101T000000
END:STANDARD
END:VTIMEZONE
BEGIN:VEVENT
DTSTART;VALUE=DATE:20210512
DTEND;VALUE=DATE:20210513
DTSTAMP:20260424T095111
CREATED:20210421T025617Z
LAST-MODIFIED:20210421T025617Z
UID:3012-1620777600-1620863999@turner.k12.mt.us
SUMMARY:3rd-6th Field Trip
DESCRIPTION:
URL:https://turner.k12.mt.us/event/3rd-6th-field-trip/
END:VEVENT
BEGIN:VEVENT
DTSTART;VALUE=DATE:20210511
DTEND;VALUE=DATE:20210512
DTSTAMP:20260424T095111
CREATED:20210421T025535Z
LAST-MODIFIED:20210421T025535Z
UID:3010-1620691200-1620777599@turner.k12.mt.us
SUMMARY:7/8 Field Trip
DESCRIPTION:
URL:https://turner.k12.mt.us/event/7-8-field-trip/
END:VEVENT
BEGIN:VEVENT
DTSTART;VALUE=DATE:20210510
DTEND;VALUE=DATE:20210511
DTSTAMP:20260424T095111
CREATED:20210421T025448Z
LAST-MODIFIED:20210421T025448Z
UID:3008-1620604800-1620691199@turner.k12.mt.us
SUMMARY:9-12 Field Trip
DESCRIPTION:
URL:https://turner.k12.mt.us/event/9-12-field-trip/
END:VEVENT
BEGIN:VEVENT
DTSTART;VALUE=DATE:20210510
DTEND;VALUE=DATE:20210512
DTSTAMP:20260424T095111
CREATED:20210421T025355Z
LAST-MODIFIED:20210421T025355Z
UID:3006-1620604800-1620777599@turner.k12.mt.us
SUMMARY:Hs Golf Divisionals @ Shelby
DESCRIPTION:
URL:https://turner.k12.mt.us/event/hs-golf-divisionals-shelby/
END:VEVENT
BEGIN:VEVENT
DTSTART;VALUE=DATE:20210510
DTEND;VALUE=DATE:20210511
DTSTAMP:20260424T095111
CREATED:20210304T013047Z
LAST-MODIFIED:20210304T013047Z
UID:2926-1620604800-1620691199@turner.k12.mt.us
SUMMARY:Awards Night
DESCRIPTION:
URL:https://turner.k12.mt.us/event/awards-night/
END:VEVENT
BEGIN:VEVENT
DTSTART;VALUE=DATE:20210508
DTEND;VALUE=DATE:20210509
DTSTAMP:20260424T095111
CREATED:20210421T025235Z
LAST-MODIFIED:20210421T025235Z
UID:3002-1620432000-1620518399@turner.k12.mt.us
SUMMARY:HS Track @ Havre Invitational Meet
DESCRIPTION:
URL:https://turner.k12.mt.us/event/hs-track-havre-invitational-meet/
END:VEVENT
BEGIN:VEVENT
DTSTART;VALUE=DATE:20210508
DTEND;VALUE=DATE:20210509
DTSTAMP:20260424T095111
CREATED:20210421T025206Z
LAST-MODIFIED:20210421T025206Z
UID:3000-1620432000-1620518399@turner.k12.mt.us
SUMMARY:HS Golf @ Chinook
DESCRIPTION:
URL:https://turner.k12.mt.us/event/hs-golf-chinook/
END:VEVENT
BEGIN:VEVENT
DTSTART;VALUE=DATE:20210507
DTEND;VALUE=DATE:20210508
DTSTAMP:20260424T095111
CREATED:20210421T024950Z
LAST-MODIFIED:20210421T024950Z
UID:2998-1620345600-1620431999@turner.k12.mt.us
SUMMARY:JH  Track @ Havre - North Star  Host
DESCRIPTION:
URL:https://turner.k12.mt.us/event/jh-track-havre-north-star-host/
END:VEVENT
BEGIN:VEVENT
DTSTART;VALUE=DATE:20210507
DTEND;VALUE=DATE:20210508
DTSTAMP:20260424T095111
CREATED:20210421T024314Z
LAST-MODIFIED:20210421T024314Z
UID:2996-1620345600-1620431999@turner.k12.mt.us
SUMMARY:HS Golf @ Harlem
DESCRIPTION:
URL:https://turner.k12.mt.us/event/hs-golf-harlem/
END:VEVENT
BEGIN:VEVENT
DTSTART;VALUE=DATE:20210506
DTEND;VALUE=DATE:20210507
DTSTAMP:20260424T095111
CREATED:20210421T024243Z
LAST-MODIFIED:20210421T024243Z
UID:2994-1620259200-1620345599@turner.k12.mt.us
SUMMARY:Clean up Day
DESCRIPTION:
URL:https://turner.k12.mt.us/event/clean-up-day/
END:VEVENT
BEGIN:VEVENT
DTSTART;VALUE=DATE:20210504
DTEND;VALUE=DATE:20210505
DTSTAMP:20260424T095111
CREATED:20210421T024150Z
LAST-MODIFIED:20210421T024150Z
UID:2991-1620086400-1620172799@turner.k12.mt.us
SUMMARY:HS Track @ Glasgow - Top 10
DESCRIPTION:
URL:https://turner.k12.mt.us/event/hs-track-glasgow-top-10/
END:VEVENT
BEGIN:VEVENT
DTSTART;VALUE=DATE:20210503
DTEND;VALUE=DATE:20210504
DTSTAMP:20260424T095111
CREATED:20210421T024005Z
LAST-MODIFIED:20210421T024005Z
UID:2989-1620000000-1620086399@turner.k12.mt.us
SUMMARY:HS Track @ Rudyard - Jason Groseclose
DESCRIPTION:
URL:https://turner.k12.mt.us/event/hs-track-rudyard-jason-groseclose/
END:VEVENT
BEGIN:VEVENT
DTSTART;VALUE=DATE:20210501
DTEND;VALUE=DATE:20210502
DTSTAMP:20260424T095111
CREATED:20210421T023845Z
LAST-MODIFIED:20210421T023845Z
UID:2987-1619827200-1619913599@turner.k12.mt.us
SUMMARY:JH Tack @ Malta
DESCRIPTION:
URL:https://turner.k12.mt.us/event/jh-tack-malta/
END:VEVENT
BEGIN:VEVENT
DTSTART;VALUE=DATE:20210501
DTEND;VALUE=DATE:20210502
DTSTAMP:20260424T095111
CREATED:20210303T061131Z
LAST-MODIFIED:20210303T061131Z
UID:2922-1619827200-1619913599@turner.k12.mt.us
SUMMARY:Prom
DESCRIPTION:
URL:https://turner.k12.mt.us/event/prom/
END:VEVENT
BEGIN:VEVENT
DTSTART;VALUE=DATE:20210430
DTEND;VALUE=DATE:20210501
DTSTAMP:20260424T095111
CREATED:20210421T023641Z
LAST-MODIFIED:20210421T023641Z
UID:2985-1619740800-1619827199@turner.k12.mt.us
SUMMARY:HS Track Saco/Whitewater Meet @ Glasgow
DESCRIPTION:
URL:https://turner.k12.mt.us/event/hs-track-saco-whitewater-meet-glasgow/
END:VEVENT
BEGIN:VEVENT
DTSTART;VALUE=DATE:20210430
DTEND;VALUE=DATE:20210501
DTSTAMP:20260424T095111
CREATED:20210421T023609Z
LAST-MODIFIED:20210421T023609Z
UID:2983-1619740800-1619827199@turner.k12.mt.us
SUMMARY:HS Golf @ Glasgow
DESCRIPTION:
URL:https://turner.k12.mt.us/event/hs-golf-glasgow/
END:VEVENT
BEGIN:VEVENT
DTSTART;VALUE=DATE:20210429
DTEND;VALUE=DATE:20210430
DTSTAMP:20260424T095111
CREATED:20210421T023544Z
LAST-MODIFIED:20210421T023544Z
UID:2981-1619654400-1619740799@turner.k12.mt.us
SUMMARY:JH Track Ft. Benton Invitational Meet
DESCRIPTION:
URL:https://turner.k12.mt.us/event/jh-track-ft-benton-invitational-meet/
END:VEVENT
BEGIN:VEVENT
DTSTART;TZID=UTC:20210428T170000
DTEND;TZID=UTC:20210428T183000
DTSTAMP:20260424T095111
CREATED:20210421T023317Z
LAST-MODIFIED:20210421T023317Z
UID:2977-1619629200-1619634600@turner.k12.mt.us
SUMMARY:Turner School Art Show
DESCRIPTION:
URL:https://turner.k12.mt.us/event/turner-school-art-show/
END:VEVENT
BEGIN:VEVENT
DTSTART;TZID=UTC:20210428T130000
DTEND;TZID=UTC:20210428T154500
DTSTAMP:20260424T095111
CREATED:20210421T023431Z
LAST-MODIFIED:20210421T023431Z
UID:2979-1619614800-1619624700@turner.k12.mt.us
SUMMARY:Kindergarten Roundup
DESCRIPTION:
URL:https://turner.k12.mt.us/event/kindergarten-roundup/
END:VEVENT
BEGIN:VEVENT
DTSTART;VALUE=DATE:20210426
DTEND;VALUE=DATE:20210427
DTSTAMP:20260424T095111
CREATED:20210421T023200Z
LAST-MODIFIED:20210421T023200Z
UID:2975-1619395200-1619481599@turner.k12.mt.us
SUMMARY:HS Golf @ Ft. Benton
DESCRIPTION:
URL:https://turner.k12.mt.us/event/hs-golf-ft-benton/
END:VEVENT
BEGIN:VEVENT
DTSTART;VALUE=DATE:20210424
DTEND;VALUE=DATE:20210425
DTSTAMP:20260424T095111
CREATED:20210421T023129Z
LAST-MODIFIED:20210421T023129Z
UID:2973-1619222400-1619308799@turner.k12.mt.us
SUMMARY:HS Golf @ Malta
DESCRIPTION:
URL:https://turner.k12.mt.us/event/hs-golf-malta/
END:VEVENT
BEGIN:VEVENT
DTSTART;TZID=UTC:20210423T130000
DTEND;TZID=UTC:20210423T170000
DTSTAMP:20260424T095111
CREATED:20210421T023018Z
LAST-MODIFIED:20210421T023018Z
UID:2969-1619182800-1619197200@turner.k12.mt.us
SUMMARY:JH Track Whitewater Meet
DESCRIPTION:
URL:https://turner.k12.mt.us/event/jh-track-whitewater-meet/
END:VEVENT
BEGIN:VEVENT
DTSTART;TZID=UTC:20210423T080000
DTEND;TZID=UTC:20210423T130000
DTSTAMP:20260424T095111
CREATED:20210421T022936Z
LAST-MODIFIED:20210421T022936Z
UID:2967-1619164800-1619182800@turner.k12.mt.us
SUMMARY:HS Track Whitewater Meet
DESCRIPTION:
URL:https://turner.k12.mt.us/event/hs-track-whitewater-meet/
END:VEVENT
BEGIN:VEVENT
DTSTART;VALUE=DATE:20210423
DTEND;VALUE=DATE:20210424
DTSTAMP:20260424T095111
CREATED:20210421T023104Z
LAST-MODIFIED:20210421T023104Z
UID:2971-1619136000-1619222399@turner.k12.mt.us
SUMMARY:HS Golf @ Conrad
DESCRIPTION:
URL:https://turner.k12.mt.us/event/hs-golf-conrad/
END:VEVENT
BEGIN:VEVENT
DTSTART;VALUE=DATE:20210422
DTEND;VALUE=DATE:20210423
DTSTAMP:20260424T095111
CREATED:20210303T061021Z
LAST-MODIFIED:20210303T061021Z
UID:2920-1619049600-1619135999@turner.k12.mt.us
SUMMARY:Quarter 4 mid-term
DESCRIPTION:
URL:https://turner.k12.mt.us/event/quarter-4-mid-term/
END:VEVENT
BEGIN:VEVENT
DTSTART;VALUE=DATE:20210417
DTEND;VALUE=DATE:20210418
DTSTAMP:20260424T095111
CREATED:20210421T022851Z
LAST-MODIFIED:20210421T022851Z
UID:2965-1618617600-1618703999@turner.k12.mt.us
SUMMARY:JH Track Glasgow Invitational Meet
DESCRIPTION:
URL:https://turner.k12.mt.us/event/jh-track-glasgow-invitational-meet/
END:VEVENT
BEGIN:VEVENT
DTSTART;VALUE=DATE:20210415
DTEND;VALUE=DATE:20210426
DTSTAMP:20260424T095111
CREATED:20210421T022743Z
LAST-MODIFIED:20210421T022743Z
UID:2963-1618444800-1619395199@turner.k12.mt.us
SUMMARY:Senior Trip
DESCRIPTION:
URL:https://turner.k12.mt.us/event/senior-trip/
END:VEVENT
BEGIN:VEVENT
DTSTART;VALUE=DATE:20210410
DTEND;VALUE=DATE:20210411
DTSTAMP:20260424T095111
CREATED:20210421T022613Z
LAST-MODIFIED:20210421T022613Z
UID:2961-1618012800-1618099199@turner.k12.mt.us
SUMMARY:HS Track Havre Lions Meet
DESCRIPTION:
URL:https://turner.k12.mt.us/event/hs-track-havre-lions-meet/
END:VEVENT
BEGIN:VEVENT
DTSTART;VALUE=DATE:20210409
DTEND;VALUE=DATE:20210410
DTSTAMP:20260424T095111
CREATED:20210421T022422Z
LAST-MODIFIED:20210421T022422Z
UID:2959-1617926400-1618012799@turner.k12.mt.us
SUMMARY:HS Golf @ Shelby
DESCRIPTION:
URL:https://turner.k12.mt.us/event/hs-golf-shelby/
END:VEVENT
BEGIN:VEVENT
DTSTART;VALUE=DATE:20210405
DTEND;VALUE=DATE:20210406
DTSTAMP:20260424T095111
CREATED:20210303T060943Z
LAST-MODIFIED:20210303T060943Z
UID:2918-1617580800-1617667199@turner.k12.mt.us
SUMMARY:No School - Easter Break
DESCRIPTION:
URL:https://turner.k12.mt.us/event/no-school-easter-break/
END:VEVENT
END:VCALENDAR