BEGIN:VCALENDAR
VERSION:2.0
PRODID:-//Turner Public Schools - ECPv6.15.20//NONSGML v1.0//EN
CALSCALE:GREGORIAN
METHOD:PUBLISH
X-WR-CALNAME:Turner Public Schools
X-ORIGINAL-URL:https://turner.k12.mt.us
X-WR-CALDESC:Events for Turner Public Schools
REFRESH-INTERVAL;VALUE=DURATION:PT1H
X-Robots-Tag:noindex
X-PUBLISHED-TTL:PT1H
BEGIN:VTIMEZONE
TZID:America/Denver
BEGIN:DAYLIGHT
TZOFFSETFROM:-0700
TZOFFSETTO:-0600
TZNAME:MDT
DTSTART:20210314T090000
END:DAYLIGHT
BEGIN:STANDARD
TZOFFSETFROM:-0600
TZOFFSETTO:-0700
TZNAME:MST
DTSTART:20211107T080000
END:STANDARD
BEGIN:DAYLIGHT
TZOFFSETFROM:-0700
TZOFFSETTO:-0600
TZNAME:MDT
DTSTART:20220313T090000
END:DAYLIGHT
BEGIN:STANDARD
TZOFFSETFROM:-0600
TZOFFSETTO:-0700
TZNAME:MST
DTSTART:20221106T080000
END:STANDARD
BEGIN:DAYLIGHT
TZOFFSETFROM:-0700
TZOFFSETTO:-0600
TZNAME:MDT
DTSTART:20230312T090000
END:DAYLIGHT
BEGIN:STANDARD
TZOFFSETFROM:-0600
TZOFFSETTO:-0700
TZNAME:MST
DTSTART:20231105T080000
END:STANDARD
END:VTIMEZONE
BEGIN:VTIMEZONE
TZID:UTC
BEGIN:STANDARD
TZOFFSETFROM:+0000
TZOFFSETTO:+0000
TZNAME:UTC
DTSTART:20210101T000000
END:STANDARD
END:VTIMEZONE
BEGIN:VEVENT
DTSTART;VALUE=DATE:20220414
DTEND;VALUE=DATE:20220415
DTSTAMP:20260424T023407
CREATED:20220405T200237Z
LAST-MODIFIED:20220405T200237Z
UID:3392-1649894400-1649980799@turner.k12.mt.us
SUMMARY:Mid-Term Q4
DESCRIPTION:
URL:https://turner.k12.mt.us/event/mid-term-q4/
END:VEVENT
BEGIN:VEVENT
DTSTART;TZID=America/Denver:20220411T080000
DTEND;TZID=America/Denver:20220416T170000
DTSTAMP:20260424T023407
CREATED:20220202T185945Z
LAST-MODIFIED:20220202T190032Z
UID:3274-1649664000-1650128400@turner.k12.mt.us
SUMMARY:Missoula Children's Theater
DESCRIPTION:
URL:https://turner.k12.mt.us/event/missoula-childrens-theater/
END:VEVENT
BEGIN:VEVENT
DTSTART;VALUE=DATE:20220409
DTEND;VALUE=DATE:20220410
DTSTAMP:20260424T023407
CREATED:20220405T201249Z
LAST-MODIFIED:20220405T201249Z
UID:3408-1649462400-1649548799@turner.k12.mt.us
SUMMARY:MSU STEAM Day for JH Girls
DESCRIPTION:
URL:https://turner.k12.mt.us/event/msu-steam-day-for-jh-girls/
END:VEVENT
BEGIN:VEVENT
DTSTART;VALUE=DATE:20220409
DTEND;VALUE=DATE:20220410
DTSTAMP:20260424T023407
CREATED:20220405T194052Z
LAST-MODIFIED:20220405T194143Z
UID:3361-1649462400-1649548799@turner.k12.mt.us
SUMMARY:HS Havre Lions Track Meet
DESCRIPTION:
URL:https://turner.k12.mt.us/event/jh-whitewater-track-meet/
END:VEVENT
BEGIN:VEVENT
DTSTART;TZID=America/Denver:20220408T100000
DTEND;TZID=America/Denver:20220408T140000
DTSTAMP:20260424T023407
CREATED:20220405T194245Z
LAST-MODIFIED:20220405T194748Z
UID:3364-1649412000-1649426400@turner.k12.mt.us
SUMMARY:JH Whitewater Track Meet
DESCRIPTION:
URL:https://turner.k12.mt.us/event/jh-whitewater-track-meet-2/
END:VEVENT
BEGIN:VEVENT
DTSTART;TZID=America/Denver:20220406T080000
DTEND;TZID=America/Denver:20220406T150000
DTSTAMP:20260424T023407
CREATED:20220405T194010Z
LAST-MODIFIED:20220405T194906Z
UID:3359-1649232000-1649257200@turner.k12.mt.us
SUMMARY:Cancelled due to Weather - HS Cal Wearly Meet @ Havre
DESCRIPTION:
URL:https://turner.k12.mt.us/event/hs-cal-wearly-meet-havre/
END:VEVENT
BEGIN:VEVENT
DTSTART;TZID=America/Denver:20220402T120000
DTEND;TZID=America/Denver:20220402T163000
DTSTAMP:20260424T023407
CREATED:20220207T162917Z
LAST-MODIFIED:20220207T162917Z
UID:3313-1648900800-1648917000@turner.k12.mt.us
SUMMARY:Elem Jamboree @ Havre vs. St. Jude's & North Star
DESCRIPTION:
URL:https://turner.k12.mt.us/event/elem-jamboree-havre-vs-st-judes-north-star/
END:VEVENT
BEGIN:VEVENT
DTSTART;TZID=America/Denver:20220330T080000
DTEND;TZID=America/Denver:20220402T170000
DTSTAMP:20260424T023407
CREATED:20220405T200112Z
LAST-MODIFIED:20220405T200112Z
UID:3390-1648627200-1648918800@turner.k12.mt.us
SUMMARY:State FFA @ Bozeman
DESCRIPTION:
URL:https://turner.k12.mt.us/event/state-ffa-bozeman/
END:VEVENT
BEGIN:VEVENT
DTSTART;TZID=America/Denver:20220326T100000
DTEND;TZID=America/Denver:20220326T143000
DTSTAMP:20260424T023407
CREATED:20220207T162826Z
LAST-MODIFIED:20220207T162826Z
UID:3311-1648288800-1648305000@turner.k12.mt.us
SUMMARY:Elem Jamboree @ Hays
DESCRIPTION:
URL:https://turner.k12.mt.us/event/elem-jamboree-hays/
END:VEVENT
BEGIN:VEVENT
DTSTART;TZID=America/Denver:20220319T100000
DTEND;TZID=America/Denver:20220319T163000
DTSTAMP:20260424T023407
CREATED:20220207T162737Z
LAST-MODIFIED:20220207T162737Z
UID:3309-1647684000-1647707400@turner.k12.mt.us
SUMMARY:Elem Jamboree in Turner vs. Box Elder & CJI
DESCRIPTION:
URL:https://turner.k12.mt.us/event/elem-jamboree-in-turner-vs-box-elder-cji/
END:VEVENT
BEGIN:VEVENT
DTSTART;TZID=America/Denver:20220316T133000
DTEND;TZID=America/Denver:20220316T133000
DTSTAMP:20260424T023407
CREATED:20220207T162409Z
LAST-MODIFIED:20220207T162409Z
UID:3303-1647437400-1647437400@turner.k12.mt.us
SUMMARY:Math Contest at MSU-N
DESCRIPTION:
URL:https://turner.k12.mt.us/event/math-contest-at-msu-n/
END:VEVENT
BEGIN:VEVENT
DTSTART;TZID=America/Denver:20220314T154500
DTEND;TZID=America/Denver:20220314T154500
DTSTAMP:20260424T023407
CREATED:20220202T180758Z
LAST-MODIFIED:20220202T180832Z
UID:3271-1647272700-1647272700@turner.k12.mt.us
SUMMARY:HS Track Practice Starts
DESCRIPTION:
URL:https://turner.k12.mt.us/event/hs-track-practice-starts/
END:VEVENT
BEGIN:VEVENT
DTSTART;TZID=UTC:20220314T080000
DTEND;TZID=UTC:20220314T170000
DTSTAMP:20260424T023407
CREATED:20220105T043708Z
LAST-MODIFIED:20220105T043708Z
UID:3154-1647244800-1647277200@turner.k12.mt.us
SUMMARY:Q4 Begins
DESCRIPTION:
URL:https://turner.k12.mt.us/event/q4-begins/
END:VEVENT
BEGIN:VEVENT
DTSTART;TZID=America/Denver:20220312T120000
DTEND;TZID=America/Denver:20220312T163000
DTSTAMP:20260424T023407
CREATED:20220207T162656Z
LAST-MODIFIED:20220207T162656Z
UID:3307-1647086400-1647102600@turner.k12.mt.us
SUMMARY:Elem Jamboree @ Rudyard vs. St. Jude's & North Star
DESCRIPTION:
URL:https://turner.k12.mt.us/event/elem-jamboree-rudyard-vs-st-judes-north-star/
END:VEVENT
BEGIN:VEVENT
DTSTART;TZID=America/Denver:20220305T100000
DTEND;TZID=America/Denver:20220305T163000
DTSTAMP:20260424T023407
CREATED:20220207T162532Z
LAST-MODIFIED:20220207T163057Z
UID:3305-1646474400-1646497800@turner.k12.mt.us
SUMMARY:Elementary Jamboree in Turner vs. Chinook & Hays
DESCRIPTION:
URL:https://turner.k12.mt.us/event/elementary-jamboree-in-turner/
END:VEVENT
BEGIN:VEVENT
DTSTART;TZID=UTC:20220223T080000
DTEND;TZID=UTC:20220226T190000
DTSTAMP:20260424T023407
CREATED:20220105T043646Z
LAST-MODIFIED:20220105T043646Z
UID:3152-1645603200-1645902000@turner.k12.mt.us
SUMMARY:Northern C Divisional Basketball Tournament @ Great Falls
DESCRIPTION:
URL:https://turner.k12.mt.us/event/northern-c-divisional-basketball-tournament-great-falls/
END:VEVENT
BEGIN:VEVENT
DTSTART;TZID=UTC:20220221T154500
DTEND;TZID=UTC:20220221T154500
DTSTAMP:20260424T023407
CREATED:20220105T043607Z
LAST-MODIFIED:20220202T175428Z
UID:3150-1645458300-1645458300@turner.k12.mt.us
SUMMARY:Elementary Basketball Practice Starts
DESCRIPTION:
URL:https://turner.k12.mt.us/event/elementary-basketball-practice-starts/
END:VEVENT
BEGIN:VEVENT
DTSTART;TZID=UTC:20220216T080000
DTEND;TZID=UTC:20220219T190000
DTSTAMP:20260424T023407
CREATED:20220105T043536Z
LAST-MODIFIED:20220105T043536Z
UID:3148-1644998400-1645297200@turner.k12.mt.us
SUMMARY:9C District Basketball Tournament @ Havre
DESCRIPTION:
URL:https://turner.k12.mt.us/event/9c-district-basketball-tournament-havre/
END:VEVENT
BEGIN:VEVENT
DTSTART;TZID=America/Denver:20220215T180000
DTEND;TZID=America/Denver:20220215T180000
DTSTAMP:20260424T023407
CREATED:20220202T175958Z
LAST-MODIFIED:20220202T175958Z
UID:3269-1644948000-1644948000@turner.k12.mt.us
SUMMARY:School Board Meeting 6pm
DESCRIPTION:
URL:https://turner.k12.mt.us/event/school-board-meeting-6pm/
END:VEVENT
BEGIN:VEVENT
DTSTART;TZID=UTC:20220212T150000
DTEND;TZID=UTC:20220212T170000
DTSTAMP:20260424T023407
CREATED:20220105T043403Z
LAST-MODIFIED:20220110T215657Z
UID:3144-1644678000-1644685200@turner.k12.mt.us
SUMMARY:Senior Night - Varsity Basketball vs. North Star 3/4:30pm
DESCRIPTION:
URL:https://turner.k12.mt.us/event/varsity-basketball-vs-north-star-3-430pm/
END:VEVENT
BEGIN:VEVENT
DTSTART;TZID=UTC:20220211T170000
DTEND;TZID=UTC:20220211T170000
DTSTAMP:20260424T023407
CREATED:20220105T043326Z
LAST-MODIFIED:20220105T043326Z
UID:3142-1644598800-1644598800@turner.k12.mt.us
SUMMARY:Varsity Basketball vs. Big Sandy 5/6:30pm
DESCRIPTION:
URL:https://turner.k12.mt.us/event/varsity-basketball-vs-big-sandy-5-630pm/
END:VEVENT
BEGIN:VEVENT
DTSTART;TZID=UTC:20220209T090000
DTEND;TZID=UTC:20220209T090000
DTSTAMP:20260424T023407
CREATED:20220105T042823Z
LAST-MODIFIED:20220202T172732Z
UID:3140-1644397200-1644397200@turner.k12.mt.us
SUMMARY:County Spelling Bee in Chinook
DESCRIPTION:
URL:https://turner.k12.mt.us/event/county-spelling-bee-in-chinook/
END:VEVENT
BEGIN:VEVENT
DTSTART;TZID=America/Denver:20220206T163000
DTEND;TZID=America/Denver:20220206T193000
DTSTAMP:20260424T023407
CREATED:20220202T175604Z
LAST-MODIFIED:20220202T175725Z
UID:3267-1644165000-1644175800@turner.k12.mt.us
SUMMARY:DC Club Valentine's Dinner
DESCRIPTION:
URL:https://turner.k12.mt.us/event/dc-club-valentines-dinner/
END:VEVENT
BEGIN:VEVENT
DTSTART;TZID=America/Denver:20220205T180000
DTEND;TZID=America/Denver:20220205T193000
DTSTAMP:20260424T023407
CREATED:20220110T214557Z
LAST-MODIFIED:20220202T173133Z
UID:3188-1644084000-1644089400@turner.k12.mt.us
SUMMARY:Varsity Basketball vs. Chinook 6/7:30PM
DESCRIPTION:
URL:https://turner.k12.mt.us/event/varsity-basketball-vs-chinook-6-730pm-2/
END:VEVENT
BEGIN:VEVENT
DTSTART;TZID=UTC:20220204T170000
DTEND;TZID=UTC:20220204T170000
DTSTAMP:20260424T023407
CREATED:20220105T042715Z
LAST-MODIFIED:20220105T042715Z
UID:3136-1643994000-1643994000@turner.k12.mt.us
SUMMARY:Varsity Basketball vs. Hays 5/6:30PM
DESCRIPTION:
URL:https://turner.k12.mt.us/event/varsity-basketball-vs-hays-5-630pm/
END:VEVENT
BEGIN:VEVENT
DTSTART;TZID=UTC:20220203T080000
DTEND;TZID=UTC:20220203T170000
DTSTAMP:20260424T023407
CREATED:20220105T042633Z
LAST-MODIFIED:20220105T042633Z
UID:3134-1643875200-1643907600@turner.k12.mt.us
SUMMARY:mid-term Q3
DESCRIPTION:
URL:https://turner.k12.mt.us/event/mid-term-q3/
END:VEVENT
BEGIN:VEVENT
DTSTART;TZID=UTC:20220129T170000
DTEND;TZID=UTC:20220129T170000
DTSTAMP:20260424T023407
CREATED:20220105T042509Z
LAST-MODIFIED:20220105T042509Z
UID:3132-1643475600-1643475600@turner.k12.mt.us
SUMMARY:Varsity Basketball vs. Box Elder 5/6:30PM
DESCRIPTION:
URL:https://turner.k12.mt.us/event/varsity-basketball-vs-box-elder-5-630pm/
END:VEVENT
BEGIN:VEVENT
DTSTART;TZID=UTC:20220128T080000
DTEND;TZID=UTC:20220128T170000
DTSTAMP:20260424T023407
CREATED:20220105T042328Z
LAST-MODIFIED:20220105T042328Z
UID:3130-1643356800-1643389200@turner.k12.mt.us
SUMMARY:Varsity Basketball @ Dodson TBA
DESCRIPTION:
URL:https://turner.k12.mt.us/event/varsity-basketball-dodson-tba/
END:VEVENT
BEGIN:VEVENT
DTSTART;TZID=UTC:20220122T150000
DTEND;TZID=UTC:20220122T170000
DTSTAMP:20260424T023407
CREATED:20220105T041349Z
LAST-MODIFIED:20220105T041349Z
UID:3128-1642863600-1642870800@turner.k12.mt.us
SUMMARY:Varsity Basketball @ Chester 3/4:30PM
DESCRIPTION:
URL:https://turner.k12.mt.us/event/varsity-basketball-chester-3-430pm/
END:VEVENT
BEGIN:VEVENT
DTSTART;TZID=UTC:20220121T160000
DTEND;TZID=UTC:20220121T170000
DTSTAMP:20260424T023407
CREATED:20220105T041033Z
LAST-MODIFIED:20220105T041033Z
UID:3126-1642780800-1642784400@turner.k12.mt.us
SUMMARY:Varsity Basketball vs. Ft Benton 4/5:30PM
DESCRIPTION:
URL:https://turner.k12.mt.us/event/varsity-basketball-vs-ft-benton-4-530pm/
END:VEVENT
END:VCALENDAR