BEGIN:VCALENDAR
VERSION:2.0
PRODID:-//Turner Public Schools - ECPv6.15.20//NONSGML v1.0//EN
CALSCALE:GREGORIAN
METHOD:PUBLISH
X-WR-CALNAME:Turner Public Schools
X-ORIGINAL-URL:https://turner.k12.mt.us
X-WR-CALDESC:Events for Turner Public Schools
REFRESH-INTERVAL;VALUE=DURATION:PT1H
X-Robots-Tag:noindex
X-PUBLISHED-TTL:PT1H
BEGIN:VTIMEZONE
TZID:America/Denver
BEGIN:DAYLIGHT
TZOFFSETFROM:-0700
TZOFFSETTO:-0600
TZNAME:MDT
DTSTART:20210314T090000
END:DAYLIGHT
BEGIN:STANDARD
TZOFFSETFROM:-0600
TZOFFSETTO:-0700
TZNAME:MST
DTSTART:20211107T080000
END:STANDARD
BEGIN:DAYLIGHT
TZOFFSETFROM:-0700
TZOFFSETTO:-0600
TZNAME:MDT
DTSTART:20220313T090000
END:DAYLIGHT
BEGIN:STANDARD
TZOFFSETFROM:-0600
TZOFFSETTO:-0700
TZNAME:MST
DTSTART:20221106T080000
END:STANDARD
BEGIN:DAYLIGHT
TZOFFSETFROM:-0700
TZOFFSETTO:-0600
TZNAME:MDT
DTSTART:20230312T090000
END:DAYLIGHT
BEGIN:STANDARD
TZOFFSETFROM:-0600
TZOFFSETTO:-0700
TZNAME:MST
DTSTART:20231105T080000
END:STANDARD
END:VTIMEZONE
BEGIN:VEVENT
DTSTART;TZID=America/Denver:20221112T120000
DTEND;TZID=America/Denver:20221112T120000
DTSTAMP:20260423T171916
CREATED:20220914T165616Z
LAST-MODIFIED:20221011T214628Z
UID:3538-1668254400-1668254400@turner.k12.mt.us
SUMMARY:JHBB @ Chinook Jamboree
DESCRIPTION:vs. Box Elder Girls @12pm/Boys @ 1:30pm \nvs. Chinook Girls @ 3pm/Boys @ 4:30pm
URL:https://turner.k12.mt.us/event/jhbb-chinook-jamboree/
END:VEVENT
BEGIN:VEVENT
DTSTART;TZID=America/Denver:20221111T160000
DTEND;TZID=America/Denver:20221111T190000
DTSTAMP:20260423T171916
CREATED:20220914T165536Z
LAST-MODIFIED:20220914T165536Z
UID:3536-1668182400-1668193200@turner.k12.mt.us
SUMMARY:JHBB @ Hays
DESCRIPTION:
URL:https://turner.k12.mt.us/event/jhbb-hays/
END:VEVENT
BEGIN:VEVENT
DTSTART;VALUE=DATE:20221110
DTEND;VALUE=DATE:20221111
DTSTAMP:20260423T171916
CREATED:20220914T165444Z
LAST-MODIFIED:20220914T165444Z
UID:3534-1668038400-1668124799@turner.k12.mt.us
SUMMARY:Veteran's Day Program
DESCRIPTION:
URL:https://turner.k12.mt.us/event/veterans-day-program/
END:VEVENT
BEGIN:VEVENT
DTSTART;TZID=America/Denver:20221105T120000
DTEND;TZID=America/Denver:20221105T120000
DTSTAMP:20260423T171916
CREATED:20220914T165407Z
LAST-MODIFIED:20221011T214430Z
UID:3532-1667649600-1667649600@turner.k12.mt.us
SUMMARY:JHBB @ Box Elder Jamboree
DESCRIPTION:vs. Ft Benton Girls @ 12pm/Boys @ 1:30pm \nvs. Box Elder Girls @ 3:00pm/Boys @ 4:30pm
URL:https://turner.k12.mt.us/event/jhbb-box-elder-jamboree/
END:VEVENT
BEGIN:VEVENT
DTSTART;TZID=America/Denver:20221104T160000
DTEND;TZID=America/Denver:20221104T163000
DTSTAMP:20260423T171916
CREATED:20220914T165342Z
LAST-MODIFIED:20221024T161305Z
UID:3530-1667577600-1667579400@turner.k12.mt.us
SUMMARY:JHBB v. Chinook
DESCRIPTION:Girls @ 4pm/Boys @ 5:30pm
URL:https://turner.k12.mt.us/event/jhbb-v-chinook/
END:VEVENT
BEGIN:VEVENT
DTSTART;TZID=America/Denver:20221102T160000
DTEND;TZID=America/Denver:20221102T190000
DTSTAMP:20260423T171916
CREATED:20220914T165256Z
LAST-MODIFIED:20221011T214306Z
UID:3528-1667404800-1667415600@turner.k12.mt.us
SUMMARY:Parent/Teacher Conferences & Student Expo
DESCRIPTION:
URL:https://turner.k12.mt.us/event/parent-teacher-conferences-student-expo/
END:VEVENT
BEGIN:VEVENT
DTSTART;TZID=America/Denver:20221029T100000
DTEND;TZID=America/Denver:20221029T100000
DTSTAMP:20260423T171916
CREATED:20220914T165205Z
LAST-MODIFIED:20221024T161117Z
UID:3526-1667037600-1667037600@turner.k12.mt.us
SUMMARY:JHBB @ CJI Jamboree
DESCRIPTION:vs. CJI – Girls @ 10am/Boys @ 11:30am \nvs. Hays – Girls @ 1pm/Boys @ 2:30pm
URL:https://turner.k12.mt.us/event/jhbb-turner-jamboree/
END:VEVENT
BEGIN:VEVENT
DTSTART;TZID=America/Denver:20221028T120000
DTEND;TZID=America/Denver:20221028T120000
DTSTAMP:20260423T171916
CREATED:20220914T165124Z
LAST-MODIFIED:20221011T213751Z
UID:3524-1666958400-1666958400@turner.k12.mt.us
SUMMARY:JHBB @ Rudyard Jamboree
DESCRIPTION:Vs. Big Sandy Girls @ 12pm/Boys @1:30pm \nvs. North Star Girls @ 3:00pm/boys @ 4:30pm
URL:https://turner.k12.mt.us/event/jhbb-rudyard-jamboree/
END:VEVENT
BEGIN:VEVENT
DTSTART;VALUE=DATE:20221024
DTEND;VALUE=DATE:20221025
DTSTAMP:20260423T171916
CREATED:20220914T165036Z
LAST-MODIFIED:20220914T165036Z
UID:3522-1666569600-1666655999@turner.k12.mt.us
SUMMARY:Start of Q2
DESCRIPTION:
URL:https://turner.k12.mt.us/event/start-of-q2/
END:VEVENT
BEGIN:VEVENT
DTSTART;VALUE=DATE:20221021
DTEND;VALUE=DATE:20221023
DTSTAMP:20260423T171916
CREATED:20221011T214005Z
LAST-MODIFIED:20221011T214005Z
UID:3608-1666310400-1666483199@turner.k12.mt.us
SUMMARY:St. Jude's Tourney
DESCRIPTION:Friday vs. North Star – Girls @ 1:20pm/Boys @ 2:40pm \nSaturday vs. St. Jude’s – Girls @ 6:40pm/Boys @ 8pm
URL:https://turner.k12.mt.us/event/st-judes-tourney/
END:VEVENT
BEGIN:VEVENT
DTSTART;VALUE=DATE:20221020
DTEND;VALUE=DATE:20221021
DTSTAMP:20260423T171916
CREATED:20220914T164910Z
LAST-MODIFIED:20220914T164910Z
UID:3516-1666224000-1666310399@turner.k12.mt.us
SUMMARY:NO School
DESCRIPTION:
URL:https://turner.k12.mt.us/event/no-school-2/
END:VEVENT
BEGIN:VEVENT
DTSTART;TZID=America/Denver:20221019T123000
DTEND;TZID=America/Denver:20221019T123000
DTSTAMP:20260423T171916
CREATED:20220914T164848Z
LAST-MODIFIED:20220914T164848Z
UID:3514-1666182600-1666182600@turner.k12.mt.us
SUMMARY:School dismissed at 12:30pm
DESCRIPTION:
URL:https://turner.k12.mt.us/event/school-dismissed-at-1230pm/
END:VEVENT
BEGIN:VEVENT
DTSTART;VALUE=DATE:20221019
DTEND;VALUE=DATE:20221020
DTSTAMP:20260423T171916
CREATED:20220914T165018Z
LAST-MODIFIED:20220914T165018Z
UID:3520-1666137600-1666223999@turner.k12.mt.us
SUMMARY:End of Q1
DESCRIPTION:
URL:https://turner.k12.mt.us/event/end-of-q1/
END:VEVENT
BEGIN:VEVENT
DTSTART;VALUE=DATE:20221017
DTEND;VALUE=DATE:20221018
DTSTAMP:20260423T171916
CREATED:20220914T164801Z
LAST-MODIFIED:20221011T214214Z
UID:3512-1665964800-1666051199@turner.k12.mt.us
SUMMARY:School Picture Re-takes & JHBB Pictures
DESCRIPTION:
URL:https://turner.k12.mt.us/event/school-picture-re-takes-jhbb-pictures/
END:VEVENT
BEGIN:VEVENT
DTSTART;TZID=America/Denver:20221015T120000
DTEND;TZID=America/Denver:20221015T120000
DTSTAMP:20260423T171916
CREATED:20220914T164719Z
LAST-MODIFIED:20221011T213525Z
UID:3510-1665835200-1665835200@turner.k12.mt.us
SUMMARY:JHBB in Turner vs. CJI & Big Sandy
DESCRIPTION:Our girls will play CJI at 9:00am\, and Big Sandy at 3:00pm \nOur boys will play CJI at 10:30am and Big Sandy at 4:30pm
URL:https://turner.k12.mt.us/event/jhbb-cji-jamboree/
END:VEVENT
BEGIN:VEVENT
DTSTART;VALUE=DATE:20221010
DTEND;VALUE=DATE:20221011
DTSTAMP:20260423T171916
CREATED:20220914T164221Z
LAST-MODIFIED:20220914T164221Z
UID:3508-1665360000-1665446399@turner.k12.mt.us
SUMMARY:1st Day of JHBB Practice
DESCRIPTION:
URL:https://turner.k12.mt.us/event/1st-day-of-jhbb-practice/
END:VEVENT
BEGIN:VEVENT
DTSTART;TZID=America/Denver:20221007T190000
DTEND;TZID=America/Denver:20221007T190000
DTSTAMP:20260423T171916
CREATED:20220914T164150Z
LAST-MODIFIED:20220914T164150Z
UID:3506-1665169200-1665169200@turner.k12.mt.us
SUMMARY:HSBF @ Belt
DESCRIPTION:
URL:https://turner.k12.mt.us/event/hsbf-belt/
END:VEVENT
BEGIN:VEVENT
DTSTART;VALUE=DATE:20221001
DTEND;VALUE=DATE:20221002
DTSTAMP:20260423T171916
CREATED:20220907T204841Z
LAST-MODIFIED:20220907T204841Z
UID:3504-1664582400-1664668799@turner.k12.mt.us
SUMMARY:JHVB District Tournament @ Poplar
DESCRIPTION:
URL:https://turner.k12.mt.us/event/jhvb-district-tournament-poplar/
END:VEVENT
BEGIN:VEVENT
DTSTART;TZID=America/Denver:20220930T190000
DTEND;TZID=America/Denver:20220930T190000
DTSTAMP:20260423T171916
CREATED:20220907T204811Z
LAST-MODIFIED:20220907T204811Z
UID:3502-1664564400-1664564400@turner.k12.mt.us
SUMMARY:HSFB v. Ft. Benton *Senior Night
DESCRIPTION:
URL:https://turner.k12.mt.us/event/hsfb-v-ft-benton-senior-night/
END:VEVENT
BEGIN:VEVENT
DTSTART;TZID=America/Denver:20220924T130000
DTEND;TZID=America/Denver:20220924T130000
DTSTAMP:20260423T171916
CREATED:20220907T204556Z
LAST-MODIFIED:20220907T204556Z
UID:3498-1664024400-1664024400@turner.k12.mt.us
SUMMARY:HSFB @ Hays
DESCRIPTION:
URL:https://turner.k12.mt.us/event/hsfb-hays/
END:VEVENT
BEGIN:VEVENT
DTSTART;TZID=America/Denver:20220924T090000
DTEND;TZID=America/Denver:20220924T090000
DTSTAMP:20260423T171916
CREATED:20220907T204704Z
LAST-MODIFIED:20220907T204704Z
UID:3500-1664010000-1664010000@turner.k12.mt.us
SUMMARY:JHVB @ Harlem Jamboree
DESCRIPTION:
URL:https://turner.k12.mt.us/event/jhvb-harlem-jamboree/
END:VEVENT
BEGIN:VEVENT
DTSTART;TZID=America/Denver:20220923T133000
DTEND;TZID=America/Denver:20220923T133000
DTSTAMP:20260423T171916
CREATED:20220907T204505Z
LAST-MODIFIED:20220914T170454Z
UID:3494-1663939800-1663939800@turner.k12.mt.us
SUMMARY:Homecoming Coronation/Parade
DESCRIPTION:
URL:https://turner.k12.mt.us/event/homecoming-coronation-parade/
END:VEVENT
BEGIN:VEVENT
DTSTART;TZID=America/Denver:20220923T110000
DTEND;TZID=America/Denver:20220923T133000
DTSTAMP:20260423T171916
CREATED:20220907T204523Z
LAST-MODIFIED:20220914T170401Z
UID:3496-1663930800-1663939800@turner.k12.mt.us
SUMMARY:JH Carnival
DESCRIPTION:
URL:https://turner.k12.mt.us/event/jh-carnival/
END:VEVENT
BEGIN:VEVENT
DTSTART;TZID=America/Denver:20220920T163000
DTEND;TZID=America/Denver:20220920T163000
DTSTAMP:20260423T171916
CREATED:20220907T204439Z
LAST-MODIFIED:20220907T204439Z
UID:3492-1663691400-1663691400@turner.k12.mt.us
SUMMARY:JHVB vs. Malta
DESCRIPTION:
URL:https://turner.k12.mt.us/event/jhvb-vs-malta/
END:VEVENT
BEGIN:VEVENT
DTSTART;TZID=America/Denver:20220917T090000
DTEND;TZID=America/Denver:20220917T090000
DTSTAMP:20260423T171916
CREATED:20220907T204405Z
LAST-MODIFIED:20220907T204405Z
UID:3490-1663405200-1663405200@turner.k12.mt.us
SUMMARY:JHVB @ Scobey
DESCRIPTION:
URL:https://turner.k12.mt.us/event/jhvb-scobey/
END:VEVENT
BEGIN:VEVENT
DTSTART;TZID=America/Denver:20220916T190000
DTEND;TZID=America/Denver:20220916T190000
DTSTAMP:20260423T171916
CREATED:20220907T204300Z
LAST-MODIFIED:20220907T204300Z
UID:3486-1663354800-1663354800@turner.k12.mt.us
SUMMARY:HSBB vs. Chinook
DESCRIPTION:
URL:https://turner.k12.mt.us/event/hsbb-vs-chinook/
END:VEVENT
BEGIN:VEVENT
DTSTART;TZID=America/Denver:20220916T090000
DTEND;TZID=America/Denver:20220916T090000
DTSTAMP:20260423T171916
CREATED:20220907T204330Z
LAST-MODIFIED:20220907T204330Z
UID:3488-1663318800-1663318800@turner.k12.mt.us
SUMMARY:Homecoming - Paint the Street
DESCRIPTION:
URL:https://turner.k12.mt.us/event/homecoming-paint-the-street/
END:VEVENT
BEGIN:VEVENT
DTSTART;VALUE=DATE:20220915
DTEND;VALUE=DATE:20220916
DTSTAMP:20260423T171916
CREATED:20220907T204052Z
LAST-MODIFIED:20220907T204217Z
UID:3484-1663200000-1663286399@turner.k12.mt.us
SUMMARY:mid-term Q1
DESCRIPTION:
URL:https://turner.k12.mt.us/event/mid-term-q1/
END:VEVENT
BEGIN:VEVENT
DTSTART;VALUE=DATE:20220913
DTEND;VALUE=DATE:20220914
DTSTAMP:20260423T171916
CREATED:20220907T204036Z
LAST-MODIFIED:20220907T204036Z
UID:3482-1663027200-1663113599@turner.k12.mt.us
SUMMARY:School Pictures
DESCRIPTION:
URL:https://turner.k12.mt.us/event/school-pictures/
END:VEVENT
BEGIN:VEVENT
DTSTART;TZID=America/Denver:20220912T130000
DTEND;TZID=America/Denver:20220912T140000
DTSTAMP:20260423T171916
CREATED:20220907T204016Z
LAST-MODIFIED:20220907T204016Z
UID:3480-1662987600-1662991200@turner.k12.mt.us
SUMMARY:College Fair @ MSU-N
DESCRIPTION:
URL:https://turner.k12.mt.us/event/college-fair-msu-n/
END:VEVENT
END:VCALENDAR