BEGIN:VCALENDAR
VERSION:2.0
PRODID:-//Turner Public Schools - ECPv6.15.20//NONSGML v1.0//EN
CALSCALE:GREGORIAN
METHOD:PUBLISH
X-WR-CALNAME:Turner Public Schools
X-ORIGINAL-URL:https://turner.k12.mt.us
X-WR-CALDESC:Events for Turner Public Schools
REFRESH-INTERVAL;VALUE=DURATION:PT1H
X-Robots-Tag:noindex
X-PUBLISHED-TTL:PT1H
BEGIN:VTIMEZONE
TZID:America/Denver
BEGIN:DAYLIGHT
TZOFFSETFROM:-0700
TZOFFSETTO:-0600
TZNAME:MDT
DTSTART:20220313T090000
END:DAYLIGHT
BEGIN:STANDARD
TZOFFSETFROM:-0600
TZOFFSETTO:-0700
TZNAME:MST
DTSTART:20221106T080000
END:STANDARD
BEGIN:DAYLIGHT
TZOFFSETFROM:-0700
TZOFFSETTO:-0600
TZNAME:MDT
DTSTART:20230312T090000
END:DAYLIGHT
BEGIN:STANDARD
TZOFFSETFROM:-0600
TZOFFSETTO:-0700
TZNAME:MST
DTSTART:20231105T080000
END:STANDARD
BEGIN:DAYLIGHT
TZOFFSETFROM:-0700
TZOFFSETTO:-0600
TZNAME:MDT
DTSTART:20240310T090000
END:DAYLIGHT
BEGIN:STANDARD
TZOFFSETFROM:-0600
TZOFFSETTO:-0700
TZNAME:MST
DTSTART:20241103T080000
END:STANDARD
END:VTIMEZONE
BEGIN:VEVENT
DTSTART;TZID=America/Denver:20230329T090000
DTEND;TZID=America/Denver:20230329T120000
DTSTAMP:20260423T111829
CREATED:20230328T211739Z
LAST-MODIFIED:20230328T211739Z
UID:3756-1680080400-1680091200@turner.k12.mt.us
SUMMARY:Child Find Preschool Screening
DESCRIPTION:
URL:https://turner.k12.mt.us/event/child-find-preschool-screening/
END:VEVENT
BEGIN:VEVENT
DTSTART;TZID=America/Denver:20230328T080000
DTEND;TZID=America/Denver:20230403T170000
DTSTAMP:20260423T111829
CREATED:20230222T201505Z
LAST-MODIFIED:20230222T201505Z
UID:3745-1679990400-1680541200@turner.k12.mt.us
SUMMARY:Senior Trip to NOLA
DESCRIPTION:
URL:https://turner.k12.mt.us/event/senior-trip-to-nola/
END:VEVENT
BEGIN:VEVENT
DTSTART;TZID=America/Denver:20230328T080000
DTEND;TZID=America/Denver:20230328T120000
DTSTAMP:20260423T111829
CREATED:20230222T201440Z
LAST-MODIFIED:20230222T201440Z
UID:3743-1679990400-1680004800@turner.k12.mt.us
SUMMARY:ACT's (Juniors)
DESCRIPTION:
URL:https://turner.k12.mt.us/event/acts-juniors/
END:VEVENT
BEGIN:VEVENT
DTSTART;TZID=America/Denver:20230327T120000
DTEND;TZID=America/Denver:20230327T160000
DTSTAMP:20260423T111829
CREATED:20230124T175656Z
LAST-MODIFIED:20230124T175656Z
UID:3666-1679918400-1679932800@turner.k12.mt.us
SUMMARY:Math Contest
DESCRIPTION:
URL:https://turner.k12.mt.us/event/math-contest/
END:VEVENT
BEGIN:VEVENT
DTSTART;VALUE=DATE:20230327
DTEND;VALUE=DATE:20230328
DTSTAMP:20260423T111829
CREATED:20230222T201410Z
LAST-MODIFIED:20230222T201410Z
UID:3741-1679875200-1679961599@turner.k12.mt.us
SUMMARY:Math Contest @ Havre High
DESCRIPTION:
URL:https://turner.k12.mt.us/event/math-contest-havre-high/
END:VEVENT
BEGIN:VEVENT
DTSTART;TZID=America/Denver:20230325T100000
DTEND;TZID=America/Denver:20230325T140000
DTSTAMP:20260423T111829
CREATED:20230222T200417Z
LAST-MODIFIED:20230222T200802Z
UID:3728-1679738400-1679752800@turner.k12.mt.us
SUMMARY:Elementary BBall @ Hays
DESCRIPTION:vs. Hays – Girls @ 10am; Boys @ 11am \nvs. Chinook – Girls @ 12pm\, Boys @ 1pm
URL:https://turner.k12.mt.us/event/elementary-bball-hays/
END:VEVENT
BEGIN:VEVENT
DTSTART;TZID=America/Denver:20230321T080000
DTEND;TZID=America/Denver:20230325T170000
DTSTAMP:20260423T111829
CREATED:20230222T201341Z
LAST-MODIFIED:20230222T201341Z
UID:3739-1679385600-1679763600@turner.k12.mt.us
SUMMARY:State FFA Convention
DESCRIPTION:
URL:https://turner.k12.mt.us/event/state-ffa-convention/
END:VEVENT
BEGIN:VEVENT
DTSTART;TZID=America/Denver:20230318T120000
DTEND;TZID=America/Denver:20230318T160000
DTSTAMP:20260423T111829
CREATED:20230222T194914Z
LAST-MODIFIED:20230222T195101Z
UID:3726-1679140800-1679155200@turner.k12.mt.us
SUMMARY:Elementary BBall @ Chester
DESCRIPTION:vs. Box Elder – Girls @ 12pm\, Boys @1pm \nvs. CJI –  Girls @ 2pm\, Boys @ 3pm
URL:https://turner.k12.mt.us/event/elementary-bball-chester/
END:VEVENT
BEGIN:VEVENT
DTSTART;VALUE=DATE:20230313
DTEND;VALUE=DATE:20230314
DTSTAMP:20260423T111829
CREATED:20230222T201310Z
LAST-MODIFIED:20230222T201310Z
UID:3737-1678665600-1678751999@turner.k12.mt.us
SUMMARY:HS Track Practice Starts
DESCRIPTION:
URL:https://turner.k12.mt.us/event/hs-track-practice-starts-2/
END:VEVENT
BEGIN:VEVENT
DTSTART;VALUE=DATE:20230313
DTEND;VALUE=DATE:20230314
DTSTAMP:20260423T111829
CREATED:20230222T201247Z
LAST-MODIFIED:20230222T201605Z
UID:3735-1678665600-1678751999@turner.k12.mt.us
SUMMARY:Quarter 4
DESCRIPTION:
URL:https://turner.k12.mt.us/event/beginning-of-quarter-4/
END:VEVENT
BEGIN:VEVENT
DTSTART;TZID=America/Denver:20230311T100000
DTEND;TZID=America/Denver:20230311T160000
DTSTAMP:20260423T111829
CREATED:20230222T194824Z
LAST-MODIFIED:20230222T195023Z
UID:3724-1678528800-1678550400@turner.k12.mt.us
SUMMARY:Elementary BBall in Turner
DESCRIPTION:vs. St Jude’s – Girls @ 10am\, Boys @ 11am \nvs. North Star – Girls @ 2pm\, Boys @ 3pm
URL:https://turner.k12.mt.us/event/elementary-bball-in-turner/
END:VEVENT
BEGIN:VEVENT
DTSTART;VALUE=DATE:20230309
DTEND;VALUE=DATE:20230310
DTSTAMP:20260423T111829
CREATED:20230222T201228Z
LAST-MODIFIED:20230222T201228Z
UID:3733-1678320000-1678406399@turner.k12.mt.us
SUMMARY:End of Quarter 3
DESCRIPTION:
URL:https://turner.k12.mt.us/event/end-of-quarter-3-2/
END:VEVENT
BEGIN:VEVENT
DTSTART;VALUE=DATE:20230308
DTEND;VALUE=DATE:20230312
DTSTAMP:20260423T111829
CREATED:20220914T192310Z
LAST-MODIFIED:20220914T192507Z
UID:3594-1678233600-1678579199@turner.k12.mt.us
SUMMARY:State C Girls/Boys Tournament @ Billings
DESCRIPTION:
URL:https://turner.k12.mt.us/event/state-c-girls-boys-tournament-billings/
END:VEVENT
BEGIN:VEVENT
DTSTART;TZID=America/Denver:20230304T100000
DTEND;TZID=America/Denver:20230304T140000
DTSTAMP:20260423T111829
CREATED:20230222T194725Z
LAST-MODIFIED:20230222T194725Z
UID:3722-1677924000-1677938400@turner.k12.mt.us
SUMMARY:Elementary BBall @ Chinook
DESCRIPTION:vs. Chinook – Girls @ 10am\, Boys @ 11am \nvs. Hays – Girls @ 12pm\, Boys @ 1pm
URL:https://turner.k12.mt.us/event/elementary-bball-chinook/
END:VEVENT
BEGIN:VEVENT
DTSTART;TZID=America/Denver:20230223T080000
DTEND;TZID=America/Denver:20230223T100000
DTSTAMP:20260423T111829
CREATED:20230124T175232Z
LAST-MODIFIED:20230222T194951Z
UID:3664-1677139200-1677146400@turner.k12.mt.us
SUMMARY:County Spelling Bee in Chinook
DESCRIPTION:
URL:https://turner.k12.mt.us/event/county-spelling-bee-in-chinook-2/
END:VEVENT
BEGIN:VEVENT
DTSTART;VALUE=DATE:20230222
DTEND;VALUE=DATE:20230226
DTSTAMP:20260423T111829
CREATED:20220914T192234Z
LAST-MODIFIED:20220914T192234Z
UID:3592-1677024000-1677369599@turner.k12.mt.us
SUMMARY:Northern C Divisional Tournament @ Great Falls
DESCRIPTION:
URL:https://turner.k12.mt.us/event/northern-c-divisional-tournament-great-falls-2/
END:VEVENT
BEGIN:VEVENT
DTSTART;VALUE=DATE:20230215
DTEND;VALUE=DATE:20230219
DTSTAMP:20260423T111829
CREATED:20220914T192159Z
LAST-MODIFIED:20220914T192159Z
UID:3590-1676419200-1676764799@turner.k12.mt.us
SUMMARY:District 9C Tournament @ Havre
DESCRIPTION:
URL:https://turner.k12.mt.us/event/district-9c-tournament-havre/
END:VEVENT
BEGIN:VEVENT
DTSTART;TZID=America/Denver:20230211T150000
DTEND;TZID=America/Denver:20230211T180000
DTSTAMP:20260423T111829
CREATED:20220914T191956Z
LAST-MODIFIED:20220914T191956Z
UID:3588-1676127600-1676138400@turner.k12.mt.us
SUMMARY:HSBB @ Gildford
DESCRIPTION:
URL:https://turner.k12.mt.us/event/hsbb-gildford/
END:VEVENT
BEGIN:VEVENT
DTSTART;TZID=America/Denver:20230210T170000
DTEND;TZID=America/Denver:20230210T200000
DTSTAMP:20260423T111829
CREATED:20220914T191924Z
LAST-MODIFIED:20220914T191924Z
UID:3586-1676048400-1676059200@turner.k12.mt.us
SUMMARY:HSBB vs. Big Sandy
DESCRIPTION:
URL:https://turner.k12.mt.us/event/hsbb-vs-big-sandy/
END:VEVENT
BEGIN:VEVENT
DTSTART;TZID=America/Denver:20230207T081000
DTEND;TZID=America/Denver:20230207T093000
DTSTAMP:20260423T111829
CREATED:20230124T175106Z
LAST-MODIFIED:20230124T175106Z
UID:3660-1675757400-1675762200@turner.k12.mt.us
SUMMARY:Turner Spelling Bee 5th-8th grade
DESCRIPTION:
URL:https://turner.k12.mt.us/event/turner-spelling-bee-5th-8th-grade/
END:VEVENT
BEGIN:VEVENT
DTSTART;TZID=America/Denver:20230205T160000
DTEND;TZID=America/Denver:20230205T200000
DTSTAMP:20260423T111829
CREATED:20230124T175150Z
LAST-MODIFIED:20230124T175150Z
UID:3662-1675612800-1675627200@turner.k12.mt.us
SUMMARY:DC Club Valentines Dinner
DESCRIPTION:
URL:https://turner.k12.mt.us/event/dc-club-valentines-dinner-2/
END:VEVENT
BEGIN:VEVENT
DTSTART;TZID=America/Denver:20230204T180000
DTEND;TZID=America/Denver:20230204T210000
DTSTAMP:20260423T111829
CREATED:20220914T191850Z
LAST-MODIFIED:20220914T191850Z
UID:3584-1675533600-1675544400@turner.k12.mt.us
SUMMARY:HSBB vs. Chinook
DESCRIPTION:
URL:https://turner.k12.mt.us/event/hsbb-vs-chinook-2/
END:VEVENT
BEGIN:VEVENT
DTSTART;TZID=America/Denver:20230203T170000
DTEND;TZID=America/Denver:20230203T200000
DTSTAMP:20260423T111829
CREATED:20220914T191812Z
LAST-MODIFIED:20220914T191812Z
UID:3582-1675443600-1675454400@turner.k12.mt.us
SUMMARY:HSBB @ Hays
DESCRIPTION:
URL:https://turner.k12.mt.us/event/hsbb-hays/
END:VEVENT
BEGIN:VEVENT
DTSTART;VALUE=DATE:20230202
DTEND;VALUE=DATE:20230203
DTSTAMP:20260423T111829
CREATED:20230124T175004Z
LAST-MODIFIED:20230124T175004Z
UID:3658-1675296000-1675382399@turner.k12.mt.us
SUMMARY:Mid-Term Quarter 3
DESCRIPTION:
URL:https://turner.k12.mt.us/event/mid-term-quarter-3/
END:VEVENT
BEGIN:VEVENT
DTSTART;TZID=America/Denver:20230128T160000
DTEND;TZID=America/Denver:20230128T190000
DTSTAMP:20260423T111829
CREATED:20220914T191740Z
LAST-MODIFIED:20220914T191740Z
UID:3580-1674921600-1674932400@turner.k12.mt.us
SUMMARY:HSBB @ Box Elder
DESCRIPTION:
URL:https://turner.k12.mt.us/event/hsbb-box-elder/
END:VEVENT
BEGIN:VEVENT
DTSTART;TZID=America/Denver:20230127T173000
DTEND;TZID=America/Denver:20230127T203000
DTSTAMP:20260423T111829
CREATED:20220914T191701Z
LAST-MODIFIED:20220914T191701Z
UID:3578-1674840600-1674851400@turner.k12.mt.us
SUMMARY:HSBB vs. Dodson
DESCRIPTION:
URL:https://turner.k12.mt.us/event/hsbb-vs-dodson/
END:VEVENT
BEGIN:VEVENT
DTSTART;TZID=America/Denver:20230121T150000
DTEND;TZID=America/Denver:20230121T190000
DTSTAMP:20260423T111829
CREATED:20220914T191625Z
LAST-MODIFIED:20220914T191625Z
UID:3576-1674313200-1674327600@turner.k12.mt.us
SUMMARY:HSBB vs. CJI
DESCRIPTION:
URL:https://turner.k12.mt.us/event/hsbb-vs-cji/
END:VEVENT
BEGIN:VEVENT
DTSTART;TZID=America/Denver:20230120T160000
DTEND;TZID=America/Denver:20230120T190000
DTSTAMP:20260423T111829
CREATED:20220914T191553Z
LAST-MODIFIED:20220914T191553Z
UID:3574-1674230400-1674241200@turner.k12.mt.us
SUMMARY:HSBB @ Fort Benton
DESCRIPTION:
URL:https://turner.k12.mt.us/event/hsbb-fort-benton/
END:VEVENT
BEGIN:VEVENT
DTSTART;TZID=America/Denver:20230114T150000
DTEND;TZID=America/Denver:20230114T180000
DTSTAMP:20260423T111829
CREATED:20220914T191520Z
LAST-MODIFIED:20220914T191520Z
UID:3572-1673708400-1673719200@turner.k12.mt.us
SUMMARY:HSBB vs. North Star
DESCRIPTION:
URL:https://turner.k12.mt.us/event/hsbb-vs-north-star/
END:VEVENT
BEGIN:VEVENT
DTSTART;TZID=America/Denver:20230113T170000
DTEND;TZID=America/Denver:20230113T200000
DTSTAMP:20260423T111829
CREATED:20220914T191408Z
LAST-MODIFIED:20220914T191408Z
UID:3570-1673629200-1673640000@turner.k12.mt.us
SUMMARY:HSBB @ Big Sandy
DESCRIPTION:
URL:https://turner.k12.mt.us/event/hsbb-big-sandy/
END:VEVENT
END:VCALENDAR