BEGIN:VCALENDAR
VERSION:2.0
PRODID:-//Turner Public Schools - ECPv6.15.20//NONSGML v1.0//EN
CALSCALE:GREGORIAN
METHOD:PUBLISH
X-ORIGINAL-URL:https://turner.k12.mt.us
X-WR-CALDESC:Events for Turner Public Schools
REFRESH-INTERVAL;VALUE=DURATION:PT1H
X-Robots-Tag:noindex
X-PUBLISHED-TTL:PT1H
BEGIN:VTIMEZONE
TZID:America/Denver
BEGIN:DAYLIGHT
TZOFFSETFROM:-0700
TZOFFSETTO:-0600
TZNAME:MDT
DTSTART:20240310T090000
END:DAYLIGHT
BEGIN:STANDARD
TZOFFSETFROM:-0600
TZOFFSETTO:-0700
TZNAME:MST
DTSTART:20241103T080000
END:STANDARD
BEGIN:DAYLIGHT
TZOFFSETFROM:-0700
TZOFFSETTO:-0600
TZNAME:MDT
DTSTART:20250309T090000
END:DAYLIGHT
BEGIN:STANDARD
TZOFFSETFROM:-0600
TZOFFSETTO:-0700
TZNAME:MST
DTSTART:20251102T080000
END:STANDARD
BEGIN:DAYLIGHT
TZOFFSETFROM:-0700
TZOFFSETTO:-0600
TZNAME:MDT
DTSTART:20260308T090000
END:DAYLIGHT
BEGIN:STANDARD
TZOFFSETFROM:-0600
TZOFFSETTO:-0700
TZNAME:MST
DTSTART:20261101T080000
END:STANDARD
END:VTIMEZONE
BEGIN:VEVENT
DTSTART;VALUE=DATE:20251008
DTEND;VALUE=DATE:20251009
DTSTAMP:20260419T140549
CREATED:20250826T184755Z
LAST-MODIFIED:20250826T184755Z
UID:5683-1759881600-1759967999@turner.k12.mt.us
SUMMARY:MSUN TekNoXpo
DESCRIPTION:All 9th-12th graders will attend.
URL:https://turner.k12.mt.us/event/msun-teknoxpo/
END:VEVENT
BEGIN:VEVENT
DTSTART;TZID=America/Denver:20251009T163000
DTEND;TZID=America/Denver:20251009T200000
DTSTAMP:20260419T140549
CREATED:20250826T183248Z
LAST-MODIFIED:20250826T183248Z
UID:5650-1760027400-1760040000@turner.k12.mt.us
SUMMARY:HS VBall vs. Malta
DESCRIPTION:
URL:https://turner.k12.mt.us/event/hs-vball-vs-malta/
END:VEVENT
BEGIN:VEVENT
DTSTART;TZID=America/Denver:20251010T130000
DTEND;TZID=America/Denver:20251010T163000
DTSTAMP:20260419T140549
CREATED:20250826T183323Z
LAST-MODIFIED:20250826T183323Z
UID:5652-1760101200-1760113800@turner.k12.mt.us
SUMMARY:HS VBall vs. Glasgow
DESCRIPTION:
URL:https://turner.k12.mt.us/event/hs-vball-vs-glasgow/
END:VEVENT
BEGIN:VEVENT
DTSTART;TZID=America/Denver:20251011T130000
DTEND;TZID=America/Denver:20251011T163000
DTSTAMP:20260419T140549
CREATED:20250826T183357Z
LAST-MODIFIED:20250826T183414Z
UID:5654-1760187600-1760200200@turner.k12.mt.us
SUMMARY:HS VBall @ Wolf Point
DESCRIPTION:
URL:https://turner.k12.mt.us/event/hs-vball-glasgow-2/
END:VEVENT
BEGIN:VEVENT
DTSTART;VALUE=DATE:20251013
DTEND;VALUE=DATE:20251015
DTSTAMP:20260419T140549
CREATED:20250910T214020Z
LAST-MODIFIED:20250910T214020Z
UID:5783-1760313600-1760486399@turner.k12.mt.us
SUMMARY:FFA @ Nile
DESCRIPTION:
URL:https://turner.k12.mt.us/event/ffa-nile/
END:VEVENT
BEGIN:VEVENT
DTSTART;VALUE=DATE:20251013
DTEND;VALUE=DATE:20251014
DTSTAMP:20260419T140549
CREATED:20251009T172843Z
LAST-MODIFIED:20251009T172843Z
UID:5902-1760313600-1760399999@turner.k12.mt.us
SUMMARY:1st Day JH BBall
DESCRIPTION:
URL:https://turner.k12.mt.us/event/1st-day-jh-bball/
END:VEVENT
BEGIN:VEVENT
DTSTART;VALUE=DATE:20251015
DTEND;VALUE=DATE:20251016
DTSTAMP:20260419T140549
CREATED:20250826T184822Z
LAST-MODIFIED:20250826T184822Z
UID:5685-1760486400-1760572799@turner.k12.mt.us
SUMMARY:End of Q1
DESCRIPTION:
URL:https://turner.k12.mt.us/event/end-of-q1-2/
END:VEVENT
BEGIN:VEVENT
DTSTART;VALUE=DATE:20251016
DTEND;VALUE=DATE:20251017
DTSTAMP:20260419T140549
CREATED:20250826T184839Z
LAST-MODIFIED:20250826T184839Z
UID:5687-1760572800-1760659199@turner.k12.mt.us
SUMMARY:No School!
DESCRIPTION:
URL:https://turner.k12.mt.us/event/no-school-9/
END:VEVENT
BEGIN:VEVENT
DTSTART;TZID=America/Denver:20251017T130000
DTEND;TZID=America/Denver:20251017T163000
DTSTAMP:20260419T140549
CREATED:20250826T183453Z
LAST-MODIFIED:20250826T183453Z
UID:5657-1760706000-1760718600@turner.k12.mt.us
SUMMARY:HS VBall vs. Plentywood
DESCRIPTION:
URL:https://turner.k12.mt.us/event/hs-vball-vs-plentywood/
END:VEVENT
BEGIN:VEVENT
DTSTART;TZID=America/Denver:20251018T130000
DTEND;TZID=America/Denver:20251018T163000
DTSTAMP:20260419T140549
CREATED:20250826T183520Z
LAST-MODIFIED:20250826T183520Z
UID:5659-1760792400-1760805000@turner.k12.mt.us
SUMMARY:HS VBall vs. Fairview
DESCRIPTION:
URL:https://turner.k12.mt.us/event/hs-vball-vs-fairview/
END:VEVENT
BEGIN:VEVENT
DTSTART;VALUE=DATE:20251020
DTEND;VALUE=DATE:20251021
DTSTAMP:20260419T140549
CREATED:20250826T184900Z
LAST-MODIFIED:20250826T184900Z
UID:5689-1760918400-1761004799@turner.k12.mt.us
SUMMARY:Beginning of Q2
DESCRIPTION:
URL:https://turner.k12.mt.us/event/beginning-of-q2/
END:VEVENT
BEGIN:VEVENT
DTSTART;VALUE=DATE:20251020
DTEND;VALUE=DATE:20251021
DTSTAMP:20260419T140549
CREATED:20250826T184926Z
LAST-MODIFIED:20251009T172941Z
UID:5691-1760918400-1761004799@turner.k12.mt.us
SUMMARY:NEAN @ Dodson - Robert Bernard Johnson
DESCRIPTION:
URL:https://turner.k12.mt.us/event/nean-dodson-robert-bernard-johnson/
END:VEVENT
BEGIN:VEVENT
DTSTART;TZID=America/Denver:20251022T153000
DTEND;TZID=America/Denver:20251022T163000
DTSTAMP:20260419T140549
CREATED:20250826T184954Z
LAST-MODIFIED:20250826T184954Z
UID:5693-1761147000-1761150600@turner.k12.mt.us
SUMMARY:JH BBall Pictures
DESCRIPTION:
URL:https://turner.k12.mt.us/event/jh-bball-pictures/
END:VEVENT
BEGIN:VEVENT
DTSTART;TZID=America/Denver:20251023T160000
DTEND;TZID=America/Denver:20251023T190000
DTSTAMP:20260419T140549
CREATED:20251009T173136Z
LAST-MODIFIED:20251009T173136Z
UID:5904-1761235200-1761246000@turner.k12.mt.us
SUMMARY:Parent/Teacher Conferences
DESCRIPTION:If you have an Elementary Student\, please call and make an appointment for your conference. \nYou do not need appointments for 7-21th graders
URL:https://turner.k12.mt.us/event/parent-teacher-conferences-3/
END:VEVENT
BEGIN:VEVENT
DTSTART;TZID=America/Denver:20251023T163000
DTEND;TZID=America/Denver:20251023T200000
DTSTAMP:20260419T140549
CREATED:20250826T183557Z
LAST-MODIFIED:20250826T183557Z
UID:5661-1761237000-1761249600@turner.k12.mt.us
SUMMARY:HS VBall @ Malta
DESCRIPTION:
URL:https://turner.k12.mt.us/event/hs-vball-malta/
END:VEVENT
BEGIN:VEVENT
DTSTART;TZID=America/Denver:20251024T130000
DTEND;TZID=America/Denver:20251024T163000
DTSTAMP:20260419T140549
CREATED:20250826T183630Z
LAST-MODIFIED:20250826T183630Z
UID:5663-1761310800-1761323400@turner.k12.mt.us
SUMMARY:HS VBall vs. Poplar ** Senior Night**
DESCRIPTION:
URL:https://turner.k12.mt.us/event/hs-vball-vs-poplar-senior-night/
END:VEVENT
BEGIN:VEVENT
DTSTART;TZID=America/Denver:20251024T163000
DTEND;TZID=America/Denver:20251024T170000
DTSTAMP:20260419T140549
CREATED:20251009T173232Z
LAST-MODIFIED:20251009T173232Z
UID:5906-1761323400-1761325200@turner.k12.mt.us
SUMMARY:JHBB v. St. Judes
DESCRIPTION:
URL:https://turner.k12.mt.us/event/jhbb-v-st-judes-2/
END:VEVENT
BEGIN:VEVENT
DTSTART;TZID=America/Denver:20251025T120000
DTEND;TZID=America/Denver:20251025T150000
DTSTAMP:20260419T140549
CREATED:20251009T173315Z
LAST-MODIFIED:20251009T173315Z
UID:5908-1761393600-1761404400@turner.k12.mt.us
SUMMARY:JHBB v. Hays
DESCRIPTION:
URL:https://turner.k12.mt.us/event/jhbb-v-hays/
END:VEVENT
BEGIN:VEVENT
DTSTART;VALUE=DATE:20251030
DTEND;VALUE=DATE:20251102
DTSTAMP:20260419T140549
CREATED:20250826T183708Z
LAST-MODIFIED:20250826T183708Z
UID:5665-1761782400-1762041599@turner.k12.mt.us
SUMMARY:HS VBall District Tournament @ Wolf Point
DESCRIPTION:
URL:https://turner.k12.mt.us/event/hs-vball-district-tournament-wolf-point/
END:VEVENT
BEGIN:VEVENT
DTSTART;TZID=America/Denver:20251031T150000
DTEND;TZID=America/Denver:20251031T180000
DTSTAMP:20260419T140549
CREATED:20251009T173401Z
LAST-MODIFIED:20251009T173401Z
UID:5910-1761922800-1761933600@turner.k12.mt.us
SUMMARY:JHBB @ St. Judes
DESCRIPTION:
URL:https://turner.k12.mt.us/event/jhbb-st-judes/
END:VEVENT
BEGIN:VEVENT
DTSTART;TZID=America/Denver:20251101T120000
DTEND;TZID=America/Denver:20251101T150000
DTSTAMP:20260419T140549
CREATED:20251009T173446Z
LAST-MODIFIED:20251009T173446Z
UID:5912-1761998400-1762009200@turner.k12.mt.us
SUMMARY:JHBB @ St. Judes vs. Hays
DESCRIPTION:
URL:https://turner.k12.mt.us/event/jhbb-st-judes-vs-hays/
END:VEVENT
BEGIN:VEVENT
DTSTART;VALUE=DATE:20251106
DTEND;VALUE=DATE:20251109
DTSTAMP:20260419T140549
CREATED:20250826T183739Z
LAST-MODIFIED:20250826T183739Z
UID:5667-1762387200-1762646399@turner.k12.mt.us
SUMMARY:HS VBall Divisional Tourney @ Wolf Point
DESCRIPTION:
URL:https://turner.k12.mt.us/event/hs-vball-divisional-tourney-wolf-point/
END:VEVENT
BEGIN:VEVENT
DTSTART;TZID=America/Denver:20251107T160000
DTEND;TZID=America/Denver:20251107T190000
DTSTAMP:20260419T140549
CREATED:20251009T173535Z
LAST-MODIFIED:20251009T173535Z
UID:5914-1762531200-1762542000@turner.k12.mt.us
SUMMARY:JHBB vs. Box Elder
DESCRIPTION:
URL:https://turner.k12.mt.us/event/jhbb-vs-box-elder/
END:VEVENT
BEGIN:VEVENT
DTSTART;TZID=America/Denver:20251108T120000
DTEND;TZID=America/Denver:20251108T180000
DTSTAMP:20260419T140549
CREATED:20251009T173708Z
LAST-MODIFIED:20251009T173708Z
UID:5916-1762603200-1762624800@turner.k12.mt.us
SUMMARY:JHBB @ Big Sandy Jamboree
DESCRIPTION:Girls vs. North Star 12pm; Boys vs. North Star 1:30pm \nGirls vs. Big Sandy 3pm\, Boys vs. Big Sandy 4:30pm
URL:https://turner.k12.mt.us/event/jhbb-big-sandy-jamboree/
END:VEVENT
BEGIN:VEVENT
DTSTART;VALUE=DATE:20251113
DTEND;VALUE=DATE:20251116
DTSTAMP:20260419T140549
CREATED:20250826T183810Z
LAST-MODIFIED:20250826T183810Z
UID:5669-1762992000-1763251199@turner.k12.mt.us
SUMMARY:HS VBall State Tourney @ Bozeman
DESCRIPTION:
URL:https://turner.k12.mt.us/event/hs-vball-state-tourney-bozeman/
END:VEVENT
BEGIN:VEVENT
DTSTART;VALUE=DATE:20251113
DTEND;VALUE=DATE:20251114
DTSTAMP:20260419T140549
CREATED:20250826T185303Z
LAST-MODIFIED:20250826T185303Z
UID:5695-1762992000-1763078399@turner.k12.mt.us
SUMMARY:mid-term Q2
DESCRIPTION:
URL:https://turner.k12.mt.us/event/mid-term-q2-2/
END:VEVENT
BEGIN:VEVENT
DTSTART;VALUE=DATE:20251113
DTEND;VALUE=DATE:20251116
DTSTAMP:20260419T140549
CREATED:20251009T174131Z
LAST-MODIFIED:20251009T174131Z
UID:5924-1762992000-1763251199@turner.k12.mt.us
SUMMARY:FFA @ Ag-Expo in Bozeman
DESCRIPTION:
URL:https://turner.k12.mt.us/event/ffa-ag-expo-in-bozeman/
END:VEVENT
BEGIN:VEVENT
DTSTART;TZID=America/Denver:20251114T160000
DTEND;TZID=America/Denver:20251114T190000
DTSTAMP:20260419T140549
CREATED:20251009T173757Z
LAST-MODIFIED:20251009T173757Z
UID:5918-1763136000-1763146800@turner.k12.mt.us
SUMMARY:JHBB vs. Box Elder
DESCRIPTION:
URL:https://turner.k12.mt.us/event/jhbb-vs-box-elder-2/
END:VEVENT
BEGIN:VEVENT
DTSTART;TZID=America/Denver:20251115T090000
DTEND;TZID=America/Denver:20251115T180000
DTSTAMP:20260419T140549
CREATED:20251009T173903Z
LAST-MODIFIED:20251009T173903Z
UID:5920-1763197200-1763229600@turner.k12.mt.us
SUMMARY:JHBB Turner Jamboree
DESCRIPTION:Girls vs. North Star 9am; Boys vs. North Star 10:30am \nGirls vs. Big Sandy 3pm\, Boys vs. Big Sandy 4:30pm
URL:https://turner.k12.mt.us/event/jhbb-turner-jamboree-2/
END:VEVENT
BEGIN:VEVENT
DTSTART;VALUE=DATE:20251117
DTEND;VALUE=DATE:20251118
DTSTAMP:20260419T140549
CREATED:20250826T185332Z
LAST-MODIFIED:20251009T173012Z
UID:5697-1763337600-1763423999@turner.k12.mt.us
SUMMARY:NEAN @ Dodson - Rod Verdi Saxsational
DESCRIPTION:
URL:https://turner.k12.mt.us/event/nean-dodson-rod-verdi-saxsational/
END:VEVENT
END:VCALENDAR