BEGIN:VCALENDAR
VERSION:2.0
PRODID:-//Turner Public Schools - ECPv6.15.20//NONSGML v1.0//EN
CALSCALE:GREGORIAN
METHOD:PUBLISH
X-WR-CALNAME:Turner Public Schools
X-ORIGINAL-URL:https://turner.k12.mt.us
X-WR-CALDESC:Events for Turner Public Schools
REFRESH-INTERVAL;VALUE=DURATION:PT1H
X-Robots-Tag:noindex
X-PUBLISHED-TTL:PT1H
BEGIN:VTIMEZONE
TZID:America/Denver
BEGIN:DAYLIGHT
TZOFFSETFROM:-0700
TZOFFSETTO:-0600
TZNAME:MDT
DTSTART:20230312T090000
END:DAYLIGHT
BEGIN:STANDARD
TZOFFSETFROM:-0600
TZOFFSETTO:-0700
TZNAME:MST
DTSTART:20231105T080000
END:STANDARD
BEGIN:DAYLIGHT
TZOFFSETFROM:-0700
TZOFFSETTO:-0600
TZNAME:MDT
DTSTART:20240310T090000
END:DAYLIGHT
BEGIN:STANDARD
TZOFFSETFROM:-0600
TZOFFSETTO:-0700
TZNAME:MST
DTSTART:20241103T080000
END:STANDARD
BEGIN:DAYLIGHT
TZOFFSETFROM:-0700
TZOFFSETTO:-0600
TZNAME:MDT
DTSTART:20250309T090000
END:DAYLIGHT
BEGIN:STANDARD
TZOFFSETFROM:-0600
TZOFFSETTO:-0700
TZNAME:MST
DTSTART:20251102T080000
END:STANDARD
BEGIN:DAYLIGHT
TZOFFSETFROM:-0700
TZOFFSETTO:-0600
TZNAME:MDT
DTSTART:20260308T090000
END:DAYLIGHT
BEGIN:STANDARD
TZOFFSETFROM:-0600
TZOFFSETTO:-0700
TZNAME:MST
DTSTART:20261101T080000
END:STANDARD
END:VTIMEZONE
BEGIN:VEVENT
DTSTART;TZID=America/Denver:20250215T150000
DTEND;TZID=America/Denver:20250215T150000
DTSTAMP:20260421T082441
CREATED:20240821T170329Z
LAST-MODIFIED:20240821T170329Z
UID:4641-1739631600-1739631600@turner.k12.mt.us
SUMMARY:HSBB v North Star * Senior Night*
DESCRIPTION:SENIOR NIGHT
URL:https://turner.k12.mt.us/event/hsbb-v-north-star-senior-night/
END:VEVENT
BEGIN:VEVENT
DTSTART;TZID=America/Denver:20250214T170000
DTEND;TZID=America/Denver:20250214T170000
DTSTAMP:20260421T082441
CREATED:20240821T170252Z
LAST-MODIFIED:20240821T170252Z
UID:4639-1739552400-1739552400@turner.k12.mt.us
SUMMARY:HSBB @ Hays
DESCRIPTION:
URL:https://turner.k12.mt.us/event/hsbb-hays-2/
END:VEVENT
BEGIN:VEVENT
DTSTART;TZID=America/Denver:20250208T160000
DTEND;TZID=America/Denver:20250208T160000
DTSTAMP:20260421T082441
CREATED:20240821T170227Z
LAST-MODIFIED:20240821T170227Z
UID:4637-1739030400-1739030400@turner.k12.mt.us
SUMMARY:HSBB v. Ft Benton
DESCRIPTION:
URL:https://turner.k12.mt.us/event/hsbb-v-ft-benton/
END:VEVENT
BEGIN:VEVENT
DTSTART;TZID=America/Denver:20250207T170000
DTEND;TZID=America/Denver:20250207T170000
DTSTAMP:20260421T082441
CREATED:20240821T170155Z
LAST-MODIFIED:20240821T170155Z
UID:4635-1738947600-1738947600@turner.k12.mt.us
SUMMARY:HS BB @ Box Elder
DESCRIPTION:
URL:https://turner.k12.mt.us/event/hs-bb-box-elder/
END:VEVENT
BEGIN:VEVENT
DTSTART;VALUE=DATE:20250206
DTEND;VALUE=DATE:20250207
DTSTAMP:20260421T082441
CREATED:20240821T162310Z
LAST-MODIFIED:20240821T162310Z
UID:4597-1738800000-1738886399@turner.k12.mt.us
SUMMARY:Quarter 3 mid-term
DESCRIPTION:
URL:https://turner.k12.mt.us/event/quarter-3-mid-term/
END:VEVENT
BEGIN:VEVENT
DTSTART;VALUE=DATE:20250204
DTEND;VALUE=DATE:20250205
DTSTAMP:20260421T082441
CREATED:20240911T211614Z
LAST-MODIFIED:20240911T211614Z
UID:4673-1738627200-1738713599@turner.k12.mt.us
SUMMARY:FFA Spring Districts @ Havre
DESCRIPTION:
URL:https://turner.k12.mt.us/event/ffa-spring-districts-havre/
END:VEVENT
BEGIN:VEVENT
DTSTART;TZID=America/Denver:20250201T170000
DTEND;TZID=America/Denver:20250201T170000
DTSTAMP:20260421T082441
CREATED:20240821T163334Z
LAST-MODIFIED:20240821T163334Z
UID:4633-1738429200-1738429200@turner.k12.mt.us
SUMMARY:HSBB v North Country
DESCRIPTION:
URL:https://turner.k12.mt.us/event/hsbb-v-north-country/
END:VEVENT
BEGIN:VEVENT
DTSTART;TZID=America/Denver:20250125T050000
DTEND;TZID=America/Denver:20250125T050000
DTSTAMP:20260421T082441
CREATED:20240821T163308Z
LAST-MODIFIED:20240821T163308Z
UID:4631-1737781200-1737781200@turner.k12.mt.us
SUMMARY:HSBB @ Big Sandy
DESCRIPTION:
URL:https://turner.k12.mt.us/event/hsbb-big-sandy-3/
END:VEVENT
BEGIN:VEVENT
DTSTART;TZID=America/Denver:20250124T170000
DTEND;TZID=America/Denver:20250124T170000
DTSTAMP:20260421T082441
CREATED:20240821T163244Z
LAST-MODIFIED:20250120T224434Z
UID:4629-1737738000-1737738000@turner.k12.mt.us
SUMMARY:HSBB v CJI
DESCRIPTION:
URL:https://turner.k12.mt.us/event/hsbb-v-cji/
END:VEVENT
BEGIN:VEVENT
DTSTART;TZID=America/Denver:20250118T150000
DTEND;TZID=America/Denver:20250118T150000
DTSTAMP:20260421T082441
CREATED:20240821T163207Z
LAST-MODIFIED:20240821T163207Z
UID:4627-1737212400-1737212400@turner.k12.mt.us
SUMMARY:HS BB @ Gildford
DESCRIPTION:starts at 3
URL:https://turner.k12.mt.us/event/hs-bb-gildford/
END:VEVENT
BEGIN:VEVENT
DTSTART;TZID=America/Denver:20250117T050000
DTEND;TZID=America/Denver:20250117T050000
DTSTAMP:20260421T082441
CREATED:20240821T163132Z
LAST-MODIFIED:20240821T163132Z
UID:4625-1737090000-1737090000@turner.k12.mt.us
SUMMARY:HSBB v. Hays
DESCRIPTION:starts @ 5
URL:https://turner.k12.mt.us/event/hsbb-v-hays/
END:VEVENT
BEGIN:VEVENT
DTSTART;VALUE=DATE:20250117
DTEND;VALUE=DATE:20250118
DTSTAMP:20260421T082441
CREATED:20240821T162114Z
LAST-MODIFIED:20240821T162114Z
UID:4591-1737072000-1737158399@turner.k12.mt.us
SUMMARY:Friday School Day
DESCRIPTION:
URL:https://turner.k12.mt.us/event/friday-school-day-3/
END:VEVENT
BEGIN:VEVENT
DTSTART;TZID=America/Denver:20250111T160000
DTEND;TZID=America/Denver:20250111T160000
DTSTAMP:20260421T082441
CREATED:20240821T163051Z
LAST-MODIFIED:20240821T163051Z
UID:4623-1736611200-1736611200@turner.k12.mt.us
SUMMARY:HS BB @ Ft Benton
DESCRIPTION:
URL:https://turner.k12.mt.us/event/hs-bb-ft-benton/
END:VEVENT
BEGIN:VEVENT
DTSTART;TZID=America/Denver:20250110T050000
DTEND;TZID=America/Denver:20250110T050000
DTSTAMP:20260421T082441
CREATED:20240821T163017Z
LAST-MODIFIED:20240821T163017Z
UID:4621-1736485200-1736485200@turner.k12.mt.us
SUMMARY:HS BB v. Box Elder
DESCRIPTION:starts @ 5
URL:https://turner.k12.mt.us/event/hs-bb-v-box-elder/
END:VEVENT
BEGIN:VEVENT
DTSTART;VALUE=DATE:20250110
DTEND;VALUE=DATE:20250111
DTSTAMP:20260421T082441
CREATED:20240821T162053Z
LAST-MODIFIED:20240821T162053Z
UID:4589-1736467200-1736553599@turner.k12.mt.us
SUMMARY:Friday School Day
DESCRIPTION:
URL:https://turner.k12.mt.us/event/friday-school-day-2/
END:VEVENT
BEGIN:VEVENT
DTSTART;VALUE=DATE:20250106
DTEND;VALUE=DATE:20250107
DTSTAMP:20260421T082441
CREATED:20240821T162138Z
LAST-MODIFIED:20240821T162138Z
UID:4593-1736121600-1736207999@turner.k12.mt.us
SUMMARY:Quarter 3 begins
DESCRIPTION:
URL:https://turner.k12.mt.us/event/quarter-3-begins/
END:VEVENT
BEGIN:VEVENT
DTSTART;TZID=America/Denver:20250104T170000
DTEND;TZID=America/Denver:20250104T170000
DTSTAMP:20260421T082441
CREATED:20240821T162937Z
LAST-MODIFIED:20240821T162937Z
UID:4619-1736010000-1736010000@turner.k12.mt.us
SUMMARY:HS BB @ Whitewater
DESCRIPTION:starts @ 5
URL:https://turner.k12.mt.us/event/hs-bb-whitewater/
END:VEVENT
BEGIN:VEVENT
DTSTART;VALUE=DATE:20241225
DTEND;VALUE=DATE:20241226
DTSTAMP:20260421T082441
CREATED:20241113T182831Z
LAST-MODIFIED:20241113T182831Z
UID:4744-1735084800-1735171199@turner.k12.mt.us
SUMMARY:Merry Chirstmas
DESCRIPTION:
URL:https://turner.k12.mt.us/event/merry-chirstmas/
END:VEVENT
BEGIN:VEVENT
DTSTART;TZID=America/Denver:20241221T170000
DTEND;TZID=America/Denver:20241221T170000
DTSTAMP:20260421T082441
CREATED:20240821T162902Z
LAST-MODIFIED:20240821T162902Z
UID:4617-1734800400-1734800400@turner.k12.mt.us
SUMMARY:HS BB v. Big Sandy
DESCRIPTION:starts @ 5
URL:https://turner.k12.mt.us/event/hs-bb-v-big-sandy/
END:VEVENT
BEGIN:VEVENT
DTSTART;TZID=America/Denver:20241220T080000
DTEND;TZID=America/Denver:20241220T080000
DTSTAMP:20260421T082441
CREATED:20240821T162827Z
LAST-MODIFIED:20241113T182801Z
UID:4615-1734681600-1734681600@turner.k12.mt.us
SUMMARY:HS BB @ CJI
DESCRIPTION:starts @ 5pm
URL:https://turner.k12.mt.us/event/hs-bb-v-cji-msu-n/
END:VEVENT
BEGIN:VEVENT
DTSTART;VALUE=DATE:20241220
DTEND;VALUE=DATE:20250107
DTSTAMP:20260421T082441
CREATED:20240821T162018Z
LAST-MODIFIED:20240821T162018Z
UID:4587-1734652800-1736207999@turner.k12.mt.us
SUMMARY:Christmas Break
DESCRIPTION:
URL:https://turner.k12.mt.us/event/christmas-break/
END:VEVENT
BEGIN:VEVENT
DTSTART;VALUE=DATE:20241219
DTEND;VALUE=DATE:20241220
DTSTAMP:20260421T082441
CREATED:20241113T182712Z
LAST-MODIFIED:20241113T182712Z
UID:4741-1734566400-1734652799@turner.k12.mt.us
SUMMARY:Turner Elementary Christmas Program
DESCRIPTION:Dismissal after program
URL:https://turner.k12.mt.us/event/turner-elementary-christmas-program/
END:VEVENT
BEGIN:VEVENT
DTSTART;VALUE=DATE:20241219
DTEND;VALUE=DATE:20241220
DTSTAMP:20260421T082441
CREATED:20240821T161739Z
LAST-MODIFIED:20240821T161739Z
UID:4585-1734566400-1734652799@turner.k12.mt.us
SUMMARY:End Quarter 2
DESCRIPTION:
URL:https://turner.k12.mt.us/event/end-quarter-2/
END:VEVENT
BEGIN:VEVENT
DTSTART;VALUE=DATE:20241213
DTEND;VALUE=DATE:20241215
DTSTAMP:20260421T082441
CREATED:20240821T162753Z
LAST-MODIFIED:20240821T162753Z
UID:4613-1734048000-1734220799@turner.k12.mt.us
SUMMARY:Harlowton Tourney
DESCRIPTION:
URL:https://turner.k12.mt.us/event/harlowton-tourney/
END:VEVENT
BEGIN:VEVENT
DTSTART;VALUE=DATE:20241210
DTEND;VALUE=DATE:20241211
DTSTAMP:20260421T082441
CREATED:20240911T211501Z
LAST-MODIFIED:20240911T211929Z
UID:4671-1733788800-1733875199@turner.k12.mt.us
SUMMARY:FFA Winter Districts @ Fort Benton
DESCRIPTION:
URL:https://turner.k12.mt.us/event/ffa-winter-districts-fort-benton/
END:VEVENT
BEGIN:VEVENT
DTSTART;VALUE=DATE:20241206
DTEND;VALUE=DATE:20241208
DTSTAMP:20260421T082441
CREATED:20240821T162721Z
LAST-MODIFIED:20240821T162721Z
UID:4611-1733443200-1733615999@turner.k12.mt.us
SUMMARY:Class C Showcase @ Glasgow
DESCRIPTION:TBA
URL:https://turner.k12.mt.us/event/class-c-showcase-glasgow-2/
END:VEVENT
BEGIN:VEVENT
DTSTART;VALUE=DATE:20241204
DTEND;VALUE=DATE:20241208
DTSTAMP:20260421T082441
CREATED:20241113T182508Z
LAST-MODIFIED:20241113T182508Z
UID:4739-1733270400-1733615999@turner.k12.mt.us
SUMMARY:JH District 9C Basketball Tournament
DESCRIPTION:
URL:https://turner.k12.mt.us/event/jh-district-9c-basketball-tournament/
END:VEVENT
BEGIN:VEVENT
DTSTART;VALUE=DATE:20241128
DTEND;VALUE=DATE:20241129
DTSTAMP:20260421T082441
CREATED:20240821T161543Z
LAST-MODIFIED:20240821T161543Z
UID:4581-1732752000-1732838399@turner.k12.mt.us
SUMMARY:Happy Thanksgiving - No School
DESCRIPTION:
URL:https://turner.k12.mt.us/event/happy-thanksgiving-no-school/
END:VEVENT
BEGIN:VEVENT
DTSTART;TZID=America/Denver:20241127T123000
DTEND;TZID=America/Denver:20241127T123000
DTSTAMP:20260421T082441
CREATED:20240821T161516Z
LAST-MODIFIED:20240821T161516Z
UID:4579-1732710600-1732710600@turner.k12.mt.us
SUMMARY:School out at 12:30
DESCRIPTION:
URL:https://turner.k12.mt.us/event/school-out-at-1230/
END:VEVENT
BEGIN:VEVENT
DTSTART;VALUE=DATE:20241126
DTEND;VALUE=DATE:20241127
DTSTAMP:20260421T082441
CREATED:20240821T161443Z
LAST-MODIFIED:20240821T161443Z
UID:4577-1732579200-1732665599@turner.k12.mt.us
SUMMARY:Varsity Basketball Pictures
DESCRIPTION:
URL:https://turner.k12.mt.us/event/varsity-basketball-pictures/
END:VEVENT
END:VCALENDAR