BEGIN:VCALENDAR
VERSION:2.0
PRODID:-//Turner Public Schools - ECPv6.15.20//NONSGML v1.0//EN
CALSCALE:GREGORIAN
METHOD:PUBLISH
X-WR-CALNAME:Turner Public Schools
X-ORIGINAL-URL:https://turner.k12.mt.us
X-WR-CALDESC:Events for Turner Public Schools
REFRESH-INTERVAL;VALUE=DURATION:PT1H
X-Robots-Tag:noindex
X-PUBLISHED-TTL:PT1H
BEGIN:VTIMEZONE
TZID:America/Denver
BEGIN:DAYLIGHT
TZOFFSETFROM:-0700
TZOFFSETTO:-0600
TZNAME:MDT
DTSTART:20210314T090000
END:DAYLIGHT
BEGIN:STANDARD
TZOFFSETFROM:-0600
TZOFFSETTO:-0700
TZNAME:MST
DTSTART:20211107T080000
END:STANDARD
BEGIN:DAYLIGHT
TZOFFSETFROM:-0700
TZOFFSETTO:-0600
TZNAME:MDT
DTSTART:20220313T090000
END:DAYLIGHT
BEGIN:STANDARD
TZOFFSETFROM:-0600
TZOFFSETTO:-0700
TZNAME:MST
DTSTART:20221106T080000
END:STANDARD
BEGIN:DAYLIGHT
TZOFFSETFROM:-0700
TZOFFSETTO:-0600
TZNAME:MDT
DTSTART:20230312T090000
END:DAYLIGHT
BEGIN:STANDARD
TZOFFSETFROM:-0600
TZOFFSETTO:-0700
TZNAME:MST
DTSTART:20231105T080000
END:STANDARD
BEGIN:DAYLIGHT
TZOFFSETFROM:-0700
TZOFFSETTO:-0600
TZNAME:MDT
DTSTART:20240310T090000
END:DAYLIGHT
BEGIN:STANDARD
TZOFFSETFROM:-0600
TZOFFSETTO:-0700
TZNAME:MST
DTSTART:20241103T080000
END:STANDARD
END:VTIMEZONE
BEGIN:VEVENT
DTSTART;TZID=America/Denver:20230127T173000
DTEND;TZID=America/Denver:20230127T203000
DTSTAMP:20260423T140233
CREATED:20220914T191701Z
LAST-MODIFIED:20220914T191701Z
UID:3578-1674840600-1674851400@turner.k12.mt.us
SUMMARY:HSBB vs. Dodson
DESCRIPTION:
URL:https://turner.k12.mt.us/event/hsbb-vs-dodson/
END:VEVENT
BEGIN:VEVENT
DTSTART;TZID=America/Denver:20230121T150000
DTEND;TZID=America/Denver:20230121T190000
DTSTAMP:20260423T140233
CREATED:20220914T191625Z
LAST-MODIFIED:20220914T191625Z
UID:3576-1674313200-1674327600@turner.k12.mt.us
SUMMARY:HSBB vs. CJI
DESCRIPTION:
URL:https://turner.k12.mt.us/event/hsbb-vs-cji/
END:VEVENT
BEGIN:VEVENT
DTSTART;TZID=America/Denver:20230120T160000
DTEND;TZID=America/Denver:20230120T190000
DTSTAMP:20260423T140233
CREATED:20220914T191553Z
LAST-MODIFIED:20220914T191553Z
UID:3574-1674230400-1674241200@turner.k12.mt.us
SUMMARY:HSBB @ Fort Benton
DESCRIPTION:
URL:https://turner.k12.mt.us/event/hsbb-fort-benton/
END:VEVENT
BEGIN:VEVENT
DTSTART;TZID=America/Denver:20230114T150000
DTEND;TZID=America/Denver:20230114T180000
DTSTAMP:20260423T140233
CREATED:20220914T191520Z
LAST-MODIFIED:20220914T191520Z
UID:3572-1673708400-1673719200@turner.k12.mt.us
SUMMARY:HSBB vs. North Star
DESCRIPTION:
URL:https://turner.k12.mt.us/event/hsbb-vs-north-star/
END:VEVENT
BEGIN:VEVENT
DTSTART;TZID=America/Denver:20230113T170000
DTEND;TZID=America/Denver:20230113T200000
DTSTAMP:20260423T140233
CREATED:20220914T191408Z
LAST-MODIFIED:20220914T191408Z
UID:3570-1673629200-1673640000@turner.k12.mt.us
SUMMARY:HSBB @ Big Sandy
DESCRIPTION:
URL:https://turner.k12.mt.us/event/hsbb-big-sandy/
END:VEVENT
BEGIN:VEVENT
DTSTART;TZID=America/Denver:20230107T180000
DTEND;TZID=America/Denver:20230107T210000
DTSTAMP:20260423T140233
CREATED:20220914T191335Z
LAST-MODIFIED:20220914T191335Z
UID:3568-1673114400-1673125200@turner.k12.mt.us
SUMMARY:HSBB @ Chinook
DESCRIPTION:
URL:https://turner.k12.mt.us/event/hsbb-chinook/
END:VEVENT
BEGIN:VEVENT
DTSTART;TZID=America/Denver:20230106T170000
DTEND;TZID=America/Denver:20230106T200000
DTSTAMP:20260423T140233
CREATED:20220914T191251Z
LAST-MODIFIED:20220914T191251Z
UID:3566-1673024400-1673035200@turner.k12.mt.us
SUMMARY:HSBB vs. Hays
DESCRIPTION:
URL:https://turner.k12.mt.us/event/hsbb-vs-hays/
END:VEVENT
BEGIN:VEVENT
DTSTART;VALUE=DATE:20230103
DTEND;VALUE=DATE:20230104
DTSTAMP:20260423T140233
CREATED:20221206T215406Z
LAST-MODIFIED:20221206T215406Z
UID:3646-1672704000-1672790399@turner.k12.mt.us
SUMMARY:Start of Quarter 3/Semester 2
DESCRIPTION:
URL:https://turner.k12.mt.us/event/start-of-quarter-3-semester-2/
END:VEVENT
BEGIN:VEVENT
DTSTART;VALUE=DATE:20230101
DTEND;VALUE=DATE:20230102
DTSTAMP:20260423T140233
CREATED:20221206T215318Z
LAST-MODIFIED:20221206T215318Z
UID:3644-1672531200-1672617599@turner.k12.mt.us
SUMMARY:New Years Day 2023
DESCRIPTION:
URL:https://turner.k12.mt.us/event/new-years-day-2023/
END:VEVENT
BEGIN:VEVENT
DTSTART;VALUE=DATE:20221231
DTEND;VALUE=DATE:20230101
DTSTAMP:20260423T140233
CREATED:20221206T215256Z
LAST-MODIFIED:20221206T215256Z
UID:3642-1672444800-1672531199@turner.k12.mt.us
SUMMARY:New Years Eve
DESCRIPTION:
URL:https://turner.k12.mt.us/event/new-years-eve/
END:VEVENT
BEGIN:VEVENT
DTSTART;VALUE=DATE:20221225
DTEND;VALUE=DATE:20221226
DTSTAMP:20260423T140233
CREATED:20221206T215239Z
LAST-MODIFIED:20221206T215239Z
UID:3640-1671926400-1672012799@turner.k12.mt.us
SUMMARY:Christmas Day
DESCRIPTION:
URL:https://turner.k12.mt.us/event/christmas-day/
END:VEVENT
BEGIN:VEVENT
DTSTART;VALUE=DATE:20221224
DTEND;VALUE=DATE:20221225
DTSTAMP:20260423T140233
CREATED:20221206T215221Z
LAST-MODIFIED:20221206T215221Z
UID:3638-1671840000-1671926399@turner.k12.mt.us
SUMMARY:Christmas Eve
DESCRIPTION:
URL:https://turner.k12.mt.us/event/christmas-eve/
END:VEVENT
BEGIN:VEVENT
DTSTART;TZID=America/Denver:20221222T123000
DTEND;TZID=America/Denver:20221222T123000
DTSTAMP:20260423T140233
CREATED:20220914T192633Z
LAST-MODIFIED:20220914T192633Z
UID:3596-1671712200-1671712200@turner.k12.mt.us
SUMMARY:School Dismissed at 12:30 - Merry Christmas!
DESCRIPTION:
URL:https://turner.k12.mt.us/event/school-dismissed-at-1230-merry-christmas/
END:VEVENT
BEGIN:VEVENT
DTSTART;TZID=America/Denver:20221221T160000
DTEND;TZID=America/Denver:20221221T190000
DTSTAMP:20260423T140233
CREATED:20220914T191211Z
LAST-MODIFIED:20220914T191211Z
UID:3564-1671638400-1671649200@turner.k12.mt.us
SUMMARY:HSBB vs. Box Elder
DESCRIPTION:
URL:https://turner.k12.mt.us/event/hsbb-vs-box-elder/
END:VEVENT
BEGIN:VEVENT
DTSTART;TZID=America/Denver:20221220T190000
DTEND;TZID=America/Denver:20221220T190000
DTSTAMP:20260423T140233
CREATED:20221206T214927Z
LAST-MODIFIED:20221206T215144Z
UID:3636-1671562800-1671562800@turner.k12.mt.us
SUMMARY:Elementary Christmas Program
DESCRIPTION:
URL:https://turner.k12.mt.us/event/elementary-christmas-program/
END:VEVENT
BEGIN:VEVENT
DTSTART;TZID=America/Denver:20221219T173000
DTEND;TZID=America/Denver:20221219T203000
DTSTAMP:20260423T140233
CREATED:20220914T191118Z
LAST-MODIFIED:20220914T191118Z
UID:3562-1671471000-1671481800@turner.k12.mt.us
SUMMARY:HSBB @ Dodson
DESCRIPTION:
URL:https://turner.k12.mt.us/event/hsbb-dodson/
END:VEVENT
BEGIN:VEVENT
DTSTART;TZID=America/Denver:20221217T150000
DTEND;TZID=America/Denver:20221217T180000
DTSTAMP:20260423T140233
CREATED:20220914T171711Z
LAST-MODIFIED:20220914T171711Z
UID:3560-1671289200-1671300000@turner.k12.mt.us
SUMMARY:HSBB @ CJI
DESCRIPTION:
URL:https://turner.k12.mt.us/event/hsbb-cji/
END:VEVENT
BEGIN:VEVENT
DTSTART;TZID=America/Denver:20221216T160000
DTEND;TZID=America/Denver:20221216T190000
DTSTAMP:20260423T140233
CREATED:20220914T171547Z
LAST-MODIFIED:20220914T171547Z
UID:3558-1671206400-1671217200@turner.k12.mt.us
SUMMARY:HSBB v Fort Benton
DESCRIPTION:
URL:https://turner.k12.mt.us/event/hsbb-v-fort-benton/
END:VEVENT
BEGIN:VEVENT
DTSTART;TZID=America/Denver:20221208T120000
DTEND;TZID=America/Denver:20221208T140000
DTSTAMP:20260423T140233
CREATED:20221206T214752Z
LAST-MODIFIED:20221206T214752Z
UID:3634-1670500800-1670508000@turner.k12.mt.us
SUMMARY:MSU-Northern Game for 3rd-6th
DESCRIPTION:
URL:https://turner.k12.mt.us/event/msu-northern-game-for-3rd-6th/
END:VEVENT
BEGIN:VEVENT
DTSTART;VALUE=DATE:20221202
DTEND;VALUE=DATE:20221204
DTSTAMP:20260423T140233
CREATED:20220914T171459Z
LAST-MODIFIED:20220914T171459Z
UID:3556-1669939200-1670111999@turner.k12.mt.us
SUMMARY:Class C Showcase Tourney @ Glasgow
DESCRIPTION:
URL:https://turner.k12.mt.us/event/class-c-showcase-tourney-glasgow/
END:VEVENT
BEGIN:VEVENT
DTSTART;TZID=America/Denver:20221129T080000
DTEND;TZID=America/Denver:20221203T170000
DTSTAMP:20260423T140233
CREATED:20220914T170223Z
LAST-MODIFIED:20220914T170223Z
UID:3554-1669708800-1670086800@turner.k12.mt.us
SUMMARY:District 9C JHBB Tournament @ Gildford
DESCRIPTION:
URL:https://turner.k12.mt.us/event/district-9c-jhbb-tournament-gildford/
END:VEVENT
BEGIN:VEVENT
DTSTART;VALUE=DATE:20221124
DTEND;VALUE=DATE:20221125
DTSTAMP:20260423T140233
CREATED:20220914T170135Z
LAST-MODIFIED:20220914T170135Z
UID:3552-1669248000-1669334399@turner.k12.mt.us
SUMMARY:No School - Happy Thanksgiving
DESCRIPTION:
URL:https://turner.k12.mt.us/event/no-school-happy-thanksgiving/
END:VEVENT
BEGIN:VEVENT
DTSTART;TZID=America/Denver:20221123T123000
DTEND;TZID=America/Denver:20221123T123000
DTSTAMP:20260423T140233
CREATED:20220914T170113Z
LAST-MODIFIED:20220914T170113Z
UID:3550-1669206600-1669206600@turner.k12.mt.us
SUMMARY:School Dismissed at 12:30pm
DESCRIPTION:
URL:https://turner.k12.mt.us/event/school-dismissed-at-1230pm-2/
END:VEVENT
BEGIN:VEVENT
DTSTART;TZID=America/Denver:20221122T080000
DTEND;TZID=America/Denver:20221122T080000
DTSTAMP:20260423T140233
CREATED:20220914T165845Z
LAST-MODIFIED:20220914T165845Z
UID:3548-1669104000-1669104000@turner.k12.mt.us
SUMMARY:HSBB pictures
DESCRIPTION:
URL:https://turner.k12.mt.us/event/hsbb-pictures/
END:VEVENT
BEGIN:VEVENT
DTSTART;TZID=America/Denver:20221119T120000
DTEND;TZID=America/Denver:20221119T120000
DTSTAMP:20260423T140233
CREATED:20220914T165820Z
LAST-MODIFIED:20220914T165820Z
UID:3546-1668859200-1668859200@turner.k12.mt.us
SUMMARY:JHBB v. Ft. Benton
DESCRIPTION:
URL:https://turner.k12.mt.us/event/jhbb-v-ft-benton/
END:VEVENT
BEGIN:VEVENT
DTSTART;TZID=America/Denver:20221118T160000
DTEND;TZID=America/Denver:20221118T160000
DTSTAMP:20260423T140233
CREATED:20220914T165746Z
LAST-MODIFIED:20220914T165746Z
UID:3544-1668787200-1668787200@turner.k12.mt.us
SUMMARY:1st HSBB practice
DESCRIPTION:
URL:https://turner.k12.mt.us/event/1st-hsbb-practice/
END:VEVENT
BEGIN:VEVENT
DTSTART;TZID=America/Denver:20221118T160000
DTEND;TZID=America/Denver:20221118T160000
DTSTAMP:20260423T140233
CREATED:20220914T165718Z
LAST-MODIFIED:20220914T165718Z
UID:3542-1668787200-1668787200@turner.k12.mt.us
SUMMARY:JHBB v. St. Judes
DESCRIPTION:
URL:https://turner.k12.mt.us/event/jhbb-v-st-judes/
END:VEVENT
BEGIN:VEVENT
DTSTART;VALUE=DATE:20221117
DTEND;VALUE=DATE:20221118
DTSTAMP:20260423T140233
CREATED:20220914T165636Z
LAST-MODIFIED:20220914T165636Z
UID:3540-1668643200-1668729599@turner.k12.mt.us
SUMMARY:mid-term Q2
DESCRIPTION:
URL:https://turner.k12.mt.us/event/mid-term-q2/
END:VEVENT
BEGIN:VEVENT
DTSTART;TZID=America/Denver:20221112T120000
DTEND;TZID=America/Denver:20221112T120000
DTSTAMP:20260423T140233
CREATED:20220914T165616Z
LAST-MODIFIED:20221011T214628Z
UID:3538-1668254400-1668254400@turner.k12.mt.us
SUMMARY:JHBB @ Chinook Jamboree
DESCRIPTION:vs. Box Elder Girls @12pm/Boys @ 1:30pm \nvs. Chinook Girls @ 3pm/Boys @ 4:30pm
URL:https://turner.k12.mt.us/event/jhbb-chinook-jamboree/
END:VEVENT
BEGIN:VEVENT
DTSTART;TZID=America/Denver:20221111T160000
DTEND;TZID=America/Denver:20221111T190000
DTSTAMP:20260423T140233
CREATED:20220914T165536Z
LAST-MODIFIED:20220914T165536Z
UID:3536-1668182400-1668193200@turner.k12.mt.us
SUMMARY:JHBB @ Hays
DESCRIPTION:
URL:https://turner.k12.mt.us/event/jhbb-hays/
END:VEVENT
END:VCALENDAR