BEGIN:VCALENDAR
VERSION:2.0
PRODID:-//Turner Public Schools - ECPv6.15.20//NONSGML v1.0//EN
CALSCALE:GREGORIAN
METHOD:PUBLISH
X-WR-CALNAME:Turner Public Schools
X-ORIGINAL-URL:https://turner.k12.mt.us
X-WR-CALDESC:Events for Turner Public Schools
REFRESH-INTERVAL;VALUE=DURATION:PT1H
X-Robots-Tag:noindex
X-PUBLISHED-TTL:PT1H
BEGIN:VTIMEZONE
TZID:America/Denver
BEGIN:DAYLIGHT
TZOFFSETFROM:-0700
TZOFFSETTO:-0600
TZNAME:MDT
DTSTART:20220313T090000
END:DAYLIGHT
BEGIN:STANDARD
TZOFFSETFROM:-0600
TZOFFSETTO:-0700
TZNAME:MST
DTSTART:20221106T080000
END:STANDARD
BEGIN:DAYLIGHT
TZOFFSETFROM:-0700
TZOFFSETTO:-0600
TZNAME:MDT
DTSTART:20230312T090000
END:DAYLIGHT
BEGIN:STANDARD
TZOFFSETFROM:-0600
TZOFFSETTO:-0700
TZNAME:MST
DTSTART:20231105T080000
END:STANDARD
BEGIN:DAYLIGHT
TZOFFSETFROM:-0700
TZOFFSETTO:-0600
TZNAME:MDT
DTSTART:20240310T090000
END:DAYLIGHT
BEGIN:STANDARD
TZOFFSETFROM:-0600
TZOFFSETTO:-0700
TZNAME:MST
DTSTART:20241103T080000
END:STANDARD
END:VTIMEZONE
BEGIN:VEVENT
DTSTART;VALUE=DATE:20231023
DTEND;VALUE=DATE:20231024
DTSTAMP:20260423T044939
CREATED:20230817T184425Z
LAST-MODIFIED:20230817T184425Z
UID:3868-1698019200-1698105599@turner.k12.mt.us
SUMMARY:Quarter 2 Begins
DESCRIPTION:
URL:https://turner.k12.mt.us/event/quarter-2-begins/
END:VEVENT
BEGIN:VEVENT
DTSTART;TZID=America/Denver:20231021T130000
DTEND;TZID=America/Denver:20231021T130000
DTSTAMP:20260423T044939
CREATED:20230817T183704Z
LAST-MODIFIED:20230817T183704Z
UID:3848-1697893200-1697893200@turner.k12.mt.us
SUMMARY:HS VB v. Poplar * Senior Night*
DESCRIPTION:
URL:https://turner.k12.mt.us/event/hs-vb-v-poplar-senior-night/
END:VEVENT
BEGIN:VEVENT
DTSTART;TZID=America/Denver:20231020T000000
DTEND;TZID=America/Denver:20231020T000000
DTSTAMP:20260423T044939
CREATED:20230817T183617Z
LAST-MODIFIED:20230817T183617Z
UID:3846-1697760000-1697760000@turner.k12.mt.us
SUMMARY:HS VB @ Conrad
DESCRIPTION:
URL:https://turner.k12.mt.us/event/hs-vb-conrad/
END:VEVENT
BEGIN:VEVENT
DTSTART;VALUE=DATE:20231019
DTEND;VALUE=DATE:20231020
DTSTAMP:20260423T044939
CREATED:20230817T184405Z
LAST-MODIFIED:20230817T184405Z
UID:3866-1697673600-1697759999@turner.k12.mt.us
SUMMARY:NO SCHOOL
DESCRIPTION:
URL:https://turner.k12.mt.us/event/no-school-3/
END:VEVENT
BEGIN:VEVENT
DTSTART;VALUE=DATE:20231018
DTEND;VALUE=DATE:20231019
DTSTAMP:20260423T044939
CREATED:20230817T184301Z
LAST-MODIFIED:20230817T184301Z
UID:3862-1697587200-1697673599@turner.k12.mt.us
SUMMARY:End of Quarter 1
DESCRIPTION:
URL:https://turner.k12.mt.us/event/end-of-quarter-1/
END:VEVENT
BEGIN:VEVENT
DTSTART;VALUE=DATE:20231017
DTEND;VALUE=DATE:20231025
DTSTAMP:20260423T044939
CREATED:20230817T184338Z
LAST-MODIFIED:20230912T160913Z
UID:3864-1697500800-1698191999@turner.k12.mt.us
SUMMARY:DC Club Trip
DESCRIPTION:
URL:https://turner.k12.mt.us/event/dc-club-trip/
END:VEVENT
BEGIN:VEVENT
DTSTART;TZID=America/Denver:20231016T161500
DTEND;TZID=America/Denver:20231016T161500
DTSTAMP:20260423T044939
CREATED:20230817T183524Z
LAST-MODIFIED:20230817T183524Z
UID:3844-1697472900-1697472900@turner.k12.mt.us
SUMMARY:HS VB @ Rocky Boy
DESCRIPTION:
URL:https://turner.k12.mt.us/event/hs-vb-rocky-boy/
END:VEVENT
BEGIN:VEVENT
DTSTART;TZID=America/Denver:20231016T000000
DTEND;TZID=America/Denver:20231016T000000
DTSTAMP:20260423T044939
CREATED:20230817T184105Z
LAST-MODIFIED:20230912T160815Z
UID:3860-1697414400-1697414400@turner.k12.mt.us
SUMMARY:JH Basketball Pictures
DESCRIPTION:
URL:https://turner.k12.mt.us/event/jh-basketball-pictures-and-school-re-takes/
END:VEVENT
BEGIN:VEVENT
DTSTART;VALUE=DATE:20231016
DTEND;VALUE=DATE:20231018
DTSTAMP:20260423T044939
CREATED:20230912T160435Z
LAST-MODIFIED:20230912T160435Z
UID:3939-1697414400-1697587199@turner.k12.mt.us
SUMMARY:FFA @ NILE in Billings
DESCRIPTION:
URL:https://turner.k12.mt.us/event/ffa-nile-in-billings/
END:VEVENT
BEGIN:VEVENT
DTSTART;TZID=America/Denver:20231014T130000
DTEND;TZID=America/Denver:20231014T130000
DTSTAMP:20260423T044939
CREATED:20230817T183439Z
LAST-MODIFIED:20230817T183439Z
UID:3842-1697288400-1697288400@turner.k12.mt.us
SUMMARY:HS VB @ Wolf Point
DESCRIPTION:
URL:https://turner.k12.mt.us/event/hs-vb-wolf-point/
END:VEVENT
BEGIN:VEVENT
DTSTART;TZID=America/Denver:20231012T163000
DTEND;TZID=America/Denver:20231012T163000
DTSTAMP:20260423T044939
CREATED:20230817T183358Z
LAST-MODIFIED:20230817T183358Z
UID:3840-1697128200-1697128200@turner.k12.mt.us
SUMMARY:HS VB v. Malta
DESCRIPTION:
URL:https://turner.k12.mt.us/event/hs-vb-v-malta/
END:VEVENT
BEGIN:VEVENT
DTSTART;VALUE=DATE:20231012
DTEND;VALUE=DATE:20231013
DTSTAMP:20260423T044939
CREATED:20230817T184033Z
LAST-MODIFIED:20230817T184234Z
UID:3858-1697068800-1697155199@turner.k12.mt.us
SUMMARY:MSU-Northern TekNoXpo
DESCRIPTION:
URL:https://turner.k12.mt.us/event/msu-northern-teknoxpo/
END:VEVENT
BEGIN:VEVENT
DTSTART;TZID=America/Denver:20231010T163000
DTEND;TZID=America/Denver:20231010T163000
DTSTAMP:20260423T044939
CREATED:20230817T183322Z
LAST-MODIFIED:20230817T183322Z
UID:3838-1696955400-1696955400@turner.k12.mt.us
SUMMARY:HS VB v. North Country
DESCRIPTION:
URL:https://turner.k12.mt.us/event/hs-vb-v-north-country/
END:VEVENT
BEGIN:VEVENT
DTSTART;TZID=America/Denver:20231007T130000
DTEND;TZID=America/Denver:20231007T130000
DTSTAMP:20260423T044939
CREATED:20230817T183244Z
LAST-MODIFIED:20230817T183244Z
UID:3836-1696683600-1696683600@turner.k12.mt.us
SUMMARY:HS VB @ Glasgow
DESCRIPTION:
URL:https://turner.k12.mt.us/event/hs-vb-glasgow-2/
END:VEVENT
BEGIN:VEVENT
DTSTART;VALUE=DATE:20231003
DTEND;VALUE=DATE:20231004
DTSTAMP:20260423T044939
CREATED:20230912T160403Z
LAST-MODIFIED:20230912T160403Z
UID:3937-1696291200-1696377599@turner.k12.mt.us
SUMMARY:FFA @ Lewistown
DESCRIPTION:Fall Districts
URL:https://turner.k12.mt.us/event/ffa-lewistown/
END:VEVENT
BEGIN:VEVENT
DTSTART;TZID=America/Denver:20230929T130000
DTEND;TZID=America/Denver:20230929T170000
DTSTAMP:20260423T044939
CREATED:20230817T183035Z
LAST-MODIFIED:20230817T183035Z
UID:3832-1695992400-1696006800@turner.k12.mt.us
SUMMARY:HS VB v. Fairview
DESCRIPTION:
URL:https://turner.k12.mt.us/event/hs-vb-v-fairview/
END:VEVENT
BEGIN:VEVENT
DTSTART;TZID=America/Denver:20230925T161500
DTEND;TZID=America/Denver:20230925T161500
DTSTAMP:20260423T044939
CREATED:20230817T183124Z
LAST-MODIFIED:20230817T183124Z
UID:3834-1695658500-1695658500@turner.k12.mt.us
SUMMARY:HS VB v. Rocky Boy
DESCRIPTION:
URL:https://turner.k12.mt.us/event/hs-vb-v-rocky-boy/
END:VEVENT
BEGIN:VEVENT
DTSTART;VALUE=DATE:20230921
DTEND;VALUE=DATE:20230922
DTSTAMP:20260423T044939
CREATED:20230817T184000Z
LAST-MODIFIED:20230817T184000Z
UID:3856-1695254400-1695340799@turner.k12.mt.us
SUMMARY:Mid-term of Quarter 1
DESCRIPTION:
URL:https://turner.k12.mt.us/event/mid-term-of-quarter-1/
END:VEVENT
BEGIN:VEVENT
DTSTART;TZID=America/Denver:20230915T080000
DTEND;TZID=America/Denver:20230915T170000
DTSTAMP:20260423T044939
CREATED:20230817T182952Z
LAST-MODIFIED:20230817T182952Z
UID:3830-1694764800-1694797200@turner.k12.mt.us
SUMMARY:HS VB v. Conrad
DESCRIPTION:
URL:https://turner.k12.mt.us/event/hs-vb-v-conrad/
END:VEVENT
BEGIN:VEVENT
DTSTART;TZID=America/Denver:20230914T163000
DTEND;TZID=America/Denver:20230914T163000
DTSTAMP:20260423T044939
CREATED:20230817T175109Z
LAST-MODIFIED:20230817T182922Z
UID:3828-1694709000-1694709000@turner.k12.mt.us
SUMMARY:HS VB @ Malta
DESCRIPTION:
URL:https://turner.k12.mt.us/event/hs-vb-malta/
END:VEVENT
BEGIN:VEVENT
DTSTART;VALUE=DATE:20230913
DTEND;VALUE=DATE:20230914
DTSTAMP:20260423T044939
CREATED:20230912T155239Z
LAST-MODIFIED:20230912T155239Z
UID:3935-1694563200-1694649599@turner.k12.mt.us
SUMMARY:FFA @ Grass Range
DESCRIPTION:
URL:https://turner.k12.mt.us/event/ffa-grass-range/
END:VEVENT
BEGIN:VEVENT
DTSTART;TZID=America/Denver:20230912T080000
DTEND;TZID=America/Denver:20230912T170000
DTSTAMP:20260423T044939
CREATED:20230817T183937Z
LAST-MODIFIED:20230817T183937Z
UID:3854-1694505600-1694538000@turner.k12.mt.us
SUMMARY:SCHOOL PICTURES!
DESCRIPTION:
URL:https://turner.k12.mt.us/event/school-pictures-2/
END:VEVENT
BEGIN:VEVENT
DTSTART;TZID=America/Denver:20230911T123000
DTEND;TZID=America/Denver:20230911T123000
DTSTAMP:20260423T044939
CREATED:20230817T183912Z
LAST-MODIFIED:20230817T183912Z
UID:3852-1694435400-1694435400@turner.k12.mt.us
SUMMARY:MSU-Norther College/Career Fair
DESCRIPTION:Juniors & Seniors are encouraged to attend the college/career fair and we will need volunteer parent drivers.
URL:https://turner.k12.mt.us/event/msu-norther-college-career-fair/
END:VEVENT
BEGIN:VEVENT
DTSTART;TZID=America/Denver:20230909T130000
DTEND;TZID=America/Denver:20230909T130000
DTSTAMP:20260423T044939
CREATED:20230817T175018Z
LAST-MODIFIED:20230817T175018Z
UID:3826-1694264400-1694264400@turner.k12.mt.us
SUMMARY:HS VB @ Glasgow
DESCRIPTION:
URL:https://turner.k12.mt.us/event/hs-vb-glasgow/
END:VEVENT
BEGIN:VEVENT
DTSTART;TZID=America/Denver:20230907T170000
DTEND;TZID=America/Denver:20230907T170000
DTSTAMP:20260423T044939
CREATED:20230817T174939Z
LAST-MODIFIED:20230817T174939Z
UID:3824-1694106000-1694106000@turner.k12.mt.us
SUMMARY:HS VB @ Whitewater
DESCRIPTION:
URL:https://turner.k12.mt.us/event/hs-vb-whitewater/
END:VEVENT
BEGIN:VEVENT
DTSTART;VALUE=DATE:20230904
DTEND;VALUE=DATE:20230905
DTSTAMP:20260423T044939
CREATED:20230817T183755Z
LAST-MODIFIED:20230817T183755Z
UID:3850-1693785600-1693871999@turner.k12.mt.us
SUMMARY:Labor Day -  No School
DESCRIPTION:
URL:https://turner.k12.mt.us/event/labor-day-no-school-2/
END:VEVENT
BEGIN:VEVENT
DTSTART;TZID=America/Denver:20230902T110000
DTEND;TZID=America/Denver:20230902T150000
DTSTAMP:20260423T044939
CREATED:20230817T174309Z
LAST-MODIFIED:20230817T174309Z
UID:3822-1693652400-1693666800@turner.k12.mt.us
SUMMARY:HS VB @ Fairview
DESCRIPTION:
URL:https://turner.k12.mt.us/event/hs-vb-fairview/
END:VEVENT
BEGIN:VEVENT
DTSTART;TZID=America/Denver:20230901T150000
DTEND;TZID=America/Denver:20230901T190000
DTSTAMP:20260423T044939
CREATED:20230817T174236Z
LAST-MODIFIED:20230817T174236Z
UID:3820-1693580400-1693594800@turner.k12.mt.us
SUMMARY:HS VB @ Poplar
DESCRIPTION:
URL:https://turner.k12.mt.us/event/hs-vb-poplar/
END:VEVENT
BEGIN:VEVENT
DTSTART;TZID=America/Denver:20230831T160000
DTEND;TZID=America/Denver:20230831T200000
DTSTAMP:20260423T044939
CREATED:20230817T174155Z
LAST-MODIFIED:20230817T174155Z
UID:3818-1693497600-1693512000@turner.k12.mt.us
SUMMARY:HS VB v. Wolf Point
DESCRIPTION:
URL:https://turner.k12.mt.us/event/hs-vb-v-wolf-point/
END:VEVENT
BEGIN:VEVENT
DTSTART;VALUE=DATE:20230826
DTEND;VALUE=DATE:20230827
DTSTAMP:20260423T044939
CREATED:20230817T173639Z
LAST-MODIFIED:20230817T173639Z
UID:3816-1693008000-1693094399@turner.k12.mt.us
SUMMARY:HS VB @ Malta Invitational
DESCRIPTION:
URL:https://turner.k12.mt.us/event/hs-vb-malta-invitational/
END:VEVENT
END:VCALENDAR