BEGIN:VCALENDAR
VERSION:2.0
PRODID:-//Turner Public Schools - ECPv6.15.20//NONSGML v1.0//EN
CALSCALE:GREGORIAN
METHOD:PUBLISH
X-WR-CALNAME:Turner Public Schools
X-ORIGINAL-URL:https://turner.k12.mt.us
X-WR-CALDESC:Events for Turner Public Schools
REFRESH-INTERVAL;VALUE=DURATION:PT1H
X-Robots-Tag:noindex
X-PUBLISHED-TTL:PT1H
BEGIN:VTIMEZONE
TZID:America/Denver
BEGIN:DAYLIGHT
TZOFFSETFROM:-0700
TZOFFSETTO:-0600
TZNAME:MDT
DTSTART:20220313T090000
END:DAYLIGHT
BEGIN:STANDARD
TZOFFSETFROM:-0600
TZOFFSETTO:-0700
TZNAME:MST
DTSTART:20221106T080000
END:STANDARD
BEGIN:DAYLIGHT
TZOFFSETFROM:-0700
TZOFFSETTO:-0600
TZNAME:MDT
DTSTART:20230312T090000
END:DAYLIGHT
BEGIN:STANDARD
TZOFFSETFROM:-0600
TZOFFSETTO:-0700
TZNAME:MST
DTSTART:20231105T080000
END:STANDARD
BEGIN:DAYLIGHT
TZOFFSETFROM:-0700
TZOFFSETTO:-0600
TZNAME:MDT
DTSTART:20240310T090000
END:DAYLIGHT
BEGIN:STANDARD
TZOFFSETFROM:-0600
TZOFFSETTO:-0700
TZNAME:MST
DTSTART:20241103T080000
END:STANDARD
END:VTIMEZONE
BEGIN:VEVENT
DTSTART;VALUE=DATE:20231201
DTEND;VALUE=DATE:20231203
DTSTAMP:20260422T235603
CREATED:20231025T182852Z
LAST-MODIFIED:20231201T001058Z
UID:4099-1701388800-1701561599@turner.k12.mt.us
SUMMARY:Class C Showcase @ Glasgow
DESCRIPTION:12/1 vs. Nashua Girls at 9am\, boys at 10:30am \n12/2 vs Bainville\, Girls at 9am\, boys at 10:30am \nBus leaves Turner at 5:15am
URL:https://turner.k12.mt.us/event/class-c-showcase-glasgow/
END:VEVENT
BEGIN:VEVENT
DTSTART;TZID=America/Denver:20231129T124500
DTEND;TZID=America/Denver:20231129T131500
DTSTAMP:20260422T235603
CREATED:20231121T175846Z
LAST-MODIFIED:20231121T175846Z
UID:4179-1701261900-1701263700@turner.k12.mt.us
SUMMARY:NHS Induction Ceremony @ 12:45
DESCRIPTION:
URL:https://turner.k12.mt.us/event/nhs-induction-ceremony-1245/
END:VEVENT
BEGIN:VEVENT
DTSTART;VALUE=DATE:20231123
DTEND;VALUE=DATE:20231124
DTSTAMP:20260422T235603
CREATED:20230817T184738Z
LAST-MODIFIED:20230817T184738Z
UID:3878-1700697600-1700783999@turner.k12.mt.us
SUMMARY:No School - HAPPY THANKSGIVING
DESCRIPTION:
URL:https://turner.k12.mt.us/event/no-school-happy-thanksgiving-2/
END:VEVENT
BEGIN:VEVENT
DTSTART;TZID=America/Denver:20231122T123000
DTEND;TZID=America/Denver:20231122T123000
DTSTAMP:20260422T235603
CREATED:20230817T184712Z
LAST-MODIFIED:20230817T184712Z
UID:3876-1700656200-1700656200@turner.k12.mt.us
SUMMARY:School out at 12:30pm
DESCRIPTION:
URL:https://turner.k12.mt.us/event/school-out-at-1230pm/
END:VEVENT
BEGIN:VEVENT
DTSTART;VALUE=DATE:20231122
DTEND;VALUE=DATE:20231123
DTSTAMP:20260422T235603
CREATED:20230817T184615Z
LAST-MODIFIED:20230817T184615Z
UID:3874-1700611200-1700697599@turner.k12.mt.us
SUMMARY:Mid-Term of Quarter 2
DESCRIPTION:
URL:https://turner.k12.mt.us/event/mid-term-of-quarter-2/
END:VEVENT
BEGIN:VEVENT
DTSTART;VALUE=DATE:20231116
DTEND;VALUE=DATE:20231117
DTSTAMP:20260422T235603
CREATED:20231025T182705Z
LAST-MODIFIED:20231025T182705Z
UID:4097-1700092800-1700179199@turner.k12.mt.us
SUMMARY:Varsity Basketball Practice Starts
DESCRIPTION:
URL:https://turner.k12.mt.us/event/varsity-basketball-practice-starts/
END:VEVENT
BEGIN:VEVENT
DTSTART;VALUE=DATE:20231115
DTEND;VALUE=DATE:20231119
DTSTAMP:20260422T235603
CREATED:20231121T175752Z
LAST-MODIFIED:20231121T175752Z
UID:4177-1700006400-1700351999@turner.k12.mt.us
SUMMARY:FFA @ MT AG Expo
DESCRIPTION:
URL:https://turner.k12.mt.us/event/ffa-mt-ag-expo/
END:VEVENT
BEGIN:VEVENT
DTSTART;TZID=America/Denver:20231114T120000
DTEND;TZID=America/Denver:20231114T170000
DTSTAMP:20260422T235603
CREATED:20231025T200603Z
LAST-MODIFIED:20231025T200603Z
UID:4143-1699963200-1699981200@turner.k12.mt.us
SUMMARY:Blood Drive
DESCRIPTION:@ Turner Lutheran
URL:https://turner.k12.mt.us/event/blood-drive/
END:VEVENT
BEGIN:VEVENT
DTSTART;VALUE=DATE:20231111
DTEND;VALUE=DATE:20231112
DTSTAMP:20260422T235603
CREATED:20231025T174610Z
LAST-MODIFIED:20231025T174610Z
UID:4093-1699660800-1699747199@turner.k12.mt.us
SUMMARY:JHBB @ St. Jude's Jamboree
DESCRIPTION:Girls play St. Jude’s @ 12pm and Chinook @ 3pm\nBoys play St. Jude’s at 1:30pm and Chinook @ 4:30pm
URL:https://turner.k12.mt.us/event/jhbb-st-judes-jamboree/
END:VEVENT
BEGIN:VEVENT
DTSTART;VALUE=DATE:20231110
DTEND;VALUE=DATE:20231111
DTSTAMP:20260422T235603
CREATED:20231025T174504Z
LAST-MODIFIED:20231025T174504Z
UID:4091-1699574400-1699660799@turner.k12.mt.us
SUMMARY:JHBB @ Rudyard Jamboree
DESCRIPTION:Girls play Hays-Lodgepole @ 1:30pm and North Star @ 4:30pm\nBoys play Hays-Lodgepole @ 3:00pm and North Star @ 6pm
URL:https://turner.k12.mt.us/event/jhbb-rudyard-jamboree-2/
END:VEVENT
BEGIN:VEVENT
DTSTART;TZID=America/Denver:20231109T180000
DTEND;TZID=America/Denver:20231109T200000
DTSTAMP:20260422T235603
CREATED:20231025T174336Z
LAST-MODIFIED:20231025T174336Z
UID:4089-1699552800-1699560000@turner.k12.mt.us
SUMMARY:FFA Chili Cookoff
DESCRIPTION:
URL:https://turner.k12.mt.us/event/ffa-chili-cookoff/
END:VEVENT
BEGIN:VEVENT
DTSTART;TZID=America/Denver:20231109T150000
DTEND;TZID=America/Denver:20231109T180000
DTSTAMP:20260422T235603
CREATED:20231025T174259Z
LAST-MODIFIED:20231025T174259Z
UID:4087-1699542000-1699552800@turner.k12.mt.us
SUMMARY:JHBB @ Turner vs. North Star
DESCRIPTION:Girls @ 3pm\nBoys @ 4:30pm
URL:https://turner.k12.mt.us/event/jhbb-turner-vs-north-star/
END:VEVENT
BEGIN:VEVENT
DTSTART;VALUE=DATE:20231103
DTEND;VALUE=DATE:20231104
DTSTAMP:20260422T235603
CREATED:20231025T174208Z
LAST-MODIFIED:20231025T174208Z
UID:4085-1698969600-1699055999@turner.k12.mt.us
SUMMARY:JHBB Jamboree in Turner
DESCRIPTION:Girls play Chinook @ 10:30am\nBoys play Chinook @ 12pm \nGirls play Hays-Lodgepole @4:30pm\nBoys play Hays-Lodgepole @ 6pm
URL:https://turner.k12.mt.us/event/jhbb-jamboree-in-turner/
END:VEVENT
BEGIN:VEVENT
DTSTART;TZID=America/Denver:20231102T180000
DTEND;TZID=America/Denver:20231102T180000
DTSTAMP:20260422T235603
CREATED:20231025T200452Z
LAST-MODIFIED:20231025T200452Z
UID:4141-1698948000-1698948000@turner.k12.mt.us
SUMMARY:Thanks for the Harvest Dinner
DESCRIPTION:Hogeland Lutheran Church
URL:https://turner.k12.mt.us/event/thanks-for-the-harvest-dinner/
END:VEVENT
BEGIN:VEVENT
DTSTART;VALUE=DATE:20231102
DTEND;VALUE=DATE:20231105
DTSTAMP:20260422T235603
CREATED:20230817T184545Z
LAST-MODIFIED:20230817T184545Z
UID:3872-1698883200-1699142399@turner.k12.mt.us
SUMMARY:HS VB Divisional Tournament @ Malta
DESCRIPTION:
URL:https://turner.k12.mt.us/event/hs-vb-divisional-tournament-malta/
END:VEVENT
BEGIN:VEVENT
DTSTART;TZID=America/Denver:20231101T160000
DTEND;TZID=America/Denver:20231101T190000
DTSTAMP:20260422T235603
CREATED:20231025T182549Z
LAST-MODIFIED:20231025T182549Z
UID:4095-1698854400-1698865200@turner.k12.mt.us
SUMMARY:Parent/Teacher Conferences
DESCRIPTION:
URL:https://turner.k12.mt.us/event/parent-teacher-conferences/
END:VEVENT
BEGIN:VEVENT
DTSTART;TZID=America/Denver:20231029T080000
DTEND;TZID=America/Denver:20231029T120000
DTSTAMP:20260422T235603
CREATED:20231025T200353Z
LAST-MODIFIED:20231025T200353Z
UID:4139-1698566400-1698580800@turner.k12.mt.us
SUMMARY:Lion's Breakfast
DESCRIPTION:
URL:https://turner.k12.mt.us/event/lions-breakfast/
END:VEVENT
BEGIN:VEVENT
DTSTART;TZID=America/Denver:20231028T100000
DTEND;TZID=America/Denver:20231028T130000
DTSTAMP:20260422T235603
CREATED:20231025T171939Z
LAST-MODIFIED:20231025T172000Z
UID:4081-1698487200-1698498000@turner.k12.mt.us
SUMMARY:JH BB vs. St. Jude's
DESCRIPTION:Girls game at 10am\, boys at 11:30am
URL:https://turner.k12.mt.us/event/jh-bb-vs-st-judes/
END:VEVENT
BEGIN:VEVENT
DTSTART;VALUE=DATE:20231026
DTEND;VALUE=DATE:20231028
DTSTAMP:20260422T235603
CREATED:20230817T184510Z
LAST-MODIFIED:20231025T174014Z
UID:3870-1698278400-1698451199@turner.k12.mt.us
SUMMARY:HS VB District Tournament @ Glasgow
DESCRIPTION:Lady Cats play their first game at 7:30pm on Thursday the 26th.
URL:https://turner.k12.mt.us/event/hs-vb-district-tournament-glasgow/
END:VEVENT
BEGIN:VEVENT
DTSTART;VALUE=DATE:20231023
DTEND;VALUE=DATE:20231024
DTSTAMP:20260422T235603
CREATED:20230817T184425Z
LAST-MODIFIED:20230817T184425Z
UID:3868-1698019200-1698105599@turner.k12.mt.us
SUMMARY:Quarter 2 Begins
DESCRIPTION:
URL:https://turner.k12.mt.us/event/quarter-2-begins/
END:VEVENT
BEGIN:VEVENT
DTSTART;TZID=America/Denver:20231021T130000
DTEND;TZID=America/Denver:20231021T130000
DTSTAMP:20260422T235603
CREATED:20230817T183704Z
LAST-MODIFIED:20230817T183704Z
UID:3848-1697893200-1697893200@turner.k12.mt.us
SUMMARY:HS VB v. Poplar * Senior Night*
DESCRIPTION:
URL:https://turner.k12.mt.us/event/hs-vb-v-poplar-senior-night/
END:VEVENT
BEGIN:VEVENT
DTSTART;TZID=America/Denver:20231020T000000
DTEND;TZID=America/Denver:20231020T000000
DTSTAMP:20260422T235603
CREATED:20230817T183617Z
LAST-MODIFIED:20230817T183617Z
UID:3846-1697760000-1697760000@turner.k12.mt.us
SUMMARY:HS VB @ Conrad
DESCRIPTION:
URL:https://turner.k12.mt.us/event/hs-vb-conrad/
END:VEVENT
BEGIN:VEVENT
DTSTART;VALUE=DATE:20231019
DTEND;VALUE=DATE:20231020
DTSTAMP:20260422T235603
CREATED:20230817T184405Z
LAST-MODIFIED:20230817T184405Z
UID:3866-1697673600-1697759999@turner.k12.mt.us
SUMMARY:NO SCHOOL
DESCRIPTION:
URL:https://turner.k12.mt.us/event/no-school-3/
END:VEVENT
BEGIN:VEVENT
DTSTART;VALUE=DATE:20231018
DTEND;VALUE=DATE:20231019
DTSTAMP:20260422T235603
CREATED:20230817T184301Z
LAST-MODIFIED:20230817T184301Z
UID:3862-1697587200-1697673599@turner.k12.mt.us
SUMMARY:End of Quarter 1
DESCRIPTION:
URL:https://turner.k12.mt.us/event/end-of-quarter-1/
END:VEVENT
BEGIN:VEVENT
DTSTART;VALUE=DATE:20231017
DTEND;VALUE=DATE:20231025
DTSTAMP:20260422T235603
CREATED:20230817T184338Z
LAST-MODIFIED:20230912T160913Z
UID:3864-1697500800-1698191999@turner.k12.mt.us
SUMMARY:DC Club Trip
DESCRIPTION:
URL:https://turner.k12.mt.us/event/dc-club-trip/
END:VEVENT
BEGIN:VEVENT
DTSTART;TZID=America/Denver:20231016T161500
DTEND;TZID=America/Denver:20231016T161500
DTSTAMP:20260422T235603
CREATED:20230817T183524Z
LAST-MODIFIED:20230817T183524Z
UID:3844-1697472900-1697472900@turner.k12.mt.us
SUMMARY:HS VB @ Rocky Boy
DESCRIPTION:
URL:https://turner.k12.mt.us/event/hs-vb-rocky-boy/
END:VEVENT
BEGIN:VEVENT
DTSTART;TZID=America/Denver:20231016T000000
DTEND;TZID=America/Denver:20231016T000000
DTSTAMP:20260422T235603
CREATED:20230817T184105Z
LAST-MODIFIED:20230912T160815Z
UID:3860-1697414400-1697414400@turner.k12.mt.us
SUMMARY:JH Basketball Pictures
DESCRIPTION:
URL:https://turner.k12.mt.us/event/jh-basketball-pictures-and-school-re-takes/
END:VEVENT
BEGIN:VEVENT
DTSTART;VALUE=DATE:20231016
DTEND;VALUE=DATE:20231018
DTSTAMP:20260422T235603
CREATED:20230912T160435Z
LAST-MODIFIED:20230912T160435Z
UID:3939-1697414400-1697587199@turner.k12.mt.us
SUMMARY:FFA @ NILE in Billings
DESCRIPTION:
URL:https://turner.k12.mt.us/event/ffa-nile-in-billings/
END:VEVENT
BEGIN:VEVENT
DTSTART;TZID=America/Denver:20231014T130000
DTEND;TZID=America/Denver:20231014T130000
DTSTAMP:20260422T235603
CREATED:20230817T183439Z
LAST-MODIFIED:20230817T183439Z
UID:3842-1697288400-1697288400@turner.k12.mt.us
SUMMARY:HS VB @ Wolf Point
DESCRIPTION:
URL:https://turner.k12.mt.us/event/hs-vb-wolf-point/
END:VEVENT
BEGIN:VEVENT
DTSTART;TZID=America/Denver:20231012T163000
DTEND;TZID=America/Denver:20231012T163000
DTSTAMP:20260422T235603
CREATED:20230817T183358Z
LAST-MODIFIED:20230817T183358Z
UID:3840-1697128200-1697128200@turner.k12.mt.us
SUMMARY:HS VB v. Malta
DESCRIPTION:
URL:https://turner.k12.mt.us/event/hs-vb-v-malta/
END:VEVENT
END:VCALENDAR