BEGIN:VCALENDAR
VERSION:2.0
PRODID:-//Turner Public Schools - ECPv6.15.20//NONSGML v1.0//EN
CALSCALE:GREGORIAN
METHOD:PUBLISH
X-WR-CALNAME:Turner Public Schools
X-ORIGINAL-URL:https://turner.k12.mt.us
X-WR-CALDESC:Events for Turner Public Schools
REFRESH-INTERVAL;VALUE=DURATION:PT1H
X-Robots-Tag:noindex
X-PUBLISHED-TTL:PT1H
BEGIN:VTIMEZONE
TZID:America/Denver
BEGIN:DAYLIGHT
TZOFFSETFROM:-0700
TZOFFSETTO:-0600
TZNAME:MDT
DTSTART:20230312T090000
END:DAYLIGHT
BEGIN:STANDARD
TZOFFSETFROM:-0600
TZOFFSETTO:-0700
TZNAME:MST
DTSTART:20231105T080000
END:STANDARD
BEGIN:DAYLIGHT
TZOFFSETFROM:-0700
TZOFFSETTO:-0600
TZNAME:MDT
DTSTART:20240310T090000
END:DAYLIGHT
BEGIN:STANDARD
TZOFFSETFROM:-0600
TZOFFSETTO:-0700
TZNAME:MST
DTSTART:20241103T080000
END:STANDARD
BEGIN:DAYLIGHT
TZOFFSETFROM:-0700
TZOFFSETTO:-0600
TZNAME:MDT
DTSTART:20250309T090000
END:DAYLIGHT
BEGIN:STANDARD
TZOFFSETFROM:-0600
TZOFFSETTO:-0700
TZNAME:MST
DTSTART:20251102T080000
END:STANDARD
END:VTIMEZONE
BEGIN:VEVENT
DTSTART;VALUE=DATE:20240902
DTEND;VALUE=DATE:20240903
DTSTAMP:20260422T161759
CREATED:20240821T154308Z
LAST-MODIFIED:20240821T154308Z
UID:4507-1725235200-1725321599@turner.k12.mt.us
SUMMARY:Labor Day - No School
DESCRIPTION:
URL:https://turner.k12.mt.us/event/labor-day-no-school-3/
END:VEVENT
BEGIN:VEVENT
DTSTART;TZID=America/Denver:20240831T090000
DTEND;TZID=America/Denver:20240831T160000
DTSTAMP:20260422T161759
CREATED:20240821T154153Z
LAST-MODIFIED:20240821T154153Z
UID:4505-1725094800-1725120000@turner.k12.mt.us
SUMMARY:HS Volleyball @ Malta Invitational
DESCRIPTION:First game at 9am
URL:https://turner.k12.mt.us/event/hs-volleyball-malta-invitational/
END:VEVENT
BEGIN:VEVENT
DTSTART;VALUE=DATE:20240819
DTEND;VALUE=DATE:20240820
DTSTAMP:20260422T161759
CREATED:20240821T154033Z
LAST-MODIFIED:20240821T154033Z
UID:4503-1724025600-1724111999@turner.k12.mt.us
SUMMARY:First Day of School
DESCRIPTION:
URL:https://turner.k12.mt.us/event/first-day-of-school-4/
END:VEVENT
BEGIN:VEVENT
DTSTART;VALUE=DATE:20240529
DTEND;VALUE=DATE:20240530
DTSTAMP:20260422T161759
CREATED:20240415T164521Z
LAST-MODIFIED:20240415T164521Z
UID:4396-1716940800-1717027199@turner.k12.mt.us
SUMMARY:Drivers Ed Begins
DESCRIPTION:
URL:https://turner.k12.mt.us/event/drivers-ed-begins/
END:VEVENT
BEGIN:VEVENT
DTSTART;VALUE=DATE:20240524
DTEND;VALUE=DATE:20240526
DTSTAMP:20260422T161759
CREATED:20240409T224308Z
LAST-MODIFIED:20240409T224308Z
UID:4359-1716508800-1716681599@turner.k12.mt.us
SUMMARY:HS State Track Meet @ Great Falls
DESCRIPTION:
URL:https://turner.k12.mt.us/event/hs-state-track-meet-great-falls/
END:VEVENT
BEGIN:VEVENT
DTSTART;VALUE=DATE:20240523
DTEND;VALUE=DATE:20240524
DTSTAMP:20260422T161759
CREATED:20230817T185224Z
LAST-MODIFIED:20230817T185224Z
UID:3896-1716422400-1716508799@turner.k12.mt.us
SUMMARY:LAST DAY OF SCHOOL - End of Quarter 4/Semester 2
DESCRIPTION:Enjoy your summer!
URL:https://turner.k12.mt.us/event/last-day-of-school-end-of-quarter-4-semester-2/
END:VEVENT
BEGIN:VEVENT
DTSTART;TZID=America/Denver:20240520T150000
DTEND;TZID=America/Denver:20240520T160000
DTSTAMP:20260422T161759
CREATED:20240409T224728Z
LAST-MODIFIED:20240409T224839Z
UID:4373-1716217200-1716220800@turner.k12.mt.us
SUMMARY:Kindergarten Graduation
DESCRIPTION:
URL:https://turner.k12.mt.us/event/kindergarten-graduation/
END:VEVENT
BEGIN:VEVENT
DTSTART;TZID=America/Denver:20240518T140000
DTEND;TZID=America/Denver:20240518T140000
DTSTAMP:20260422T161759
CREATED:20230817T185321Z
LAST-MODIFIED:20231121T180714Z
UID:3898-1716040800-1716040800@turner.k12.mt.us
SUMMARY:2024 High School Graduation
DESCRIPTION:
URL:https://turner.k12.mt.us/event/2024-high-school-and-8th-graduation/
END:VEVENT
BEGIN:VEVENT
DTSTART;VALUE=DATE:20240516
DTEND;VALUE=DATE:20240518
DTSTAMP:20260422T161759
CREATED:20240409T224230Z
LAST-MODIFIED:20240409T224230Z
UID:4357-1715817600-1715990399@turner.k12.mt.us
SUMMARY:HS Northern C Divisional Meet @ Great Falls
DESCRIPTION:
URL:https://turner.k12.mt.us/event/hs-northern-c-divisional-meet-great-falls/
END:VEVENT
BEGIN:VEVENT
DTSTART;TZID=America/Denver:20240513T190000
DTEND;TZID=America/Denver:20240513T203000
DTSTAMP:20260422T161759
CREATED:20240415T164457Z
LAST-MODIFIED:20240415T164457Z
UID:4394-1715626800-1715632200@turner.k12.mt.us
SUMMARY:High School Awards Night
DESCRIPTION:
URL:https://turner.k12.mt.us/event/high-school-awards-night/
END:VEVENT
BEGIN:VEVENT
DTSTART;VALUE=DATE:20240511
DTEND;VALUE=DATE:20240512
DTSTAMP:20260422T161759
CREATED:20240409T224548Z
LAST-MODIFIED:20240409T224548Z
UID:4367-1715385600-1715471999@turner.k12.mt.us
SUMMARY:JH District 9C Meet @ Havre
DESCRIPTION:
URL:https://turner.k12.mt.us/event/jh-district-9c-meet-havre/
END:VEVENT
BEGIN:VEVENT
DTSTART;TZID=America/Denver:20240509T160000
DTEND;TZID=America/Denver:20240509T170000
DTSTAMP:20260422T161759
CREATED:20240415T164320Z
LAST-MODIFIED:20240415T164320Z
UID:4392-1715270400-1715274000@turner.k12.mt.us
SUMMARY:Mrs. Maloney's Retirement Reception
DESCRIPTION:
URL:https://turner.k12.mt.us/event/mrs-maloneys-retirement-reception/
END:VEVENT
BEGIN:VEVENT
DTSTART;TZID=America/Denver:20240508T100000
DTEND;TZID=America/Denver:20240508T170000
DTSTAMP:20260422T161759
CREATED:20240409T224147Z
LAST-MODIFIED:20240409T224147Z
UID:4355-1715162400-1715187600@turner.k12.mt.us
SUMMARY:HS District 9C Meet
DESCRIPTION:
URL:https://turner.k12.mt.us/event/hs-district-9c-meet/
END:VEVENT
BEGIN:VEVENT
DTSTART;VALUE=DATE:20240503
DTEND;VALUE=DATE:20240504
DTSTAMP:20260422T161759
CREATED:20240409T224445Z
LAST-MODIFIED:20240409T224445Z
UID:4365-1714694400-1714780799@turner.k12.mt.us
SUMMARY:JH North Star Meet
DESCRIPTION:
URL:https://turner.k12.mt.us/event/jh-north-star-meet/
END:VEVENT
BEGIN:VEVENT
DTSTART;TZID=America/Denver:20240430T150000
DTEND;TZID=America/Denver:20240430T170000
DTSTAMP:20260422T161759
CREATED:20240409T224120Z
LAST-MODIFIED:20240409T224120Z
UID:4353-1714489200-1714496400@turner.k12.mt.us
SUMMARY:Top 10 Glasgow
DESCRIPTION:
URL:https://turner.k12.mt.us/event/top-10-glasgow/
END:VEVENT
BEGIN:VEVENT
DTSTART;TZID=America/Denver:20240429T150000
DTEND;TZID=America/Denver:20240429T170000
DTSTAMP:20260422T161759
CREATED:20240409T223531Z
LAST-MODIFIED:20240409T223531Z
UID:4351-1714402800-1714410000@turner.k12.mt.us
SUMMARY:HS Jason Groseclose Meet @ Rudyard
DESCRIPTION:
URL:https://turner.k12.mt.us/event/hs-jason-groseclose-meet-rudyard/
END:VEVENT
BEGIN:VEVENT
DTSTART;VALUE=DATE:20240427
DTEND;VALUE=DATE:20240428
DTSTAMP:20260422T161759
CREATED:20240409T224408Z
LAST-MODIFIED:20240409T224408Z
UID:4363-1714176000-1714262399@turner.k12.mt.us
SUMMARY:JH Malta Invitational
DESCRIPTION:
URL:https://turner.k12.mt.us/event/jh-malta-invitational/
END:VEVENT
BEGIN:VEVENT
DTSTART;VALUE=DATE:20240427
DTEND;VALUE=DATE:20240428
DTSTAMP:20260422T161759
CREATED:20231121T180521Z
LAST-MODIFIED:20231121T180521Z
UID:4188-1714176000-1714262399@turner.k12.mt.us
SUMMARY:Turner Prom
DESCRIPTION:
URL:https://turner.k12.mt.us/event/turner-prom-3/
END:VEVENT
BEGIN:VEVENT
DTSTART;TZID=America/Denver:20240426T100000
DTEND;TZID=America/Denver:20240426T170000
DTSTAMP:20260422T161759
CREATED:20240409T212035Z
LAST-MODIFIED:20240409T212035Z
UID:4349-1714125600-1714150800@turner.k12.mt.us
SUMMARY:HS Whitewater Meet
DESCRIPTION:
URL:https://turner.k12.mt.us/event/hs-whitewater-meet/
END:VEVENT
BEGIN:VEVENT
DTSTART;VALUE=DATE:20240425
DTEND;VALUE=DATE:20240426
DTSTAMP:20260422T161759
CREATED:20240409T224656Z
LAST-MODIFIED:20240409T224656Z
UID:4371-1714003200-1714089599@turner.k12.mt.us
SUMMARY:Kindergarten Roundup
DESCRIPTION:
URL:https://turner.k12.mt.us/event/kindergarten-roundup-2/
END:VEVENT
BEGIN:VEVENT
DTSTART;VALUE=DATE:20240422
DTEND;VALUE=DATE:20240423
DTSTAMP:20260422T161759
CREATED:20240409T224633Z
LAST-MODIFIED:20240409T224633Z
UID:4369-1713744000-1713830399@turner.k12.mt.us
SUMMARY:Clean Up Day
DESCRIPTION:
URL:https://turner.k12.mt.us/event/clean-up-day-2/
END:VEVENT
BEGIN:VEVENT
DTSTART;TZID=America/Denver:20240420T100000
DTEND;TZID=America/Denver:20240420T170000
DTSTAMP:20260422T161759
CREATED:20240409T211534Z
LAST-MODIFIED:20240409T211534Z
UID:4347-1713607200-1713632400@turner.k12.mt.us
SUMMARY:HS Glasgow Meet
DESCRIPTION:
URL:https://turner.k12.mt.us/event/hs-glasgow-meet/
END:VEVENT
BEGIN:VEVENT
DTSTART;VALUE=DATE:20240420
DTEND;VALUE=DATE:20240421
DTSTAMP:20260422T161759
CREATED:20240409T224338Z
LAST-MODIFIED:20240409T224338Z
UID:4361-1713571200-1713657599@turner.k12.mt.us
SUMMARY:JH Havre Invitational
DESCRIPTION:
URL:https://turner.k12.mt.us/event/jh-havre-invitational/
END:VEVENT
BEGIN:VEVENT
DTSTART;TZID=America/Denver:20240419T100000
DTEND;TZID=America/Denver:20240419T150000
DTSTAMP:20260422T161759
CREATED:20240415T164223Z
LAST-MODIFIED:20240415T164223Z
UID:4390-1713520800-1713538800@turner.k12.mt.us
SUMMARY:Gymnastics Camp
DESCRIPTION:10-12\, break for lunch\, 1-3pm
URL:https://turner.k12.mt.us/event/gymnastics-camp/
END:VEVENT
BEGIN:VEVENT
DTSTART;VALUE=DATE:20240418
DTEND;VALUE=DATE:20240419
DTSTAMP:20260422T161759
CREATED:20230817T185143Z
LAST-MODIFIED:20230817T185143Z
UID:3894-1713398400-1713484799@turner.k12.mt.us
SUMMARY:Mid-Term Quarter 4
DESCRIPTION:
URL:https://turner.k12.mt.us/event/mid-term-quarter-4/
END:VEVENT
BEGIN:VEVENT
DTSTART;TZID=America/Denver:20240413T090000
DTEND;TZID=America/Denver:20240413T170000
DTSTAMP:20260422T161759
CREATED:20240409T211509Z
LAST-MODIFIED:20240409T211509Z
UID:4345-1712998800-1713027600@turner.k12.mt.us
SUMMARY:HS Havre Invitational Meet
DESCRIPTION:
URL:https://turner.k12.mt.us/event/hs-havre-invitational-meet/
END:VEVENT
BEGIN:VEVENT
DTSTART;TZID=America/Denver:20240410T090000
DTEND;TZID=America/Denver:20240410T170000
DTSTAMP:20260422T161759
CREATED:20240409T211349Z
LAST-MODIFIED:20240409T211349Z
UID:4343-1712739600-1712768400@turner.k12.mt.us
SUMMARY:Cal Wearley Meet @ Havre
DESCRIPTION:bus leaves at 6:20am
URL:https://turner.k12.mt.us/event/cal-wearley-meet-havre/
END:VEVENT
BEGIN:VEVENT
DTSTART;VALUE=DATE:20240409
DTEND;VALUE=DATE:20240410
DTSTAMP:20260422T161759
CREATED:20240306T173359Z
LAST-MODIFIED:20240306T173359Z
UID:4321-1712620800-1712707199@turner.k12.mt.us
SUMMARY:HS/JH Track pictures
DESCRIPTION:@ 4pm
URL:https://turner.k12.mt.us/event/hs-jh-track-pictures/
END:VEVENT
BEGIN:VEVENT
DTSTART;TZID=America/Denver:20240402T080000
DTEND;TZID=America/Denver:20240406T170000
DTSTAMP:20260422T161759
CREATED:20230912T160622Z
LAST-MODIFIED:20230912T160622Z
UID:3945-1712044800-1712422800@turner.k12.mt.us
SUMMARY:FFA @ State Convention in Billings
DESCRIPTION:
URL:https://turner.k12.mt.us/event/ffa-state-convention-in-billings/
END:VEVENT
BEGIN:VEVENT
DTSTART;VALUE=DATE:20240402
DTEND;VALUE=DATE:20240403
DTSTAMP:20260422T161759
CREATED:20240306T173428Z
LAST-MODIFIED:20240306T173428Z
UID:4323-1712016000-1712102399@turner.k12.mt.us
SUMMARY:JH Track Starts
DESCRIPTION:
URL:https://turner.k12.mt.us/event/jh-track-starts/
END:VEVENT
END:VCALENDAR