BEGIN:VCALENDAR
VERSION:2.0
PRODID:-//Turner Public Schools - ECPv6.15.20//NONSGML v1.0//EN
CALSCALE:GREGORIAN
METHOD:PUBLISH
X-WR-CALNAME:Turner Public Schools
X-ORIGINAL-URL:https://turner.k12.mt.us
X-WR-CALDESC:Events for Turner Public Schools
REFRESH-INTERVAL;VALUE=DURATION:PT1H
X-Robots-Tag:noindex
X-PUBLISHED-TTL:PT1H
BEGIN:VTIMEZONE
TZID:America/Denver
BEGIN:DAYLIGHT
TZOFFSETFROM:-0700
TZOFFSETTO:-0600
TZNAME:MDT
DTSTART:20230312T090000
END:DAYLIGHT
BEGIN:STANDARD
TZOFFSETFROM:-0600
TZOFFSETTO:-0700
TZNAME:MST
DTSTART:20231105T080000
END:STANDARD
BEGIN:DAYLIGHT
TZOFFSETFROM:-0700
TZOFFSETTO:-0600
TZNAME:MDT
DTSTART:20240310T090000
END:DAYLIGHT
BEGIN:STANDARD
TZOFFSETFROM:-0600
TZOFFSETTO:-0700
TZNAME:MST
DTSTART:20241103T080000
END:STANDARD
BEGIN:DAYLIGHT
TZOFFSETFROM:-0700
TZOFFSETTO:-0600
TZNAME:MDT
DTSTART:20250309T090000
END:DAYLIGHT
BEGIN:STANDARD
TZOFFSETFROM:-0600
TZOFFSETTO:-0700
TZNAME:MST
DTSTART:20251102T080000
END:STANDARD
END:VTIMEZONE
BEGIN:VEVENT
DTSTART;TZID=America/Denver:20241014T163000
DTEND;TZID=America/Denver:20241014T190000
DTSTAMP:20260422T162325
CREATED:20240821T155802Z
LAST-MODIFIED:20240821T155802Z
UID:4547-1728923400-1728932400@turner.k12.mt.us
SUMMARY:HS VB v. Rocky Boy
DESCRIPTION:C/JV/V – starts at 4:30pm
URL:https://turner.k12.mt.us/event/hs-vb-v-rocky-boy-2/
END:VEVENT
BEGIN:VEVENT
DTSTART;VALUE=DATE:20241014
DTEND;VALUE=DATE:20241015
DTSTAMP:20260422T162325
CREATED:20240821T155721Z
LAST-MODIFIED:20240821T155721Z
UID:4545-1728864000-1728950399@turner.k12.mt.us
SUMMARY:Junior High Basketball Practice starts
DESCRIPTION:
URL:https://turner.k12.mt.us/event/junior-high-basketball-practice-starts/
END:VEVENT
BEGIN:VEVENT
DTSTART;TZID=America/Denver:20241012T130000
DTEND;TZID=America/Denver:20241012T163000
DTSTAMP:20260422T162325
CREATED:20240821T155652Z
LAST-MODIFIED:20240821T155652Z
UID:4543-1728738000-1728750600@turner.k12.mt.us
SUMMARY:HS VB @ Wolf Point
DESCRIPTION:C/JV/V – starts at 1pm
URL:https://turner.k12.mt.us/event/hs-vb-wolf-point-2/
END:VEVENT
BEGIN:VEVENT
DTSTART;TZID=America/Denver:20241010T163000
DTEND;TZID=America/Denver:20241010T200000
DTSTAMP:20260422T162325
CREATED:20240821T155544Z
LAST-MODIFIED:20240821T155544Z
UID:4539-1728577800-1728590400@turner.k12.mt.us
SUMMARY:HS VB @ Glasgow
DESCRIPTION:C/JV/V – starts at 4:30
URL:https://turner.k12.mt.us/event/hs-vb-glasgow-3/
END:VEVENT
BEGIN:VEVENT
DTSTART;VALUE=DATE:20241010
DTEND;VALUE=DATE:20241011
DTSTAMP:20260422T162325
CREATED:20240821T155621Z
LAST-MODIFIED:20240821T155621Z
UID:4541-1728518400-1728604799@turner.k12.mt.us
SUMMARY:MSU- Northern TekNoXpo
DESCRIPTION:
URL:https://turner.k12.mt.us/event/msu-northern-teknoxpo-2/
END:VEVENT
BEGIN:VEVENT
DTSTART;TZID=America/Denver:20241009T160000
DTEND;TZID=America/Denver:20241009T190000
DTSTAMP:20260422T162325
CREATED:20240911T210537Z
LAST-MODIFIED:20240911T210537Z
UID:4661-1728489600-1728500400@turner.k12.mt.us
SUMMARY:Parent Teacher Conferences
DESCRIPTION:
URL:https://turner.k12.mt.us/event/parent-teacher-conferences-2/
END:VEVENT
BEGIN:VEVENT
DTSTART;TZID=America/Denver:20241008T163000
DTEND;TZID=America/Denver:20241008T200000
DTSTAMP:20260422T162325
CREATED:20240821T155451Z
LAST-MODIFIED:20240821T155451Z
UID:4537-1728405000-1728417600@turner.k12.mt.us
SUMMARY:HS VB v. Conrad
DESCRIPTION:C/JV/V – starts at 4:30pm
URL:https://turner.k12.mt.us/event/hs-vb-v-conrad-2/
END:VEVENT
BEGIN:VEVENT
DTSTART;VALUE=DATE:20241004
DTEND;VALUE=DATE:20241005
DTSTAMP:20260422T162325
CREATED:20240911T210456Z
LAST-MODIFIED:20240911T210456Z
UID:4659-1728000000-1728086399@turner.k12.mt.us
SUMMARY:JH Carnival & Homecoming
DESCRIPTION:Parade @ 11am\, Carnival 11:30-1:30\, Coronation at 2pm
URL:https://turner.k12.mt.us/event/jh-carnival-homecoming/
END:VEVENT
BEGIN:VEVENT
DTSTART;TZID=America/Denver:20241003T163000
DTEND;TZID=America/Denver:20241003T163000
DTSTAMP:20260422T162325
CREATED:20240821T155349Z
LAST-MODIFIED:20240821T155349Z
UID:4535-1727973000-1727973000@turner.k12.mt.us
SUMMARY:HS VB @ North Country
DESCRIPTION:C/JV/V – starts at 4:30
URL:https://turner.k12.mt.us/event/hs-vb-north-country/
END:VEVENT
BEGIN:VEVENT
DTSTART;VALUE=DATE:20241001
DTEND;VALUE=DATE:20241002
DTSTAMP:20260422T162325
CREATED:20240911T211253Z
LAST-MODIFIED:20240911T211253Z
UID:4669-1727740800-1727827199@turner.k12.mt.us
SUMMARY:FFA Fall Districts @ Chinook
DESCRIPTION:
URL:https://turner.k12.mt.us/event/ffa-fall-districts-chinook/
END:VEVENT
BEGIN:VEVENT
DTSTART;TZID=America/Denver:20240928T130000
DTEND;TZID=America/Denver:20240928T163000
DTSTAMP:20260422T162325
CREATED:20240821T155257Z
LAST-MODIFIED:20240821T155257Z
UID:4533-1727528400-1727541000@turner.k12.mt.us
SUMMARY:HS VB v. Fairview
DESCRIPTION:JV/V – starts at 1pm in Harlem
URL:https://turner.k12.mt.us/event/hs-vb-v-fairview-2/
END:VEVENT
BEGIN:VEVENT
DTSTART;TZID=America/Denver:20240927T163000
DTEND;TZID=America/Denver:20240927T180000
DTSTAMP:20260422T162325
CREATED:20240911T211211Z
LAST-MODIFIED:20240911T211211Z
UID:4667-1727454600-1727460000@turner.k12.mt.us
SUMMARY:Paint the Streets
DESCRIPTION:
URL:https://turner.k12.mt.us/event/paint-the-streets/
END:VEVENT
BEGIN:VEVENT
DTSTART;TZID=America/Denver:20240926T120000
DTEND;TZID=America/Denver:20240926T143000
DTSTAMP:20260422T162325
CREATED:20240911T211106Z
LAST-MODIFIED:20240911T211106Z
UID:4665-1727352000-1727361000@turner.k12.mt.us
SUMMARY:Hays Pow-Wow
DESCRIPTION:All K-12 will attend the Pow-Wow From 12-2:30pm in Hays Mission Canyon
URL:https://turner.k12.mt.us/event/hays-pow-wow/
END:VEVENT
BEGIN:VEVENT
DTSTART;TZID=America/Denver:20240923T161500
DTEND;TZID=America/Denver:20240923T190000
DTSTAMP:20260422T162325
CREATED:20240821T155105Z
LAST-MODIFIED:20240821T155105Z
UID:4529-1727108100-1727118000@turner.k12.mt.us
SUMMARY:HS VB @ Rocky Boy
DESCRIPTION:C/JV/V – starts at 4:15
URL:https://turner.k12.mt.us/event/hs-vb-rocky-boy-2/
END:VEVENT
BEGIN:VEVENT
DTSTART;TZID=America/Denver:20240923T093000
DTEND;TZID=America/Denver:20240923T093000
DTSTAMP:20260422T162325
CREATED:20240821T155215Z
LAST-MODIFIED:20240821T155215Z
UID:4531-1727083800-1727083800@turner.k12.mt.us
SUMMARY:Northeastern Arts Network Performance
DESCRIPTION:In Dodson\, 9:30am. \nMT Repertory Theater’s production of Monster + Farmer
URL:https://turner.k12.mt.us/event/northeastern-arts-network-performance/
END:VEVENT
BEGIN:VEVENT
DTSTART;TZID=America/Denver:20240921T130000
DTEND;TZID=America/Denver:20240921T163000
DTSTAMP:20260422T162325
CREATED:20240821T154916Z
LAST-MODIFIED:20240821T154916Z
UID:4523-1726923600-1726936200@turner.k12.mt.us
SUMMARY:HS VB @ Conrad
DESCRIPTION:C/JV/V – starts at 1pm
URL:https://turner.k12.mt.us/event/hs-vb-conrad-2/
END:VEVENT
BEGIN:VEVENT
DTSTART;TZID=America/Denver:20240920T070000
DTEND;TZID=America/Denver:20240920T203000
DTSTAMP:20260422T162325
CREATED:20240821T155005Z
LAST-MODIFIED:20240821T155005Z
UID:4527-1726815600-1726864200@turner.k12.mt.us
SUMMARY:School Board Meeting
DESCRIPTION:
URL:https://turner.k12.mt.us/event/school-board-meeting-3/
END:VEVENT
BEGIN:VEVENT
DTSTART;VALUE=DATE:20240919
DTEND;VALUE=DATE:20240920
DTSTAMP:20260422T162325
CREATED:20240821T155943Z
LAST-MODIFIED:20240821T155943Z
UID:4553-1726704000-1726790399@turner.k12.mt.us
SUMMARY:Q1 Mid-term
DESCRIPTION:
URL:https://turner.k12.mt.us/event/q1-mid-term/
END:VEVENT
BEGIN:VEVENT
DTSTART;VALUE=DATE:20240916
DTEND;VALUE=DATE:20240917
DTSTAMP:20260422T162325
CREATED:20240821T154937Z
LAST-MODIFIED:20240821T154937Z
UID:4525-1726444800-1726531199@turner.k12.mt.us
SUMMARY:School pictures
DESCRIPTION:
URL:https://turner.k12.mt.us/event/school-pictures-3/
END:VEVENT
BEGIN:VEVENT
DTSTART;VALUE=DATE:20240915
DTEND;VALUE=DATE:20240916
DTSTAMP:20260422T162325
CREATED:20240911T210747Z
LAST-MODIFIED:20240911T210747Z
UID:4663-1726358400-1726444799@turner.k12.mt.us
SUMMARY:FFA Carwash
DESCRIPTION:
URL:https://turner.k12.mt.us/event/ffa-carwash/
END:VEVENT
BEGIN:VEVENT
DTSTART;TZID=America/Denver:20240914T130000
DTEND;TZID=America/Denver:20240914T163000
DTSTAMP:20260422T162325
CREATED:20240821T154843Z
LAST-MODIFIED:20240821T154843Z
UID:4521-1726318800-1726331400@turner.k12.mt.us
SUMMARY:HS VB @ Malta
DESCRIPTION:C/JV/V – starts at 1pm
URL:https://turner.k12.mt.us/event/hs-vb-malta-2/
END:VEVENT
BEGIN:VEVENT
DTSTART;TZID=America/Denver:20240913T130000
DTEND;TZID=America/Denver:20240913T163000
DTSTAMP:20260422T162325
CREATED:20240821T154801Z
LAST-MODIFIED:20240821T154801Z
UID:4519-1726232400-1726245000@turner.k12.mt.us
SUMMARY:HS VB v. Glasgow
DESCRIPTION:C/JV/V – starts at 1pm in Harlem
URL:https://turner.k12.mt.us/event/hs-vb-v-glasgow/
END:VEVENT
BEGIN:VEVENT
DTSTART;TZID=America/Denver:20240912T160000
DTEND;TZID=America/Denver:20240912T193000
DTSTAMP:20260422T162325
CREATED:20240821T154723Z
LAST-MODIFIED:20240821T154723Z
UID:4517-1726156800-1726169400@turner.k12.mt.us
SUMMARY:HS VB v. North Country
DESCRIPTION:starts @ 4pm in Harlem; C/JV/V
URL:https://turner.k12.mt.us/event/hs-vb-v-north-country-2/
END:VEVENT
BEGIN:VEVENT
DTSTART;TZID=America/Denver:20240909T123000
DTEND;TZID=America/Denver:20240909T133000
DTSTAMP:20260422T162325
CREATED:20240821T154624Z
LAST-MODIFIED:20240821T154624Z
UID:4515-1725885000-1725888600@turner.k12.mt.us
SUMMARY:MSU-Northern College Fair
DESCRIPTION:starts at 12:30 in Havre
URL:https://turner.k12.mt.us/event/msu-northern-college-fair/
END:VEVENT
BEGIN:VEVENT
DTSTART;TZID=America/Denver:20240907T130000
DTEND;TZID=America/Denver:20240907T163000
DTSTAMP:20260422T162325
CREATED:20240821T154537Z
LAST-MODIFIED:20240821T154537Z
UID:4513-1725714000-1725726600@turner.k12.mt.us
SUMMARY:HS VB @ Fairview
DESCRIPTION:JV/V – Starts at 1pm
URL:https://turner.k12.mt.us/event/hs-vb-fairview-2/
END:VEVENT
BEGIN:VEVENT
DTSTART;TZID=America/Denver:20240906T150000
DTEND;TZID=America/Denver:20240906T183000
DTSTAMP:20260422T162325
CREATED:20240821T154502Z
LAST-MODIFIED:20240821T154502Z
UID:4511-1725634800-1725647400@turner.k12.mt.us
SUMMARY:HS VB @ Poplar
DESCRIPTION:C/JV/V – starts at 3pm
URL:https://turner.k12.mt.us/event/hs-vb-poplar-2/
END:VEVENT
BEGIN:VEVENT
DTSTART;VALUE=DATE:20240906
DTEND;VALUE=DATE:20240907
DTSTAMP:20260422T162325
CREATED:20240821T160031Z
LAST-MODIFIED:20240821T160031Z
UID:4557-1725580800-1725667199@turner.k12.mt.us
SUMMARY:Friday School Day
DESCRIPTION:
URL:https://turner.k12.mt.us/event/friday-school-day/
END:VEVENT
BEGIN:VEVENT
DTSTART;TZID=America/Denver:20240905T160000
DTEND;TZID=America/Denver:20240905T193000
DTSTAMP:20260422T162325
CREATED:20240821T154407Z
LAST-MODIFIED:20240821T154407Z
UID:4509-1725552000-1725564600@turner.k12.mt.us
SUMMARY:HS VB v. Wolf Point
DESCRIPTION:C/JV/V – starts at 4pm in Harlem
URL:https://turner.k12.mt.us/event/hs-vb-v-wolf-point-2/
END:VEVENT
BEGIN:VEVENT
DTSTART;VALUE=DATE:20240902
DTEND;VALUE=DATE:20240903
DTSTAMP:20260422T162325
CREATED:20240821T154308Z
LAST-MODIFIED:20240821T154308Z
UID:4507-1725235200-1725321599@turner.k12.mt.us
SUMMARY:Labor Day - No School
DESCRIPTION:
URL:https://turner.k12.mt.us/event/labor-day-no-school-3/
END:VEVENT
BEGIN:VEVENT
DTSTART;TZID=America/Denver:20240831T090000
DTEND;TZID=America/Denver:20240831T160000
DTSTAMP:20260422T162325
CREATED:20240821T154153Z
LAST-MODIFIED:20240821T154153Z
UID:4505-1725094800-1725120000@turner.k12.mt.us
SUMMARY:HS Volleyball @ Malta Invitational
DESCRIPTION:First game at 9am
URL:https://turner.k12.mt.us/event/hs-volleyball-malta-invitational/
END:VEVENT
END:VCALENDAR