BEGIN:VCALENDAR
VERSION:2.0
PRODID:-//Turner Public Schools - ECPv6.15.20//NONSGML v1.0//EN
CALSCALE:GREGORIAN
METHOD:PUBLISH
X-ORIGINAL-URL:https://turner.k12.mt.us
X-WR-CALDESC:Events for Turner Public Schools
REFRESH-INTERVAL;VALUE=DURATION:PT1H
X-Robots-Tag:noindex
X-PUBLISHED-TTL:PT1H
BEGIN:VTIMEZONE
TZID:America/Denver
BEGIN:DAYLIGHT
TZOFFSETFROM:-0700
TZOFFSETTO:-0600
TZNAME:MDT
DTSTART:20250309T090000
END:DAYLIGHT
BEGIN:STANDARD
TZOFFSETFROM:-0600
TZOFFSETTO:-0700
TZNAME:MST
DTSTART:20251102T080000
END:STANDARD
BEGIN:DAYLIGHT
TZOFFSETFROM:-0700
TZOFFSETTO:-0600
TZNAME:MDT
DTSTART:20260308T090000
END:DAYLIGHT
BEGIN:STANDARD
TZOFFSETFROM:-0600
TZOFFSETTO:-0700
TZNAME:MST
DTSTART:20261101T080000
END:STANDARD
BEGIN:DAYLIGHT
TZOFFSETFROM:-0700
TZOFFSETTO:-0600
TZNAME:MDT
DTSTART:20270314T090000
END:DAYLIGHT
BEGIN:STANDARD
TZOFFSETFROM:-0600
TZOFFSETTO:-0700
TZNAME:MST
DTSTART:20271107T080000
END:STANDARD
END:VTIMEZONE
BEGIN:VEVENT
DTSTART;VALUE=DATE:20260205
DTEND;VALUE=DATE:20260206
DTSTAMP:20260421T080934
CREATED:20250826T185839Z
LAST-MODIFIED:20250826T185839Z
UID:5717-1770249600-1770335999@turner.k12.mt.us
SUMMARY:mid-term Q3
DESCRIPTION:
URL:https://turner.k12.mt.us/event/mid-term-q3-2/
END:VEVENT
BEGIN:VEVENT
DTSTART;TZID=America/Denver:20260205T100000
DTEND;TZID=America/Denver:20260205T110000
DTSTAMP:20260421T080934
CREATED:20260129T192450Z
LAST-MODIFIED:20260129T192450Z
UID:6021-1770285600-1770289200@turner.k12.mt.us
SUMMARY:County Spelling Bee
DESCRIPTION:
URL:https://turner.k12.mt.us/event/county-spelling-bee/
END:VEVENT
BEGIN:VEVENT
DTSTART;TZID=America/Denver:20260205T173000
DTEND;TZID=America/Denver:20260205T203000
DTSTAMP:20260421T080934
CREATED:20260129T192720Z
LAST-MODIFIED:20260129T192720Z
UID:6025-1770312600-1770323400@turner.k12.mt.us
SUMMARY:HSBB @ Malta
DESCRIPTION:
URL:https://turner.k12.mt.us/event/hsbb-malta/
END:VEVENT
END:VCALENDAR